Workbook
Name jahrgangausw: _xlfn.IFS(#REF!="SGW 1",RAW!#REF!,#REF!="SGW 2",RAW!#REF!)

Sheet Erklärung
B2: =RAW!B3 -> 34. Kinder- und Schülergruppenturniade
B3: =RAW!B6 -> vom 13. bis 15. November 2026 beim TSV Nord Harrislee
B5: =RAW!B9 -> Meldeschluss: 23. Oktober 2026
B7: Liebe TGW-Vereinsverantwortliche,
B9: bitte tragt in die Tabellenblätter Hauptmeldebogen, Karimeldebogen, Manschaftsmeldebogen, weitere Anmeldungen, weitere Angaben, T-Shirts und Essen eure Daten ein.
B12: Hauptmeldebogen
B14: Hier sind Formeln hinterlegt. Ihr braucht also nur die Anzahl der Gruppen und Kampfrichter einzutragen, die ihr meldet.
B17: Setzt die Zelle Fotoerlaubnis auf "ja oder "nein", um der folgenden Erklärung zuzustimmen oder diese abzulehnen. Im Rahmen der Veranstaltungen werden Fotos und Videos von der Presse zur Berichterstattung in Print- und Onlinemedien gemacht, ebenso wie zur Veröffentlichung in Print- und Onlinemedien des SHTV und der TuJuSH. Die beigefügten Informationen zum Datenschutz haben die Teilnehmer bzw. deren Sorgeberechtigte erhalten und zur Kenntnis genommen.
B24: Jeder Verein muss bei der Wettkampfmeldung versichern, dass seine Betreuenden, Trainer und Kampfrichter den Ehrenkodex und die Verhaltensregeln (beides nicht älter als vier Jahre) unterzeichnet haben. Des Weiteren muss dem Verein von den Personen, die in der Gemeinschaftsunterkunft übernachten, ein erweitertes Führungszeugnis vorliegen (nicht älter als vier Jahre).
B31: Karimeldebogen
B33: Bitte fügt hier die Daten eurer Kampfrichter ein, die ihr für diesen Wettkampf melden möchtet. Euer Vereinsname erscheint an dieser Stelle automatisch sowie die Anzahl eurer Mannschaften und benötigten Kampfrichter.
B37: T-Shirts
B39: Jede angemeldete Person bekommt ein T-Shirt. Bitte tragt hier die benötigte Anzahl ein!
B43: Mannschaftsmeldebogen KiSGruTu
B45: Bitte tragt zuerst alle Mannschaften in die obere Tabelle mit der jeweiligen Wettkampfklasse und Disziplinen ein. Danach füllt für jede Mannschaft die entsprechende Tabelle aus und achtet auf die korrekte Angabe der Geburtsjahrgänge. Die Wettkampfklassen erscheinen rot hinterlegt, solange nicht die nötige Anzahl an Disziplinen ausgewählt ist.
... B58: Viele Grüße euer AK TGM/TGW/SGW Schleswig-Holstein

Sheet Hauptmeldebogen_KiSGruTu
B2: =RAW!B3 -> 34. Kinder- und Schülergruppenturniade
B3: =RAW!B6 -> vom 13. bis 15. November 2026 beim TSV Nord Harrislee
B5: =RAW!B9 -> Meldeschluss: 23. Oktober 2026
B7: Verein
B8: wird so auf der Urkunde verwendet
B10: Nachname | E10: 1 - 2 Gruppen = 1 Kampfrichter
B11: Vorname | E11: 3 - 4 Gruppen = 2 Kampfrichter
B12: E-Mail | E12: 5 - 6 Gruppen = 3 Kampfrichter
B13: Telefonnummer | E13: > 7 Gruppen = 4 Kampfrichter
B15: Anzahl Mannschaften
B16: Anzahl benötigte Kampfrichter | C16: =IF(C15<1,0,IF(AND(C15>0,C15<3),1,IF(AND(C15>2,C15<5),2,IF(AND(C15>4,C15<7),3,4)))) -> 0
B18: Anzahl gemeldete Kampfrichter | E18: Gebühr pro fehlendem Kampfrichter | F18: =RAW!B18 -> 100
B19: Anzahl fehlende Kampfrichter | C19: =IF(C16-C18<0,0,C16-C18) -> 0
B21: Anzahl Kinder | E21: Gebühr pro Kind (Teilnehmer/in, Ersatzperson, Gast) | F21: =RAW!B33 -> 45
B23: Anzahl Erwachsene | E23: Gebühr pro Erwachsener (Trainer/in, Betreuer/in, Kari) | F23: =RAW!B36 -> 30
B25: Fotoerlaubnis
B27: Ehrenkodex* | E27: *Ich versichere, dass dem Verein von allen anwesenden Betreuenden, Trainern und Kampfrichtern ein unterschriebener Ehrenkodex und die Verhaltensregeln (beides nicht älter als vier Jahre) vorliegt. Von den Personen, die in der Gemeinschaftsunterkunft übernachten, liegt ein aktuelles erweitertes Führungszeugnis vor.
B29: Überweisungsbetrag | C29: =SUM((C19*F18),(C21*F21),(C23*F23)) -> 0
B31: ="Die ermittelten Kosten sind fristgerecht bis zum "&TEXT(RAW!B39,"t. MMM. Jjjj ") &TEXT(RAW!B40,"") -> Die ermittelten Kosten sind fristgerecht bis zum 30. Okt. 2026 auf das folgende Konto zu überweisen:
B34: =TEXT(RAW!B43,"")&TEXT(RAW!B44,"") -> SHTV Turnerjugend VR Bank zwischen den Meeren
B35: =TEXT(RAW!B45,"")&TEXT(RAW!B46,"") -> IBAN: DE76 2139 0008 0002527510, BIC: GENODEF1NSH
B36: =TEXT(RAW!B47,"") &TEXT(C7,"") -> Verwendungszweck: Kisgrutu 2026 +
B38: Anmeldung verpflichtet zur Zahlung!

Sheet Karimeldebogen
D2: Verein | E2: =Hauptmeldebogen_KiSGruTu!C7 -> 0
D3: Anzahl Mannschaften | E3: =IF(Hauptmeldebogen_KiSGruTu!C15>0,Hauptmeldebogen_KiSGruTu!C15,0) -> 0
D4: Benötigte Kampfrichter | E4: =IF(Hauptmeldebogen_KiSGruTu!C16>0,Hauptmeldebogen_KiSGruTu!C16,0) -> 0
B6: Daten Kampfrichter
B8: Nachname | C8: Vorname | D8: Disziplin | E8: E-Mail | F8: Lizenz | G8: Anmerkungen

Sheet Mannschaftsmeldebogen_KiSGruTu
B2: Verein | D2: Es wurden zu wenige oder zu viele Disziplinen ausgewählt.
B3: =IF(Hauptmeldebogen_KiSGruTu!C7<>"",Hauptmeldebogen_KiSGruTu!C7,"") | D3: Je nach WK-Klasse ältere/jüngere Teilnehmer als der Durchschnitt.
D4: Diese Disziplinen müssen für die WK-Klasse ausgewählt werden (nur Starters).
B5: Daten Mannschaft
B7: Mannschaft | C7: Klasse | D7: Tu | E7: Si | F7: Ta | G7: Gym | H7: PSt | I7: Wurf | J7: Benötigte Geräte Turnen
L8: =SUM(msk[[#This Row],[Tu]:[Wurf]]) -> 0 | M8: =VLOOKUP(msk[[#This Row],[Klasse]],RAW!$D$11:$E$14,2) -> #N/A | N8: =VLOOKUP(msk[[#This Row],[Klasse]],RAW!$D$25:$E$28,2,0) -> #N/A
L9: =SUM(msk[[#This Row],[Tu]:[Wurf]]) -> 0 | M9: =VLOOKUP(msk[[#This Row],[Klasse]],RAW!$D$11:$E$14,2) -> #N/A | N9: =VLOOKUP(msk[[#This Row],[Klasse]],RAW!$D$25:$E$28,2,0) -> #N/A
L10: =SUM(msk[[#This Row],[Tu]:[Wurf]]) -> 0 | M10: =VLOOKUP(msk[[#This Row],[Klasse]],RAW!$D$11:$E$14,2) -> #N/A | N10: =VLOOKUP(msk[[#This Row],[Klasse]],RAW!$D$25:$E$28,2,0) -> #N/A
L11: =SUM(msk[[#This Row],[Tu]:[Wurf]]) -> 0 | M11: =VLOOKUP(msk[[#This Row],[Klasse]],RAW!$D$11:$E$14,2) -> #N/A | N11: =VLOOKUP(msk[[#This Row],[Klasse]],RAW!$D$25:$E$28,2,0) -> #N/A
L12: =SUM(msk[[#This Row],[Tu]:[Wurf]]) -> 0 | M12: =VLOOKUP(msk[[#This Row],[Klasse]],RAW!$D$11:$E$14,2) -> #N/A | N12: =VLOOKUP(msk[[#This Row],[Klasse]],RAW!$D$25:$E$28,2,0) -> #N/A
L13: =SUM(msk[[#This Row],[Tu]:[Wurf]]) -> 0 | M13: =VLOOKUP(msk[[#This Row],[Klasse]],RAW!$D$11:$E$14,2) -> #N/A | N13: =VLOOKUP(msk[[#This Row],[Klasse]],RAW!$D$25:$E$28,2,0) -> #N/A
L14: =SUM(msk[[#This Row],[Tu]:[Wurf]]) -> 0 | M14: =VLOOKUP(msk[[#This Row],[Klasse]],RAW!$D$11:$E$14,2) -> #N/A | N14: =VLOOKUP(msk[[#This Row],[Klasse]],RAW!$D$25:$E$28,2,0) -> #N/A
L15: =SUM(msk[[#This Row],[Tu]:[Wurf]]) -> 0 | M15: =VLOOKUP(msk[[#This Row],[Klasse]],RAW!$D$11:$E$14,2) -> #N/A | N15: =VLOOKUP(msk[[#This Row],[Klasse]],RAW!$D$25:$E$28,2,0) -> #N/A
L16: =SUM(msk[[#This Row],[Tu]:[Wurf]]) -> 0 | M16: =VLOOKUP(msk[[#This Row],[Klasse]],RAW!$D$11:$E$14,2) -> #N/A | N16: =VLOOKUP(msk[[#This Row],[Klasse]],RAW!$D$25:$E$28,2,0) -> #N/A
L17: =SUM(msk[[#This Row],[Tu]:[Wurf]]) -> 0 | M17: =VLOOKUP(msk[[#This Row],[Klasse]],RAW!$D$11:$E$14,2) -> #N/A | N17: =VLOOKUP(msk[[#This Row],[Klasse]],RAW!$D$25:$E$28,2,0) -> #N/A
L18: =SUM(msk[[#This Row],[Tu]:[Wurf]]) -> 0 | M18: =VLOOKUP(msk[[#This Row],[Klasse]],RAW!$D$11:$E$14,2) -> #N/A | N18: =VLOOKUP(msk[[#This Row],[Klasse]],RAW!$D$25:$E$28,2,0) -> #N/A
L19: =SUM(msk[[#This Row],[Tu]:[Wurf]]) -> 0 | M19: =VLOOKUP(msk[[#This Row],[Klasse]],RAW!$D$11:$E$14,2) -> #N/A | N19: =VLOOKUP(msk[[#This Row],[Klasse]],RAW!$D$25:$E$28,2,0) -> #N/A
L20: =SUM(msk[[#This Row],[Tu]:[Wurf]]) -> 0 | M20: =VLOOKUP(msk[[#This Row],[Klasse]],RAW!$D$11:$E$14,2) -> #N/A | N20: =VLOOKUP(msk[[#This Row],[Klasse]],RAW!$D$25:$E$28,2,0) -> #N/A
B23: =IF(B8<>"",B8,"") | D23: Nachname | E23: Vorname | F23: Geschlecht | G23: Jahrgang
C24: 1 | N24: =IF(G24="",FALSE(),IF(AND($C$8=RAW!$N$2,G24<RAW!$N$7),TRUE(),IF(AND($C$8=RAW!$P$2,G24<RAW!$P$8),TRUE(),IF(AND($C$8=RAW!$AD$2,G24<RAW!$AD$8),TRUE(),IF(AND($C$8=RAW!$AF$2,G24<RAW!$AF$8),TRUE(),IF(AND($C$8=RAW!$AH$2,G24<RAW!$AH$9),TRUE(),IF(AND($C$8=RAW!$AH$2,G24=RAW!$AH$8),TRUE(),FALSE()))))))) -> FALSE
C25: 2 | N25: =IF(G25="",FALSE(),IF(AND($C$8=RAW!$N$2,G25<RAW!$N$7),TRUE(),IF(AND($C$8=RAW!$P$2,G25<RAW!$P$8),TRUE(),IF(AND($C$8=RAW!$AD$2,G25<RAW!$AD$8),TRUE(),IF(AND($C$8=RAW!$AF$2,G25<RAW!$AF$8),TRUE(),IF(AND($C$8=RAW!$AH$2,G25<RAW!$AH$9),TRUE(),IF(AND($C$8=RAW!$AH$2,G25=RAW!$AH$8),TRUE(),FALSE()))))))) -> FALSE
C26: 3 | N26: =IF(G26="",FALSE(),IF(AND($C$8=RAW!$N$2,G26<RAW!$N$7),TRUE(),IF(AND($C$8=RAW!$P$2,G26<RAW!$P$8),TRUE(),IF(AND($C$8=RAW!$AD$2,G26<RAW!$AD$8),TRUE(),IF(AND($C$8=RAW!$AF$2,G26<RAW!$AF$8),TRUE(),IF(AND($C$8=RAW!$AH$2,G26<RAW!$AH$9),TRUE(),IF(AND($C$8=RAW!$AH$2,G26=RAW!$AH$8),TRUE(),FALSE()))))))) -> FALSE
C27: 4 | N27: =IF(G27="",FALSE(),IF(AND($C$8=RAW!$N$2,G27<RAW!$N$7),TRUE(),IF(AND($C$8=RAW!$P$2,G27<RAW!$P$8),TRUE(),IF(AND($C$8=RAW!$AD$2,G27<RAW!$AD$8),TRUE(),IF(AND($C$8=RAW!$AF$2,G27<RAW!$AF$8),TRUE(),IF(AND($C$8=RAW!$AH$2,G27<RAW!$AH$9),TRUE(),IF(AND($C$8=RAW!$AH$2,G27=RAW!$AH$8),TRUE(),FALSE()))))))) -> FALSE
C28: 5 | N28: =IF(G28="",FALSE(),IF(AND($C$8=RAW!$N$2,G28<RAW!$N$7),TRUE(),IF(AND($C$8=RAW!$P$2,G28<RAW!$P$8),TRUE(),IF(AND($C$8=RAW!$AD$2,G28<RAW!$AD$8),TRUE(),IF(AND($C$8=RAW!$AF$2,G28<RAW!$AF$8),TRUE(),IF(AND($C$8=RAW!$AH$2,G28<RAW!$AH$9),TRUE(),IF(AND($C$8=RAW!$AH$2,G28=RAW!$AH$8),TRUE(),FALSE()))))))) -> FALSE
C29: 6 | N29: =IF(G29="",FALSE(),IF(AND($C$8=RAW!$N$2,G29<RAW!$N$7),TRUE(),IF(AND($C$8=RAW!$P$2,G29<RAW!$P$8),TRUE(),IF(AND($C$8=RAW!$AD$2,G29<RAW!$AD$8),TRUE(),IF(AND($C$8=RAW!$AF$2,G29<RAW!$AF$8),TRUE(),IF(AND($C$8=RAW!$AH$2,G29<RAW!$AH$9),TRUE(),IF(AND($C$8=RAW!$AH$2,G29=RAW!$AH$8),TRUE(),FALSE()))))))) -> FALSE
C30: 7 | N30: =IF(G30="",FALSE(),IF(AND($C$8=RAW!$N$2,G30<RAW!$N$7),TRUE(),IF(AND($C$8=RAW!$P$2,G30<RAW!$P$8),TRUE(),IF(AND($C$8=RAW!$AD$2,G30<RAW!$AD$8),TRUE(),IF(AND($C$8=RAW!$AF$2,G30<RAW!$AF$8),TRUE(),IF(AND($C$8=RAW!$AH$2,G30<RAW!$AH$9),TRUE(),IF(AND($C$8=RAW!$AH$2,G30=RAW!$AH$8),TRUE(),FALSE()))))))) -> FALSE
C31: 8 | N31: =IF(G31="",FALSE(),IF(AND($C$8=RAW!$N$2,G31<RAW!$N$7),TRUE(),IF(AND($C$8=RAW!$P$2,G31<RAW!$P$8),TRUE(),IF(AND($C$8=RAW!$AD$2,G31<RAW!$AD$8),TRUE(),IF(AND($C$8=RAW!$AF$2,G31<RAW!$AF$8),TRUE(),IF(AND($C$8=RAW!$AH$2,G31<RAW!$AH$9),TRUE(),IF(AND($C$8=RAW!$AH$2,G31=RAW!$AH$8),TRUE(),FALSE()))))))) -> FALSE
C32: 9 | N32: =IF(G32="",FALSE(),IF(AND($C$8=RAW!$N$2,G32<RAW!$N$7),TRUE(),IF(AND($C$8=RAW!$P$2,G32<RAW!$P$8),TRUE(),IF(AND($C$8=RAW!$AD$2,G32<RAW!$AD$8),TRUE(),IF(AND($C$8=RAW!$AF$2,G32<RAW!$AF$8),TRUE(),IF(AND($C$8=RAW!$AH$2,G32<RAW!$AH$9),TRUE(),IF(AND($C$8=RAW!$AH$2,G32=RAW!$AH$8),TRUE(),FALSE()))))))) -> FALSE
C33: 10 | N33: =IF(G33="",FALSE(),IF(AND($C$8=RAW!$N$2,G33<RAW!$N$7),TRUE(),IF(AND($C$8=RAW!$P$2,G33<RAW!$P$8),TRUE(),IF(AND($C$8=RAW!$AD$2,G33<RAW!$AD$8),TRUE(),IF(AND($C$8=RAW!$AF$2,G33<RAW!$AF$8),TRUE(),IF(AND($C$8=RAW!$AH$2,G33<RAW!$AH$9),TRUE(),IF(AND($C$8=RAW!$AH$2,G33=RAW!$AH$8),TRUE(),FALSE()))))))) -> FALSE
C34: 11 | N34: =IF(G34="",FALSE(),IF(AND($C$8=RAW!$N$2,G34<RAW!$N$7),TRUE(),IF(AND($C$8=RAW!$P$2,G34<RAW!$P$8),TRUE(),IF(AND($C$8=RAW!$AD$2,G34<RAW!$AD$8),TRUE(),IF(AND($C$8=RAW!$AF$2,G34<RAW!$AF$8),TRUE(),IF(AND($C$8=RAW!$AH$2,G34<RAW!$AH$9),TRUE(),IF(AND($C$8=RAW!$AH$2,G34=RAW!$AH$8),TRUE(),FALSE()))))))) -> FALSE
C35: 12 | N35: =IF(G35="",FALSE(),IF(AND($C$8=RAW!$N$2,G35<RAW!$N$7),TRUE(),IF(AND($C$8=RAW!$P$2,G35<RAW!$P$8),TRUE(),IF(AND($C$8=RAW!$AD$2,G35<RAW!$AD$8),TRUE(),IF(AND($C$8=RAW!$AF$2,G35<RAW!$AF$8),TRUE(),IF(AND($C$8=RAW!$AH$2,G35<RAW!$AH$9),TRUE(),IF(AND($C$8=RAW!$AH$2,G35=RAW!$AH$8),TRUE(),FALSE()))))))) -> FALSE
... C39: 16 | N39: =IF(G39="",FALSE(),IF(AND($C$8=RAW!$N$2,G39<RAW!$N$7),TRUE(),IF(AND($C$8=RAW!$P$2,G39<RAW!$P$8),TRUE(),IF(AND($C$8=RAW!$AD$2,G39<RAW!$AD$8),TRUE(),IF(AND($C$8=RAW!$AF$2,G39<RAW!$AF$8),TRUE(),IF(AND($C$8=RAW!$AH$2,G39<RAW!$AH$9),TRUE(),IF(AND($C$8=RAW!$AH$2,G39=RAW!$AH$8),TRUE(),FALSE()))))))) -> FALSE
B41: =IF(B9<>"",B9,"") | D41: Nachname | E41: Vorname | F41: Geschlecht | G41: Jahrgang
C42: 1 | N42: =IF(G42="",FALSE(),IF(AND($C$9=RAW!$N$2,G42<RAW!$N$7),TRUE(),IF(AND($C$9=RAW!$P$2,G42<RAW!$P$8),TRUE(),IF(AND($C$9=RAW!$AD$2,G42<RAW!$AD$8),TRUE(),IF(AND($C$9=RAW!$AF$2,G42<RAW!$AF$8),TRUE(),IF(AND($C$9=RAW!$AH$2,G42<RAW!$AH$9),TRUE(),IF(AND($C$9=RAW!$AH$2,G42=RAW!$AH$8),TRUE(),FALSE()))))))) -> FALSE
C43: 2 | N43: =IF(G43="",FALSE(),IF(AND($C$9=RAW!$N$2,G43<RAW!$N$7),TRUE(),IF(AND($C$9=RAW!$P$2,G43<RAW!$P$8),TRUE(),IF(AND($C$9=RAW!$AD$2,G43<RAW!$AD$8),TRUE(),IF(AND($C$9=RAW!$AF$2,G43<RAW!$AF$8),TRUE(),IF(AND($C$9=RAW!$AH$2,G43<RAW!$AH$9),TRUE(),IF(AND($C$9=RAW!$AH$2,G43=RAW!$AH$8),TRUE(),FALSE()))))))) -> FALSE
C44: 3 | N44: =IF(G44="",FALSE(),IF(AND($C$9=RAW!$N$2,G44<RAW!$N$7),TRUE(),IF(AND($C$9=RAW!$P$2,G44<RAW!$P$8),TRUE(),IF(AND($C$9=RAW!$AD$2,G44<RAW!$AD$8),TRUE(),IF(AND($C$9=RAW!$AF$2,G44<RAW!$AF$8),TRUE(),IF(AND($C$9=RAW!$AH$2,G44<RAW!$AH$9),TRUE(),IF(AND($C$9=RAW!$AH$2,G44=RAW!$AH$8),TRUE(),FALSE()))))))) -> FALSE
C45: 4 | N45: =IF(G45="",FALSE(),IF(AND($C$9=RAW!$N$2,G45<RAW!$N$7),TRUE(),IF(AND($C$9=RAW!$P$2,G45<RAW!$P$8),TRUE(),IF(AND($C$9=RAW!$AD$2,G45<RAW!$AD$8),TRUE(),IF(AND($C$9=RAW!$AF$2,G45<RAW!$AF$8),TRUE(),IF(AND($C$9=RAW!$AH$2,G45<RAW!$AH$9),TRUE(),IF(AND($C$9=RAW!$AH$2,G45=RAW!$AH$8),TRUE(),FALSE()))))))) -> FALSE
C46: 5 | N46: =IF(G46="",FALSE(),IF(AND($C$9=RAW!$N$2,G46<RAW!$N$7),TRUE(),IF(AND($C$9=RAW!$P$2,G46<RAW!$P$8),TRUE(),IF(AND($C$9=RAW!$AD$2,G46<RAW!$AD$8),TRUE(),IF(AND($C$9=RAW!$AF$2,G46<RAW!$AF$8),TRUE(),IF(AND($C$9=RAW!$AH$2,G46<RAW!$AH$9),TRUE(),IF(AND($C$9=RAW!$AH$2,G46=RAW!$AH$8),TRUE(),FALSE()))))))) -> FALSE
C47: 6 | N47: =IF(G47="",FALSE(),IF(AND($C$9=RAW!$N$2,G47<RAW!$N$7),TRUE(),IF(AND($C$9=RAW!$P$2,G47<RAW!$P$8),TRUE(),IF(AND($C$9=RAW!$AD$2,G47<RAW!$AD$8),TRUE(),IF(AND($C$9=RAW!$AF$2,G47<RAW!$AF$8),TRUE(),IF(AND($C$9=RAW!$AH$2,G47<RAW!$AH$9),TRUE(),IF(AND($C$9=RAW!$AH$2,G47=RAW!$AH$8),TRUE(),FALSE()))))))) -> FALSE
C48: 7 | N48: =IF(G48="",FALSE(),IF(AND($C$9=RAW!$N$2,G48<RAW!$N$7),TRUE(),IF(AND($C$9=RAW!$P$2,G48<RAW!$P$8),TRUE(),IF(AND($C$9=RAW!$AD$2,G48<RAW!$AD$8),TRUE(),IF(AND($C$9=RAW!$AF$2,G48<RAW!$AF$8),TRUE(),IF(AND($C$9=RAW!$AH$2,G48<RAW!$AH$9),TRUE(),IF(AND($C$9=RAW!$AH$2,G48=RAW!$AH$8),TRUE(),FALSE()))))))) -> FALSE
...

Sheet weitere Anmeldungen
B2: Verein | D2: Folgende weitere Personen werden zur Übernachtung angemeldet.
B3: =IF(Hauptmeldebogen_KiSGruTu!C7<>"",Hauptmeldebogen_KiSGruTu!C7,"")
B5: Weitere Kinder (Ersatzturner, Gäste) | D5: Nachname | E5: Vorname | F5: Mannschaft
C6: 1
C7: 2
C8: 3
C9: 4
C10: 5
C11: 6
C12: 7
C13: 8
C14: 9
C15: 10
B17: Trainer, Betreuer, Karis | D17: Nachname | E17: Vorname
C18: 1
C19: 2
C20: 3
C21: 4
C22: 5
C23: 6
C24: 7
C25: 8
C26: 9
C27: 10
C28: 11
C29: 12
... C32: 15

Sheet weitere Angaben
B2: Verein
B3: =IF(Hauptmeldebogen_KiSGruTu!C7<>"",Hauptmeldebogen_KiSGruTu!C7,"")
B5: Hauptverantwortlicher vor Ort
B6: Mobilnummer (vor Ort erreichbar!)
B8: Wir reisen an mit
B9: Reisebus
B10: PKW/Kleinbus
B12: Wir können uns vorstellen die Klassenräume mit dem folgenden Verein zu teilen
B14: Für Vereine mit weiblichen und männlichen Teilnehmern
B15: Die Unterbringung unserer Teilnehmer kann gemischt erfolgen
B16: Anzahl der Personen, die getrennt untergebracht werden sollen
B17: weiblich
B18: männlich

Sheet T-Shirts
B2: Verein
B3: =IF(Hauptmeldebogen_KiSGruTu!C7<>"",Hauptmeldebogen_KiSGruTu!C7,"")
B5: Daten T-Shirts
B7: Größe | C7: Anzahl
B8: 128 | E8: Die Anzahl der bestellten T-Shirts sollte mit der Anzahl eurer gemeldeten Betreuer und Teilnehmer übereinstimmen.
B9: 140
B10: 152
B11: 164
B12: S
B13: M | E13: gemeldete Teilnehmer | I13: =Hauptmeldebogen_KiSGruTu!C21 -> 0
B14: L
B15: XL | E15: gemeldete Betreuer | I15: =Hauptmeldebogen_KiSGruTu!C23 -> 0
B16: XXL
B17: Gesamt | C17: =SUM(Tabelle26[Anzahl]) -> 0 | E17: gesamt meldete Personen | I17: =SUM(I13,I15) -> 0

Sheet Essen
B2: Verein
B3: =IF(Hauptmeldebogen_KiSGruTu!C7<>"",Hauptmeldebogen_KiSGruTu!C7,"")
B5: Daten Essen
B7: Essen | C7: Anzahl | D7: davon laktoseintolerant | E7: davon Glutenunverträglichkeit | G7: Die Anzahl der bestellten Essen sollte ggf. mit der Anzahl eurer gemeldeten Betreuer und Teilnehmer übereinstimmen.
B8: mit Fleisch | M8: =SUM(Tabelle2630[[#This Row],[davon laktoseintolerant]:[davon Glutenunverträglichkeit]]) -> 0
B9: vegetarisch | M9: =SUM(Tabelle2630[[#This Row],[davon laktoseintolerant]:[davon Glutenunverträglichkeit]]) -> 0
B10: vegan | M10: =SUM(Tabelle2630[[#This Row],[davon laktoseintolerant]:[davon Glutenunverträglichkeit]]) -> 0
B11: Gesamt | C11: =SUM(Tabelle2630[Anzahl]) -> 0 | D11: =SUM(Tabelle2630[davon laktoseintolerant]) -> 0 | E11: =SUM(Tabelle2630[davon Glutenunverträglichkeit]) -> 0 | M11: =SUM(D11:E11) -> 0
G12: gemeldete Teilnehmer | K12: =Hauptmeldebogen_KiSGruTu!C21 -> 0
G14: gemeldete Betreuer | K14: =Hauptmeldebogen_KiSGruTu!C23 -> 0
G16: gesamt meldete Personen | K16: =SUM(K12,K14) -> 0

Sheet RAW
B2: Wettkampf | D2: Klasse | E2: Anzahl Disziplinen | F2: Disziplin | G2: gemeldete Disziplin | H2: fehlende Karis | I2: Anzahl Mannschaften | J2: Anzahl Karis | K2: Lizenz | L2: Fotoerlaubnis | M2: Geschlecht | N2: SGW 1 | P2: SGW 2 | R2: TGM Ju | T2: TGM J | V2: TGM E | X2: TGW J | Z2: TGW E | AB2: TGW S | AD2: SGW 2 A | AF2: SGW 2 B | AH2: SGW Starters | AJ2: Unterbringung gemischt
B3: 34. Kinder- und Schülergruppenturniade | D3: SGW 1 | E3: 4 | F3: Turnen | G3: 1 | H3: 0 | I3: 0 | J3: 0 | K3: A | L3: ja | M3: w | N3: =YEAR(TODAY())-6 -> 2020 | P3: =YEAR(TODAY())-8 -> 2018 | R3: =YEAR(TODAY())-12 -> 2014 | T3: =YEAR(TODAY())-12 -> 2014 | V3: =YEAR(TODAY())-16 -> 2010 | X3: =YEAR(TODAY())-14 -> 2012 | Z3: =YEAR(TODAY())-16 -> 2010 | AB3: =YEAR(TODAY())-25 -> 2001 | AD3: =YEAR(TODAY())-8 -> 2018 | AF3: =YEAR(TODAY())-8 -> 2018 | AH3: =YEAR(TODAY())-6 -> 2020 | AJ3: ja
D4: SGW 2 | E4: 4 | F4: Singen | H4: 1 | I4: 1 | J4: 1 | K4: B | L4: nein | M4: m | N4: =YEAR(TODAY())-7 -> 2019 | P4: =YEAR(TODAY())-9 -> 2017 | R4: =YEAR(TODAY())-13 -> 2013 | T4: =YEAR(TODAY())-13 -> 2013 | V4: =YEAR(TODAY())-17 -> 2009 | X4: =YEAR(TODAY())-15 -> 2011 | Z4: =YEAR(TODAY())-17 -> 2009 | AB4: =YEAR(TODAY())-26 -> 2000 | AD4: =YEAR(TODAY())-9 -> 2017 | AF4: =YEAR(TODAY())-9 -> 2017 | AH4: =YEAR(TODAY())-7 -> 2019 | AJ4: nein
B5: Datum und Ort | D5: TGM Jugend | E5: 4 | F5: Tanzen | H5: 2 | I5: 2 | J5: 2 | N5: =YEAR(TODAY())-8 -> 2018 | P5: =YEAR(TODAY())-10 -> 2016 | R5: =YEAR(TODAY())-14 -> 2012 | T5: =YEAR(TODAY())-14 -> 2012 | V5: =YEAR(TODAY())-18 -> 2008 | X5: =YEAR(TODAY())-16 -> 2010 | Z5: =YEAR(TODAY())-18 -> 2008 | AB5: =YEAR(TODAY())-27 -> 1999 | AD5: =YEAR(TODAY())-10 -> 2016 | AF5: =YEAR(TODAY())-10 -> 2016 | AH5: =YEAR(TODAY())-8 -> 2018
B6: vom 13. bis 15. November 2026 beim TSV Nord Harrislee | D6: TGM Junioren | E6: 4 | F6: MD | H6: 3 | I6: 3 | J6: 3 | N6: =YEAR(TODAY())-9 -> 2017 | P6: =YEAR(TODAY())-11 -> 2015 | R6: =YEAR(TODAY())-15 -> 2011 | T6: =YEAR(TODAY())-15 -> 2011 | X6: =YEAR(TODAY())-17 -> 2009 | AB6: =YEAR(TODAY())-28 -> 1998 | AD6: =YEAR(TODAY())-11 -> 2015 | AF6: =YEAR(TODAY())-11 -> 2015 | AH6: =YEAR(TODAY())-9 -> 2017
D7: TGM E | E7: 4 | F7: Gymnastik | H7: 4 | I7: 4 | J7: 4 | N7: =YEAR(TODAY())-10 -> 2016 | P7: =YEAR(TODAY())-12 -> 2014 | R7: =YEAR(TODAY())-16 -> 2010 | T7: =YEAR(TODAY())-16 -> 2010 | V7: 18 und älter | X7: =YEAR(TODAY())-18 -> 2008 | Z7: 18 und älter | AB7: =YEAR(TODAY())-29 -> 1997 | AD7: =YEAR(TODAY())-12 -> 2014 | AF7: =YEAR(TODAY())-12 -> 2014 | AH7: =YEAR(TODAY())-10 -> 2016
B8: Meldeschluss | D8: TGW Junioren | E8: 3 | I8: 5 | J8: 5 | N8: =YEAR(TODAY())-11 -> 2015 | P8: =YEAR(TODAY())-13 -> 2013 | R8: =YEAR(TODAY())-17 -> 2009 | T8: =YEAR(TODAY())-17 -> 2009 | X8: =YEAR(TODAY())-19 -> 2007 | AB8: =YEAR(TODAY())-30 -> 1996 | AD8: =YEAR(TODAY())-13 -> 2013 | AF8: =YEAR(TODAY())-13 -> 2013 | AH8: =YEAR(TODAY())-11 -> 2015
B9: Meldeschluss: 23. Oktober 2026 | D9: TGW E | E9: 3 | I9: 6 | J9: 6 | P9: =YEAR(TODAY())-14 -> 2012 | R9: =YEAR(TODAY())-18 -> 2008 | T9: =YEAR(TODAY())-18 -> 2008 | X9: =YEAR(TODAY())-20 -> 2006 | AD9: =YEAR(TODAY())-14 -> 2012 | AF9: =YEAR(TODAY())-14 -> 2012 | AH9: =YEAR(TODAY())-13 -> 2013
D10: TGW S | E10: 3 | I10: 7 | J10: 7 | T10: =YEAR(TODAY())-19 -> 2007 | X10: =YEAR(TODAY())-21 -> 2005 | AB10: 30 und älter | AH10: =YEAR(TODAY())-12 -> 2014
B11: Startgeld pro Mannschaft | D11: SGW 1 | E11: 4 | I11: 8 | T11: =YEAR(TODAY())-20 -> 2006 | AH11: =YEAR(TODAY())-14 -> 2012
D12: SGW 2 A | E12: 4 | I12: 9 | T12: =YEAR(TODAY())-21 -> 2005
D13: SGW 2 B | E13: 4 | I13: 10
B14: Kaution pro Mannschaft | D14: SGW Starters | E14: 3 | I14: 11
I15: 12 | N15: SGWI | P15: SGWII | R15: TGMJugend | T15: TGMJunioren | V15: TGME | X15: TGWJunioren | Z15: TGWE | AB15: TGWS | AD15: SGWIIA | AF15: SGWIIB | AH15: SGWS
I16: 13 | N16: =YEAR(TODAY())-6 -> 2020 | P16: =YEAR(TODAY())-8 -> 2018 | R16: =YEAR(TODAY())-12 -> 2014 | T16: =YEAR(TODAY())-12 -> 2014 | V16: =YEAR(TODAY())-16 -> 2010 | X16: =YEAR(TODAY())-14 -> 2012 | Z16: =YEAR(TODAY())-16 -> 2010 | AB16: =YEAR(TODAY())-25 -> 2001 | AD16: =YEAR(TODAY())-8 -> 2018 | AF16: =YEAR(TODAY())-8 -> 2018 | AH16: =YEAR(TODAY())-6 -> 2020
B17: Gebühr pro fehlendem Kampfrichter | D17: SGW 1 | E17: SGWI | N17: =YEAR(TODAY())-7 -> 2019 | P17: =YEAR(TODAY())-9 -> 2017 | R17: =YEAR(TODAY())-13 -> 2013 | T17: =YEAR(TODAY())-13 -> 2013 | V17: =YEAR(TODAY())-17 -> 2009 | X17: =YEAR(TODAY())-15 -> 2011 | Z17: =YEAR(TODAY())-17 -> 2009 | AB17: =YEAR(TODAY())-26 -> 2000 | AD17: =YEAR(TODAY())-9 -> 2017 | AF17: =YEAR(TODAY())-9 -> 2017 | AH17: =YEAR(TODAY())-7 -> 2019
B18: 100 | D18: SGW 2 | E18: SGWII | N18: =YEAR(TODAY())-8 -> 2018 | P18: =YEAR(TODAY())-10 -> 2016 | R18: =YEAR(TODAY())-14 -> 2012 | T18: =YEAR(TODAY())-14 -> 2012 | V18: =YEAR(TODAY())-18 -> 2008 | X18: =YEAR(TODAY())-16 -> 2010 | Z18: =YEAR(TODAY())-18 -> 2008 | AB18: =YEAR(TODAY())-27 -> 1999 | AD18: =YEAR(TODAY())-10 -> 2016 | AF18: =YEAR(TODAY())-10 -> 2016 | AH18: =YEAR(TODAY())-8 -> 2018
D19: TGM Jugend | E19: TGMJu | N19: =YEAR(TODAY())-9 -> 2017 | P19: =YEAR(TODAY())-11 -> 2015 | R19: =YEAR(TODAY())-15 -> 2011 | T19: =YEAR(TODAY())-15 -> 2011 | V19: =YEAR(TODAY())-19 -> 2007 | X19: =YEAR(TODAY())-17 -> 2009 | Z19: =YEAR(TODAY())-19 -> 2007 | AB19: =YEAR(TODAY())-28 -> 1998 | AD19: =YEAR(TODAY())-11 -> 2015 | AF19: =YEAR(TODAY())-11 -> 2015 | AH19: =YEAR(TODAY())-9 -> 2017
B20: Beitrag pro Übernachtung / Frühstück | D20: TGM Junioren | E20: TGMJ | N20: =YEAR(TODAY())-10 -> 2016 | P20: =YEAR(TODAY())-12 -> 2014 | R20: =YEAR(TODAY())-16 -> 2010 | T20: =YEAR(TODAY())-16 -> 2010 | V20: =YEAR(TODAY())-20 -> 2006 | X20: =YEAR(TODAY())-18 -> 2008 | Z20: =YEAR(TODAY())-20 -> 2006 | AB20: =YEAR(TODAY())-29 -> 1997 | AD20: =YEAR(TODAY())-12 -> 2014 | AF20: =YEAR(TODAY())-12 -> 2014 | AH20: =YEAR(TODAY())-10 -> 2016
D21: TGM E | E21: TGME | N21: =YEAR(TODAY())-11 -> 2015 | P21: =YEAR(TODAY())-13 -> 2013 | R21: =YEAR(TODAY())-17 -> 2009 | T21: =YEAR(TODAY())-17 -> 2009 | V21: =YEAR(TODAY())-21 -> 2005 | X21: =YEAR(TODAY())-19 -> 2007 | Z21: =YEAR(TODAY())-21 -> 2005 | AB21: =YEAR(TODAY())-30 -> 1996 | AD21: =YEAR(TODAY())-13 -> 2013 | AF21: =YEAR(TODAY())-13 -> 2013 | AH21: =YEAR(TODAY())-11 -> 2015
D22: TGW Junioren | E22: TGWJ | P22: =YEAR(TODAY())-14 -> 2012 | R22: =YEAR(TODAY())-18 -> 2008 | T22: =YEAR(TODAY())-18 -> 2008 | V22: =YEAR(TODAY())-22 -> 2004 | X22: =YEAR(TODAY())-20 -> 2006 | Z22: =YEAR(TODAY())-22 -> 2004 | AB22: =YEAR(TODAY())-31 -> 1995 | AD22: =YEAR(TODAY())-14 -> 2012 | AF22: =YEAR(TODAY())-14 -> 2012 | AH22: =YEAR(TODAY())-12 -> 2014
B23: Beitrag pro Abendessen Samstag | D23: TGW E | E23: TGWE | T23: =YEAR(TODAY())-19 -> 2007 | V23: =YEAR(TODAY())-23 -> 2003 | X23: =YEAR(TODAY())-21 -> 2005 | Z23: =YEAR(TODAY())-23 -> 2003 | AB23: =YEAR(TODAY())-32 -> 1994 | AH23: =YEAR(TODAY())-13 -> 2013
D24: TGW S | E24: TGWS | T24: =YEAR(TODAY())-20 -> 2006 | V24: =YEAR(TODAY())-24 -> 2002 | Z24: =YEAR(TODAY())-24 -> 2002 | AB24: =YEAR(TODAY())-33 -> 1993 | AH24: =YEAR(TODAY())-14 -> 2012
D25: SGW 1 | E25: SGWI | T25: =YEAR(TODAY())-21 -> 2005 | V25: =YEAR(TODAY())-25 -> 2001 | Z25: =YEAR(TODAY())-25 -> 2001 | AB25: =YEAR(TODAY())-34 -> 1992
B26: Beitrag pro T-Shirt | D26: SGW 2 A | E26: SGWIIA | V26: =YEAR(TODAY())-26 -> 2000 | Z26: =YEAR(TODAY())-26 -> 2000 | AB26: =YEAR(TODAY())-35 -> 1991
D27: SGW 2 B | E27: SGWIIB | V27: =YEAR(TODAY())-27 -> 1999 | Z27: =YEAR(TODAY())-27 -> 1999 | AB27: =YEAR(TODAY())-36 -> 1990
D28: SGW Starters | E28: SGWS | V28: =YEAR(TODAY())-28 -> 1998 | Z28: =YEAR(TODAY())-28 -> 1998 | AB28: =YEAR(TODAY())-37 -> 1989
B29: Orgabeitrag Teilnehmer (Tagesgäste) | V29: =YEAR(TODAY())-29 -> 1997 | Z29: =YEAR(TODAY())-29 -> 1997 | AB29: =YEAR(TODAY())-38 -> 1988
V30: =YEAR(TODAY())-30 -> 1996 | Z30: =YEAR(TODAY())-30 -> 1996 | AB30: =YEAR(TODAY())-39 -> 1987
V31: =YEAR(TODAY())-31 -> 1995 | Z31: =YEAR(TODAY())-31 -> 1995 | AB31: =YEAR(TODAY())-40 -> 1986
B32: Gebühr pro Kind (Teilnehmer/in, Ersatzperson, Gast) | V32: =YEAR(TODAY())-32 -> 1994 | Z32: =YEAR(TODAY())-32 -> 1994 | AB32: =YEAR(TODAY())-41 -> 1985
B33: 45 | V33: =YEAR(TODAY())-33 -> 1993 | Z33: =YEAR(TODAY())-33 -> 1993 | AB33: =YEAR(TODAY())-42 -> 1984
V34: =YEAR(TODAY())-34 -> 1992 | Z34: =YEAR(TODAY())-34 -> 1992 | AB34: =YEAR(TODAY())-43 -> 1983
B35: Gebühr pro Erwachsener (Trainer/in, Betreuer/in, Kari) | V35: =YEAR(TODAY())-35 -> 1991 | Z35: =YEAR(TODAY())-35 -> 1991 | AB35: =YEAR(TODAY())-44 -> 1982
B36: 30 | V36: =YEAR(TODAY())-36 -> 1990 | Z36: =YEAR(TODAY())-36 -> 1990 | AB36: =YEAR(TODAY())-45 -> 1981
V37: =YEAR(TODAY())-37 -> 1989 | Z37: =YEAR(TODAY())-37 -> 1989 | AB37: =YEAR(TODAY())-46 -> 1980
B38: Frist Überweisung | V38: =YEAR(TODAY())-38 -> 1988 | Z38: =YEAR(TODAY())-38 -> 1988 | AB38: =YEAR(TODAY())-47 -> 1979
B39: 46325 | V39: =YEAR(TODAY())-39 -> 1987 | Z39: =YEAR(TODAY())-39 -> 1987 | AB39: =YEAR(TODAY())-48 -> 1978
B40: auf das folgende Konto zu überweisen: | V40: =YEAR(TODAY())-40 -> 1986 | Z40: =YEAR(TODAY())-40 -> 1986 | AB40: =YEAR(TODAY())-49 -> 1977
V41: =YEAR(TODAY())-41 -> 1985 | Z41: =YEAR(TODAY())-41 -> 1985 | AB41: =YEAR(TODAY())-50 -> 1976
...

Sheet Gesamt Verein
B2: KiSGruTu | C2: Verein | D2: Mannschaft | E2: Klasse | F2: m | G2: w | H2: Tu | I2: Si | J2: Ta | K2: Gym | L2: PSt | M2: Wurf | N2: fehlende Karis | O2: Anz Mannschaften | P2: Betrag | Q2: Fotoerlaubnis | R2: Disziplinen gecheckt | S2: Nachname | T2: Vorname | U2: Telefonnummer | V2: E-Mail | W2: Nachname Kari | X2: Vorname Kari | Y2: Disziplin Kari | Z2: E-Mail Kari | AA2: Lizenz | AB2: Anmerkungen | AC2: Benötigte Geräte Turnen | AD2: Ersatz | AE2: Betreuer | AF2: Gesamt Kinder | AG2: Ehrenkodex | AH2: Hauptverantwortlicher vor Ort | AI2: Mobilnummer vor Ort | AJ2: Bus | AK2: PKW | AL2: Unterbringung mit | AM2: gemischt | AN2: weiblich | AO2: männlich | AQ2: Größen | AR2: T-Shirts | AT2: Ersatz Verein | AU2: Ersatz NN | AV2: Ersatz VN | AX2: Essen | AY2: Anzahl | AZ2: davon laktoseintolerant | BA2: davon Glutenunverträglichkeit
C3: =IF(Mannschaftsmeldebogen_KiSGruTu!B8<>"",Hauptmeldebogen_KiSGruTu!$C$7,"") | D3: =IF(Mannschaftsmeldebogen_KiSGruTu!B8<>"",Mannschaftsmeldebogen_KiSGruTu!B8,"") | E3: =IF(Mannschaftsmeldebogen_KiSGruTu!C8<>"",Mannschaftsmeldebogen_KiSGruTu!C8,"") | F3: =COUNTIF(mski[Geschlecht],RAW!M4) -> 0 | G3: =COUNTIF(mski[Geschlecht],RAW!M3) -> 0 | H3: =IF(Mannschaftsmeldebogen_KiSGruTu!D8<>"",Mannschaftsmeldebogen_KiSGruTu!D8,"") | I3: =IF(Mannschaftsmeldebogen_KiSGruTu!E8<>"",Mannschaftsmeldebogen_KiSGruTu!E8,"") | J3: =IF(Mannschaftsmeldebogen_KiSGruTu!F8<>"",Mannschaftsmeldebogen_KiSGruTu!F8,"") | K3: =IF(Mannschaftsmeldebogen_KiSGruTu!G8<>"",Mannschaftsmeldebogen_KiSGruTu!G8,"") | L3: =IF(Mannschaftsmeldebogen_KiSGruTu!H8<>"",Mannschaftsmeldebogen_KiSGruTu!H8,"") | M3: =IF(Mannschaftsmeldebogen_KiSGruTu!I8<>"",Mannschaftsmeldebogen_KiSGruTu!I8,"") | N3: =Hauptmeldebogen_KiSGruTu!C19 -> 0 | O3: =Hauptmeldebogen_KiSGruTu!C15 -> 0 | P3: =Hauptmeldebogen_KiSGruTu!C29 -> 0 | Q3: =IF(Hauptmeldebogen_KiSGruTu!C25<>"",Hauptmeldebogen_KiSGruTu!C25,"") | S3: =IF(Hauptmeldebogen_KiSGruTu!C10<>"",Hauptmeldebogen_KiSGruTu!C10,"") | T3: =IF(Hauptmeldebogen_KiSGruTu!C11<>"",Hauptmeldebogen_KiSGruTu!C11,"") | U3: =IF(Hauptmeldebogen_KiSGruTu!C13<>"",Hauptmeldebogen_KiSGruTu!C13,"") | V3: =IF(Hauptmeldebogen_KiSGruTu!C12<>"",Hauptmeldebogen_KiSGruTu!C12,"") | W3: =IF(Karimeldebogen!B9<>"",Karimeldebogen!B9,"") | X3: =IF(Karimeldebogen!C9<>"",Karimeldebogen!C9,"") | Y3: =IF(Karimeldebogen!D9<>"",Karimeldebogen!D9,"") | Z3: =IF(Karimeldebogen!E9<>"",Karimeldebogen!E9,"") | AA3: =IF(Karimeldebogen!F9<>"",Karimeldebogen!F9,"") | AB3: =IF(Karimeldebogen!G9<>"",Karimeldebogen!G9,"") | AC3: =IF(Mannschaftsmeldebogen_KiSGruTu!J8<>"",Mannschaftsmeldebogen_KiSGruTu!J8,"") | AD3: =COUNTIF(Tabelle27[Nachname],"*") -> 0 | AE3: =COUNTIF(Tabelle28[Nachname],"*") -> 0 | AF3: =SUM(Tabelle350[m],Tabelle350[w],Tabelle350[[#This Row],[Ersatz]]) -> 0 | AG3: =IF(Hauptmeldebogen_KiSGruTu!C27<>"",Hauptmeldebogen_KiSGruTu!C27,"") | AH3: =IF('weitere Angaben'!C5<>"",'weitere Angaben'!C5,"") | AI3: =IF('weitere Angaben'!C6<>"",'weitere Angaben'!C6,"") | AJ3: =IF('weitere Angaben'!C9<>"",'weitere Angaben'!C9,"") | AK3: =IF('weitere Angaben'!C10<>"",'weitere Angaben'!C10,"") | AL3: =IF('weitere Angaben'!C12<>"",'weitere Angaben'!C12,"") | AM3: =IF('weitere Angaben'!C15<>"",'weitere Angaben'!C15,"") | AN3: =IF('weitere Angaben'!C17<>"",'weitere Angaben'!C17,"") | AO3: =IF('weitere Angaben'!C18<>"",'weitere Angaben'!C18,"") | AR3: =Hauptmeldebogen_KiSGruTu!C7 -> 0 | AT3: =IF('weitere Anmeldungen'!D6<>"",Hauptmeldebogen_KiSGruTu!$C$7,"") | AU3: =IF('weitere Anmeldungen'!D6<>"",'weitere Anmeldungen'!D6,"") | AV3: =IF('weitere Anmeldungen'!E6<>"",'weitere Anmeldungen'!E6,"") | AY3: =Hauptmeldebogen_KiSGruTu!C7 -> 0
C4: =IF(Mannschaftsmeldebogen_KiSGruTu!B9<>"",Hauptmeldebogen_KiSGruTu!$C$7,"") | D4: =IF(Mannschaftsmeldebogen_KiSGruTu!B9<>"",Mannschaftsmeldebogen_KiSGruTu!B9,"") | E4: =IF(Mannschaftsmeldebogen_KiSGruTu!C9<>"",Mannschaftsmeldebogen_KiSGruTu!C9,"") | F4: =COUNTIF(mskii[Geschlecht],RAW!M4) -> 0 | G4: =COUNTIF(mskii[Geschlecht],RAW!M3) -> 0 | H4: =IF(Mannschaftsmeldebogen_KiSGruTu!D9<>"",Mannschaftsmeldebogen_KiSGruTu!D9,"") | I4: =IF(Mannschaftsmeldebogen_KiSGruTu!E9<>"",Mannschaftsmeldebogen_KiSGruTu!E9,"") | J4: =IF(Mannschaftsmeldebogen_KiSGruTu!F9<>"",Mannschaftsmeldebogen_KiSGruTu!F9,"") | K4: =IF(Mannschaftsmeldebogen_KiSGruTu!G9<>"",Mannschaftsmeldebogen_KiSGruTu!G9,"") | L4: =IF(Mannschaftsmeldebogen_KiSGruTu!H9<>"",Mannschaftsmeldebogen_KiSGruTu!H9,"") | M4: =IF(Mannschaftsmeldebogen_KiSGruTu!I9<>"",Mannschaftsmeldebogen_KiSGruTu!I9,"") | W4: =IF(Karimeldebogen!B10<>"",Karimeldebogen!B10,"") | X4: =IF(Karimeldebogen!C10<>"",Karimeldebogen!C10,"") | Y4: =IF(Karimeldebogen!D10<>"",Karimeldebogen!D10,"") | Z4: =IF(Karimeldebogen!E10<>"",Karimeldebogen!E10,"") | AA4: =IF(Karimeldebogen!F10<>"",Karimeldebogen!F10,"") | AB4: =IF(Karimeldebogen!G10<>"",Karimeldebogen!G10,"") | AC4: =IF(Mannschaftsmeldebogen_KiSGruTu!J9<>"",Mannschaftsmeldebogen_KiSGruTu!J9,"") | AQ4: ='T-Shirts'!B8 -> 128 | AR4: ='T-Shirts'!C8 -> 0 | AT4: =IF('weitere Anmeldungen'!D7<>"",Hauptmeldebogen_KiSGruTu!$C$7,"") | AU4: =IF('weitere Anmeldungen'!D7<>"",'weitere Anmeldungen'!D7,"") | AV4: =IF('weitere Anmeldungen'!E7<>"",'weitere Anmeldungen'!E7,"") | AX4: =Essen!B8 -> mit Fleisch | AY4: =Essen!C8 -> 0 | AZ4: =Essen!D8 -> 0 | BA4: =Essen!E8 -> 0
C5: =IF(Mannschaftsmeldebogen_KiSGruTu!B10<>"",Hauptmeldebogen_KiSGruTu!$C$7,"") | D5: =IF(Mannschaftsmeldebogen_KiSGruTu!B10<>"",Mannschaftsmeldebogen_KiSGruTu!B10,"") | E5: =IF(Mannschaftsmeldebogen_KiSGruTu!C10<>"",Mannschaftsmeldebogen_KiSGruTu!C10,"") | F5: =COUNTIF(mskiii[Geschlecht],RAW!M4) -> 0 | G5: =COUNTIF(mskiii[Geschlecht],RAW!M3) -> 0 | H5: =IF(Mannschaftsmeldebogen_KiSGruTu!D10<>"",Mannschaftsmeldebogen_KiSGruTu!D10,"") | I5: =IF(Mannschaftsmeldebogen_KiSGruTu!E10<>"",Mannschaftsmeldebogen_KiSGruTu!E10,"") | J5: =IF(Mannschaftsmeldebogen_KiSGruTu!F10<>"",Mannschaftsmeldebogen_KiSGruTu!F10,"") | K5: =IF(Mannschaftsmeldebogen_KiSGruTu!G10<>"",Mannschaftsmeldebogen_KiSGruTu!G10,"") | L5: =IF(Mannschaftsmeldebogen_KiSGruTu!H10<>"",Mannschaftsmeldebogen_KiSGruTu!H10,"") | M5: =IF(Mannschaftsmeldebogen_KiSGruTu!I10<>"",Mannschaftsmeldebogen_KiSGruTu!I10,"") | W5: =IF(Karimeldebogen!B11<>"",Karimeldebogen!B11,"") | X5: =IF(Karimeldebogen!C11<>"",Karimeldebogen!C11,"") | Y5: =IF(Karimeldebogen!D11<>"",Karimeldebogen!D11,"") | Z5: =IF(Karimeldebogen!E11<>"",Karimeldebogen!E11,"") | AA5: =IF(Karimeldebogen!F11<>"",Karimeldebogen!F11,"") | AB5: =IF(Karimeldebogen!G11<>"",Karimeldebogen!G11,"") | AC5: =IF(Mannschaftsmeldebogen_KiSGruTu!J10<>"",Mannschaftsmeldebogen_KiSGruTu!J10,"") | AQ5: ='T-Shirts'!B9 -> 140 | AR5: ='T-Shirts'!C9 -> 0 | AT5: =IF('weitere Anmeldungen'!D8<>"",Hauptmeldebogen_KiSGruTu!$C$7,"") | AU5: =IF('weitere Anmeldungen'!D8<>"",'weitere Anmeldungen'!D8,"") | AV5: =IF('weitere Anmeldungen'!E8<>"",'weitere Anmeldungen'!E8,"") | AX5: =Essen!B9 -> vegetarisch | AY5: =Essen!C9 -> 0 | AZ5: =Essen!D9 -> 0 | BA5: =Essen!E9 -> 0
C6: =IF(Mannschaftsmeldebogen_KiSGruTu!B11<>"",Hauptmeldebogen_KiSGruTu!$C$7,"") | D6: =IF(Mannschaftsmeldebogen_KiSGruTu!B11<>"",Mannschaftsmeldebogen_KiSGruTu!B11,"") | E6: =IF(Mannschaftsmeldebogen_KiSGruTu!C11<>"",Mannschaftsmeldebogen_KiSGruTu!C11,"") | F6: =COUNTIF(mskiv[Geschlecht],RAW!M4) -> 0 | G6: =COUNTIF(mskiv[Geschlecht],RAW!M3) -> 0 | H6: =IF(Mannschaftsmeldebogen_KiSGruTu!D11<>"",Mannschaftsmeldebogen_KiSGruTu!D11,"") | I6: =IF(Mannschaftsmeldebogen_KiSGruTu!E11<>"",Mannschaftsmeldebogen_KiSGruTu!E11,"") | J6: =IF(Mannschaftsmeldebogen_KiSGruTu!F11<>"",Mannschaftsmeldebogen_KiSGruTu!F11,"") | K6: =IF(Mannschaftsmeldebogen_KiSGruTu!G11<>"",Mannschaftsmeldebogen_KiSGruTu!G11,"") | L6: =IF(Mannschaftsmeldebogen_KiSGruTu!H11<>"",Mannschaftsmeldebogen_KiSGruTu!H11,"") | M6: =IF(Mannschaftsmeldebogen_KiSGruTu!I11<>"",Mannschaftsmeldebogen_KiSGruTu!I11,"") | W6: =IF(Karimeldebogen!B12<>"",Karimeldebogen!B12,"") | X6: =IF(Karimeldebogen!C12<>"",Karimeldebogen!C12,"") | Y6: =IF(Karimeldebogen!D12<>"",Karimeldebogen!D12,"") | Z6: =IF(Karimeldebogen!E12<>"",Karimeldebogen!E12,"") | AA6: =IF(Karimeldebogen!F12<>"",Karimeldebogen!F12,"") | AB6: =IF(Karimeldebogen!G12<>"",Karimeldebogen!G12,"") | AC6: =IF(Mannschaftsmeldebogen_KiSGruTu!J11<>"",Mannschaftsmeldebogen_KiSGruTu!J11,"") | AQ6: ='T-Shirts'!B10 -> 152 | AR6: ='T-Shirts'!C10 -> 0 | AT6: =IF('weitere Anmeldungen'!D9<>"",Hauptmeldebogen_KiSGruTu!$C$7,"") | AU6: =IF('weitere Anmeldungen'!D9<>"",'weitere Anmeldungen'!D9,"") | AV6: =IF('weitere Anmeldungen'!E9<>"",'weitere Anmeldungen'!E9,"") | AX6: =Essen!B10 -> vegan | AY6: =Essen!C10 -> 0 | AZ6: =Essen!D10 -> 0 | BA6: =Essen!E10 -> 0
C7: =IF(Mannschaftsmeldebogen_KiSGruTu!B12<>"",Hauptmeldebogen_KiSGruTu!$C$7,"") | D7: =IF(Mannschaftsmeldebogen_KiSGruTu!B12<>"",Mannschaftsmeldebogen_KiSGruTu!B12,"") | E7: =IF(Mannschaftsmeldebogen_KiSGruTu!C12<>"",Mannschaftsmeldebogen_KiSGruTu!C12,"") | F7: =COUNTIF(mskv[Geschlecht],RAW!M4) -> 0 | G7: =COUNTIF(mskv[Geschlecht],RAW!M3) -> 0 | H7: =IF(Mannschaftsmeldebogen_KiSGruTu!D12<>"",Mannschaftsmeldebogen_KiSGruTu!D12,"") | I7: =IF(Mannschaftsmeldebogen_KiSGruTu!E12<>"",Mannschaftsmeldebogen_KiSGruTu!E12,"") | J7: =IF(Mannschaftsmeldebogen_KiSGruTu!F12<>"",Mannschaftsmeldebogen_KiSGruTu!F12,"") | K7: =IF(Mannschaftsmeldebogen_KiSGruTu!G12<>"",Mannschaftsmeldebogen_KiSGruTu!G12,"") | L7: =IF(Mannschaftsmeldebogen_KiSGruTu!H12<>"",Mannschaftsmeldebogen_KiSGruTu!H12,"") | M7: =IF(Mannschaftsmeldebogen_KiSGruTu!I12<>"",Mannschaftsmeldebogen_KiSGruTu!I12,"") | W7: =IF(Karimeldebogen!B13<>"",Karimeldebogen!B13,"") | X7: =IF(Karimeldebogen!C13<>"",Karimeldebogen!C13,"") | Y7: =IF(Karimeldebogen!D13<>"",Karimeldebogen!D13,"") | Z7: =IF(Karimeldebogen!E13<>"",Karimeldebogen!E13,"") | AA7: =IF(Karimeldebogen!F13<>"",Karimeldebogen!F13,"") | AB7: =IF(Karimeldebogen!G13<>"",Karimeldebogen!G13,"") | AC7: =IF(Mannschaftsmeldebogen_KiSGruTu!J12<>"",Mannschaftsmeldebogen_KiSGruTu!J12,"") | AQ7: ='T-Shirts'!B11 -> 164 | AR7: ='T-Shirts'!C11 -> 0 | AT7: =IF('weitere Anmeldungen'!D10<>"",Hauptmeldebogen_KiSGruTu!$C$7,"") | AU7: =IF('weitere Anmeldungen'!D10<>"",'weitere Anmeldungen'!D10,"") | AV7: =IF('weitere Anmeldungen'!E10<>"",'weitere Anmeldungen'!E10,"") | AX7: =Essen!B11 -> Gesamt | AY7: =Essen!C11 -> 0 | AZ7: =Essen!D11 -> 0 | BA7: =Essen!E11 -> 0
C8: =IF(Mannschaftsmeldebogen_KiSGruTu!B13<>"",Hauptmeldebogen_KiSGruTu!$C$7,"") | D8: =IF(Mannschaftsmeldebogen_KiSGruTu!B13<>"",Mannschaftsmeldebogen_KiSGruTu!B13,"") | E8: =IF(Mannschaftsmeldebogen_KiSGruTu!C13<>"",Mannschaftsmeldebogen_KiSGruTu!C13,"") | F8: =COUNTIF(mskvi[Geschlecht],RAW!M4) -> 0 | G8: =COUNTIF(mskvi[Geschlecht],RAW!M3) -> 0 | H8: =IF(Mannschaftsmeldebogen_KiSGruTu!D13<>"",Mannschaftsmeldebogen_KiSGruTu!D13,"") | I8: =IF(Mannschaftsmeldebogen_KiSGruTu!E13<>"",Mannschaftsmeldebogen_KiSGruTu!E13,"") | J8: =IF(Mannschaftsmeldebogen_KiSGruTu!F13<>"",Mannschaftsmeldebogen_KiSGruTu!F13,"") | K8: =IF(Mannschaftsmeldebogen_KiSGruTu!G13<>"",Mannschaftsmeldebogen_KiSGruTu!G13,"") | L8: =IF(Mannschaftsmeldebogen_KiSGruTu!H13<>"",Mannschaftsmeldebogen_KiSGruTu!H13,"") | M8: =IF(Mannschaftsmeldebogen_KiSGruTu!I13<>"",Mannschaftsmeldebogen_KiSGruTu!I13,"") | W8: =IF(Karimeldebogen!B14<>"",Karimeldebogen!B14,"") | X8: =IF(Karimeldebogen!C14<>"",Karimeldebogen!C14,"") | Y8: =IF(Karimeldebogen!D14<>"",Karimeldebogen!D14,"") | Z8: =IF(Karimeldebogen!E14<>"",Karimeldebogen!E14,"") | AA8: =IF(Karimeldebogen!F14<>"",Karimeldebogen!F14,"") | AB8: =IF(Karimeldebogen!G14<>"",Karimeldebogen!G14,"") | AC8: =IF(Mannschaftsmeldebogen_KiSGruTu!J13<>"",Mannschaftsmeldebogen_KiSGruTu!J13,"") | AQ8: ='T-Shirts'!B12 -> S | AR8: ='T-Shirts'!C12 -> 0 | AT8: =IF('weitere Anmeldungen'!D11<>"",Hauptmeldebogen_KiSGruTu!$C$7,"") | AU8: =IF('weitere Anmeldungen'!D11<>"",'weitere Anmeldungen'!D11,"") | AV8: =IF('weitere Anmeldungen'!E11<>"",'weitere Anmeldungen'!E11,"")
C9: =IF(Mannschaftsmeldebogen_KiSGruTu!B14<>"",Hauptmeldebogen_KiSGruTu!$C$7,"") | D9: =IF(Mannschaftsmeldebogen_KiSGruTu!B14<>"",Mannschaftsmeldebogen_KiSGruTu!B14,"") | E9: =IF(Mannschaftsmeldebogen_KiSGruTu!C14<>"",Mannschaftsmeldebogen_KiSGruTu!C14,"") | F9: =COUNTIF(mskvii[Geschlecht],RAW!M4) -> 0 | G9: =COUNTIF(mskvii[Geschlecht],RAW!M3) -> 0 | H9: =IF(Mannschaftsmeldebogen_KiSGruTu!D14<>"",Mannschaftsmeldebogen_KiSGruTu!D14,"") | I9: =IF(Mannschaftsmeldebogen_KiSGruTu!E14<>"",Mannschaftsmeldebogen_KiSGruTu!E14,"") | J9: =IF(Mannschaftsmeldebogen_KiSGruTu!F14<>"",Mannschaftsmeldebogen_KiSGruTu!F14,"") | K9: =IF(Mannschaftsmeldebogen_KiSGruTu!G14<>"",Mannschaftsmeldebogen_KiSGruTu!G14,"") | L9: =IF(Mannschaftsmeldebogen_KiSGruTu!H14<>"",Mannschaftsmeldebogen_KiSGruTu!H14,"") | M9: =IF(Mannschaftsmeldebogen_KiSGruTu!I14<>"",Mannschaftsmeldebogen_KiSGruTu!I14,"") | W9: =IF(Karimeldebogen!B15<>"",Karimeldebogen!B15,"") | X9: =IF(Karimeldebogen!C15<>"",Karimeldebogen!C15,"") | Y9: =IF(Karimeldebogen!D15<>"",Karimeldebogen!D15,"") | Z9: =IF(Karimeldebogen!E15<>"",Karimeldebogen!E15,"") | AA9: =IF(Karimeldebogen!F15<>"",Karimeldebogen!F15,"") | AB9: =IF(Karimeldebogen!G15<>"",Karimeldebogen!G15,"") | AC9: =IF(Mannschaftsmeldebogen_KiSGruTu!J14<>"",Mannschaftsmeldebogen_KiSGruTu!J14,"") | AQ9: ='T-Shirts'!B13 -> M | AR9: ='T-Shirts'!C13 -> 0 | AT9: =IF('weitere Anmeldungen'!D12<>"",Hauptmeldebogen_KiSGruTu!$C$7,"") | AU9: =IF('weitere Anmeldungen'!D12<>"",'weitere Anmeldungen'!D12,"") | AV9: =IF('weitere Anmeldungen'!E12<>"",'weitere Anmeldungen'!E12,"")
C10: =IF(Mannschaftsmeldebogen_KiSGruTu!B15<>"",Hauptmeldebogen_KiSGruTu!$C$7,"") | D10: =IF(Mannschaftsmeldebogen_KiSGruTu!B15<>"",Mannschaftsmeldebogen_KiSGruTu!B15,"") | E10: =IF(Mannschaftsmeldebogen_KiSGruTu!C15<>"",Mannschaftsmeldebogen_KiSGruTu!C15,"") | F10: =COUNTIF(mskviii[Geschlecht],RAW!M4) -> 0 | G10: =COUNTIF(mskviii[Geschlecht],RAW!M3) -> 0 | H10: =IF(Mannschaftsmeldebogen_KiSGruTu!D15<>"",Mannschaftsmeldebogen_KiSGruTu!D15,"") | I10: =IF(Mannschaftsmeldebogen_KiSGruTu!E15<>"",Mannschaftsmeldebogen_KiSGruTu!E15,"") | J10: =IF(Mannschaftsmeldebogen_KiSGruTu!F15<>"",Mannschaftsmeldebogen_KiSGruTu!F15,"") | K10: =IF(Mannschaftsmeldebogen_KiSGruTu!G15<>"",Mannschaftsmeldebogen_KiSGruTu!G15,"") | L10: =IF(Mannschaftsmeldebogen_KiSGruTu!H15<>"",Mannschaftsmeldebogen_KiSGruTu!H15,"") | M10: =IF(Mannschaftsmeldebogen_KiSGruTu!I15<>"",Mannschaftsmeldebogen_KiSGruTu!I15,"") | W10: =IF(Karimeldebogen!B16<>"",Karimeldebogen!B16,"") | X10: =IF(Karimeldebogen!C16<>"",Karimeldebogen!C16,"") | Y10: =IF(Karimeldebogen!D16<>"",Karimeldebogen!D16,"") | Z10: =IF(Karimeldebogen!E16<>"",Karimeldebogen!E16,"") | AA10: =IF(Karimeldebogen!F16<>"",Karimeldebogen!F16,"") | AB10: =IF(Karimeldebogen!G16<>"",Karimeldebogen!G16,"") | AC10: =IF(Mannschaftsmeldebogen_KiSGruTu!J15<>"",Mannschaftsmeldebogen_KiSGruTu!J15,"") | AQ10: ='T-Shirts'!B14 -> L | AR10: ='T-Shirts'!C14 -> 0 | AT10: =IF('weitere Anmeldungen'!D13<>"",Hauptmeldebogen_KiSGruTu!$C$7,"") | AU10: =IF('weitere Anmeldungen'!D13<>"",'weitere Anmeldungen'!D13,"") | AV10: =IF('weitere Anmeldungen'!E13<>"",'weitere Anmeldungen'!E13,"")
C11: =IF(Mannschaftsmeldebogen_KiSGruTu!B16<>"",Hauptmeldebogen_KiSGruTu!$C$7,"") | D11: =IF(Mannschaftsmeldebogen_KiSGruTu!B16<>"",Mannschaftsmeldebogen_KiSGruTu!B16,"") | E11: =IF(Mannschaftsmeldebogen_KiSGruTu!C16<>"",Mannschaftsmeldebogen_KiSGruTu!C16,"") | F11: =COUNTIF(mskix[Geschlecht],RAW!M4) -> 0 | G11: =COUNTIF(mskix[Geschlecht],RAW!M3) -> 0 | H11: =IF(Mannschaftsmeldebogen_KiSGruTu!D16<>"",Mannschaftsmeldebogen_KiSGruTu!D16,"") | I11: =IF(Mannschaftsmeldebogen_KiSGruTu!E16<>"",Mannschaftsmeldebogen_KiSGruTu!E16,"") | J11: =IF(Mannschaftsmeldebogen_KiSGruTu!F16<>"",Mannschaftsmeldebogen_KiSGruTu!F16,"") | K11: =IF(Mannschaftsmeldebogen_KiSGruTu!G16<>"",Mannschaftsmeldebogen_KiSGruTu!G16,"") | L11: =IF(Mannschaftsmeldebogen_KiSGruTu!H16<>"",Mannschaftsmeldebogen_KiSGruTu!H16,"") | M11: =IF(Mannschaftsmeldebogen_KiSGruTu!I16<>"",Mannschaftsmeldebogen_KiSGruTu!I16,"") | W11: =IF(Karimeldebogen!B17<>"",Karimeldebogen!B17,"") | X11: =IF(Karimeldebogen!C17<>"",Karimeldebogen!C17,"") | Y11: =IF(Karimeldebogen!D17<>"",Karimeldebogen!D17,"") | Z11: =IF(Karimeldebogen!E17<>"",Karimeldebogen!E17,"") | AA11: =IF(Karimeldebogen!F17<>"",Karimeldebogen!F17,"") | AB11: =IF(Karimeldebogen!G17<>"",Karimeldebogen!G17,"") | AC11: =IF(Mannschaftsmeldebogen_KiSGruTu!J16<>"",Mannschaftsmeldebogen_KiSGruTu!J16,"") | AQ11: ='T-Shirts'!B15 -> XL | AR11: ='T-Shirts'!C15 -> 0 | AT11: =IF('weitere Anmeldungen'!D14<>"",Hauptmeldebogen_KiSGruTu!$C$7,"") | AU11: =IF('weitere Anmeldungen'!D14<>"",'weitere Anmeldungen'!D14,"") | AV11: =IF('weitere Anmeldungen'!E14<>"",'weitere Anmeldungen'!E14,"")
C12: =IF(Mannschaftsmeldebogen_KiSGruTu!B17<>"",Hauptmeldebogen_KiSGruTu!$C$7,"") | D12: =IF(Mannschaftsmeldebogen_KiSGruTu!B17<>"",Mannschaftsmeldebogen_KiSGruTu!B17,"") | E12: =IF(Mannschaftsmeldebogen_KiSGruTu!C17<>"",Mannschaftsmeldebogen_KiSGruTu!C17,"") | F12: =COUNTIF(mskx[Geschlecht],RAW!M4) -> 0 | G12: =COUNTIF(mskx[Geschlecht],RAW!M3) -> 0 | H12: =IF(Mannschaftsmeldebogen_KiSGruTu!D17<>"",Mannschaftsmeldebogen_KiSGruTu!D17,"") | I12: =IF(Mannschaftsmeldebogen_KiSGruTu!E17<>"",Mannschaftsmeldebogen_KiSGruTu!E17,"") | J12: =IF(Mannschaftsmeldebogen_KiSGruTu!F17<>"",Mannschaftsmeldebogen_KiSGruTu!F17,"") | K12: =IF(Mannschaftsmeldebogen_KiSGruTu!G17<>"",Mannschaftsmeldebogen_KiSGruTu!G17,"") | L12: =IF(Mannschaftsmeldebogen_KiSGruTu!H17<>"",Mannschaftsmeldebogen_KiSGruTu!H17,"") | M12: =IF(Mannschaftsmeldebogen_KiSGruTu!I17<>"",Mannschaftsmeldebogen_KiSGruTu!I17,"") | W12: =IF(Karimeldebogen!B18<>"",Karimeldebogen!B18,"") | X12: =IF(Karimeldebogen!C18<>"",Karimeldebogen!C18,"") | Y12: =IF(Karimeldebogen!D18<>"",Karimeldebogen!D18,"") | Z12: =IF(Karimeldebogen!E18<>"",Karimeldebogen!E18,"") | AA12: =IF(Karimeldebogen!F18<>"",Karimeldebogen!F18,"") | AB12: =IF(Karimeldebogen!G18<>"",Karimeldebogen!G18,"") | AC12: =IF(Mannschaftsmeldebogen_KiSGruTu!J17<>"",Mannschaftsmeldebogen_KiSGruTu!J17,"") | AQ12: ='T-Shirts'!B16 -> XXL | AR12: ='T-Shirts'!C16 -> 0 | AT12: =IF('weitere Anmeldungen'!D15<>"",Hauptmeldebogen_KiSGruTu!$C$7,"") | AU12: =IF('weitere Anmeldungen'!D15<>"",'weitere Anmeldungen'!D15,"") | AV12: =IF('weitere Anmeldungen'!E15<>"",'weitere Anmeldungen'!E15,"")
C13: =IF(Mannschaftsmeldebogen_KiSGruTu!B18<>"",Hauptmeldebogen_KiSGruTu!$C$7,"") | D13: =IF(Mannschaftsmeldebogen_KiSGruTu!B18<>"",Mannschaftsmeldebogen_KiSGruTu!B18,"") | E13: =IF(Mannschaftsmeldebogen_KiSGruTu!C18<>"",Mannschaftsmeldebogen_KiSGruTu!C18,"") | F13: =COUNTIF(mskxi[Geschlecht],RAW!M4) -> 0 | G13: =COUNTIF(mskxi[Geschlecht],RAW!M3) -> 0 | H13: =IF(Mannschaftsmeldebogen_KiSGruTu!D18<>"",Mannschaftsmeldebogen_KiSGruTu!D18,"") | I13: =IF(Mannschaftsmeldebogen_KiSGruTu!E18<>"",Mannschaftsmeldebogen_KiSGruTu!E18,"") | J13: =IF(Mannschaftsmeldebogen_KiSGruTu!F18<>"",Mannschaftsmeldebogen_KiSGruTu!F18,"") | K13: =IF(Mannschaftsmeldebogen_KiSGruTu!G18<>"",Mannschaftsmeldebogen_KiSGruTu!G18,"") | L13: =IF(Mannschaftsmeldebogen_KiSGruTu!H18<>"",Mannschaftsmeldebogen_KiSGruTu!H18,"") | M13: =IF(Mannschaftsmeldebogen_KiSGruTu!I18<>"",Mannschaftsmeldebogen_KiSGruTu!I18,"") | W13: =IF(Karimeldebogen!B19<>"",Karimeldebogen!B19,"") | X13: =IF(Karimeldebogen!C19<>"",Karimeldebogen!C19,"") | Y13: =IF(Karimeldebogen!D19<>"",Karimeldebogen!D19,"") | Z13: =IF(Karimeldebogen!E19<>"",Karimeldebogen!E19,"") | AA13: =IF(Karimeldebogen!F19<>"",Karimeldebogen!F19,"") | AB13: =IF(Karimeldebogen!G19<>"",Karimeldebogen!G19,"") | AC13: =IF(Mannschaftsmeldebogen_KiSGruTu!J18<>"",Mannschaftsmeldebogen_KiSGruTu!J18,"")
C14: =IF(Mannschaftsmeldebogen_KiSGruTu!B19<>"",Hauptmeldebogen_KiSGruTu!$C$7,"") | D14: =IF(Mannschaftsmeldebogen_KiSGruTu!B19<>"",Mannschaftsmeldebogen_KiSGruTu!B19,"") | E14: =IF(Mannschaftsmeldebogen_KiSGruTu!C19<>"",Mannschaftsmeldebogen_KiSGruTu!C19,"") | F14: =COUNTIF(mskxii[Geschlecht],RAW!M4) -> 0 | G14: =COUNTIF(mskxii[Geschlecht],RAW!M3) -> 0 | H14: =IF(Mannschaftsmeldebogen_KiSGruTu!D19<>"",Mannschaftsmeldebogen_KiSGruTu!D19,"") | I14: =IF(Mannschaftsmeldebogen_KiSGruTu!E19<>"",Mannschaftsmeldebogen_KiSGruTu!E19,"") | J14: =IF(Mannschaftsmeldebogen_KiSGruTu!F19<>"",Mannschaftsmeldebogen_KiSGruTu!F19,"") | K14: =IF(Mannschaftsmeldebogen_KiSGruTu!G19<>"",Mannschaftsmeldebogen_KiSGruTu!G19,"") | L14: =IF(Mannschaftsmeldebogen_KiSGruTu!H19<>"",Mannschaftsmeldebogen_KiSGruTu!H19,"") | M14: =IF(Mannschaftsmeldebogen_KiSGruTu!I19<>"",Mannschaftsmeldebogen_KiSGruTu!I19,"") | W14: =IF(Karimeldebogen!B20<>"",Karimeldebogen!B20,"") | X14: =IF(Karimeldebogen!C20<>"",Karimeldebogen!C20,"") | Y14: =IF(Karimeldebogen!D20<>"",Karimeldebogen!D20,"") | Z14: =IF(Karimeldebogen!E20<>"",Karimeldebogen!E20,"") | AA14: =IF(Karimeldebogen!F20<>"",Karimeldebogen!F20,"") | AB14: =IF(Karimeldebogen!G20<>"",Karimeldebogen!G20,"") | AC14: =IF(Mannschaftsmeldebogen_KiSGruTu!J19<>"",Mannschaftsmeldebogen_KiSGruTu!J19,"")
C15: =IF(Mannschaftsmeldebogen_KiSGruTu!B20<>"",Hauptmeldebogen_KiSGruTu!$C$7,"") | D15: =IF(Mannschaftsmeldebogen_KiSGruTu!B20<>"",Mannschaftsmeldebogen_KiSGruTu!B20,"") | E15: =IF(Mannschaftsmeldebogen_KiSGruTu!C20<>"",Mannschaftsmeldebogen_KiSGruTu!C20,"") | F15: =COUNTIF(mskxiii[Geschlecht],RAW!M4) -> 0 | G15: =COUNTIF(mskxiii[Geschlecht],RAW!M3) -> 0 | H15: =IF(Mannschaftsmeldebogen_KiSGruTu!D20<>"",Mannschaftsmeldebogen_KiSGruTu!D20,"") | I15: =IF(Mannschaftsmeldebogen_KiSGruTu!E20<>"",Mannschaftsmeldebogen_KiSGruTu!E20,"") | J15: =IF(Mannschaftsmeldebogen_KiSGruTu!F20<>"",Mannschaftsmeldebogen_KiSGruTu!F20,"") | K15: =IF(Mannschaftsmeldebogen_KiSGruTu!G20<>"",Mannschaftsmeldebogen_KiSGruTu!G20,"") | L15: =IF(Mannschaftsmeldebogen_KiSGruTu!H20<>"",Mannschaftsmeldebogen_KiSGruTu!H20,"") | M15: =IF(Mannschaftsmeldebogen_KiSGruTu!I20<>"",Mannschaftsmeldebogen_KiSGruTu!I20,"") | W15: =IF(Karimeldebogen!B21<>"",Karimeldebogen!B21,"") | X15: =IF(Karimeldebogen!C21<>"",Karimeldebogen!C21,"") | Y15: =IF(Karimeldebogen!D21<>"",Karimeldebogen!D21,"") | Z15: =IF(Karimeldebogen!E21<>"",Karimeldebogen!E21,"") | AA15: =IF(Karimeldebogen!F21<>"",Karimeldebogen!F21,"") | AB15: =IF(Karimeldebogen!G21<>"",Karimeldebogen!G21,"") | AC15: =IF(Mannschaftsmeldebogen_KiSGruTu!J20<>"",Mannschaftsmeldebogen_KiSGruTu!J20,"") | AT15: Erwachsene Verein | AU15: Erwachsene NN | AV15: Erwachsene VN
AT16: =IF('weitere Anmeldungen'!D18<>"",Hauptmeldebogen_KiSGruTu!$C$7,"") | AU16: =IF('weitere Anmeldungen'!D18<>"",'weitere Anmeldungen'!D18,"") | AV16: =IF('weitere Anmeldungen'!E18<>"",'weitere Anmeldungen'!E18,"")
AT17: =IF('weitere Anmeldungen'!D19<>"",Hauptmeldebogen_KiSGruTu!$C$7,"") | AU17: =IF('weitere Anmeldungen'!D19<>"",'weitere Anmeldungen'!D19,"") | AV17: =IF('weitere Anmeldungen'!E19<>"",'weitere Anmeldungen'!E19,"")
AT18: =IF('weitere Anmeldungen'!D20<>"",Hauptmeldebogen_KiSGruTu!$C$7,"") | AU18: =IF('weitere Anmeldungen'!D20<>"",'weitere Anmeldungen'!D20,"") | AV18: =IF('weitere Anmeldungen'!E20<>"",'weitere Anmeldungen'!E20,"")
AT19: =IF('weitere Anmeldungen'!D21<>"",Hauptmeldebogen_KiSGruTu!$C$7,"") | AU19: =IF('weitere Anmeldungen'!D21<>"",'weitere Anmeldungen'!D21,"") | AV19: =IF('weitere Anmeldungen'!E21<>"",'weitere Anmeldungen'!E21,"")
AT20: =IF('weitere Anmeldungen'!D22<>"",Hauptmeldebogen_KiSGruTu!$C$7,"") | AU20: =IF('weitere Anmeldungen'!D22<>"",'weitere Anmeldungen'!D22,"") | AV20: =IF('weitere Anmeldungen'!E22<>"",'weitere Anmeldungen'!E22,"")
AT21: =IF('weitere Anmeldungen'!D23<>"",Hauptmeldebogen_KiSGruTu!$C$7,"") | AU21: =IF('weitere Anmeldungen'!D23<>"",'weitere Anmeldungen'!D23,"") | AV21: =IF('weitere Anmeldungen'!E23<>"",'weitere Anmeldungen'!E23,"")
AT22: =IF('weitere Anmeldungen'!D24<>"",Hauptmeldebogen_KiSGruTu!$C$7,"") | AU22: =IF('weitere Anmeldungen'!D24<>"",'weitere Anmeldungen'!D24,"") | AV22: =IF('weitere Anmeldungen'!E24<>"",'weitere Anmeldungen'!E24,"")
AT23: =IF('weitere Anmeldungen'!D25<>"",Hauptmeldebogen_KiSGruTu!$C$7,"") | AU23: =IF('weitere Anmeldungen'!D25<>"",'weitere Anmeldungen'!D25,"") | AV23: =IF('weitere Anmeldungen'!E25<>"",'weitere Anmeldungen'!E25,"")
AT24: =IF('weitere Anmeldungen'!D26<>"",Hauptmeldebogen_KiSGruTu!$C$7,"") | AU24: =IF('weitere Anmeldungen'!D26<>"",'weitere Anmeldungen'!D26,"") | AV24: =IF('weitere Anmeldungen'!E26<>"",'weitere Anmeldungen'!E26,"")
AT25: =IF('weitere Anmeldungen'!D27<>"",Hauptmeldebogen_KiSGruTu!$C$7,"") | AU25: =IF('weitere Anmeldungen'!D27<>"",'weitere Anmeldungen'!D27,"") | AV25: =IF('weitere Anmeldungen'!E27<>"",'weitere Anmeldungen'!E27,"")
AT26: =IF('weitere Anmeldungen'!D28<>"",Hauptmeldebogen_KiSGruTu!$C$7,"") | AU26: =IF('weitere Anmeldungen'!D28<>"",'weitere Anmeldungen'!D28,"") | AV26: =IF('weitere Anmeldungen'!E28<>"",'weitere Anmeldungen'!E28,"")
AT27: =IF('weitere Anmeldungen'!D29<>"",Hauptmeldebogen_KiSGruTu!$C$7,"") | AU27: =IF('weitere Anmeldungen'!D29<>"",'weitere Anmeldungen'!D29,"") | AV27: =IF('weitere Anmeldungen'!E29<>"",'weitere Anmeldungen'!E29,"")
... AT30: =IF('weitere Anmeldungen'!D32<>"",Hauptmeldebogen_KiSGruTu!$C$7,"") | AU30: =IF('weitere Anmeldungen'!D32<>"",'weitere Anmeldungen'!D32,"") | AV30: =IF('weitere Anmeldungen'!E32<>"",'weitere Anmeldungen'!E32,"")

Sheet Gesamt Teilnehmer KisGruTu
B2: Verein | C2: Mannschaft | D2: Klasse | E2: Nachname | F2: Vorname | G2: Geschlecht | H2: Jahrgang
B3: =IF(Tabelle1848[[#This Row],[Nachname]]<>"",Mannschaftsmeldebogen_KiSGruTu!$B$3,"") | C3: =IF(Tabelle1848[[#This Row],[Nachname]]<>"",Mannschaftsmeldebogen_KiSGruTu!$B$8,"") | D3: =IF(Tabelle1848[[#This Row],[Nachname]]<>"",Mannschaftsmeldebogen_KiSGruTu!$C$8,"") | E3: =IF(Mannschaftsmeldebogen_KiSGruTu!D24<>"",Mannschaftsmeldebogen_KiSGruTu!D24,"") | F3: =IF(Mannschaftsmeldebogen_KiSGruTu!E24<>"",Mannschaftsmeldebogen_KiSGruTu!E24,"") | G3: =IF(Mannschaftsmeldebogen_KiSGruTu!F24<>"",Mannschaftsmeldebogen_KiSGruTu!F24,"") | H3: =IF(Mannschaftsmeldebogen_KiSGruTu!G24<>"",Mannschaftsmeldebogen_KiSGruTu!G24,"")
B4: =IF(Tabelle1848[[#This Row],[Nachname]]<>"",Mannschaftsmeldebogen_KiSGruTu!$B$3,"") | C4: =IF(Tabelle1848[[#This Row],[Nachname]]<>"",Mannschaftsmeldebogen_KiSGruTu!$B$8,"") | D4: =IF(Tabelle1848[[#This Row],[Nachname]]<>"",Mannschaftsmeldebogen_KiSGruTu!$C$8,"") | E4: =IF(Mannschaftsmeldebogen_KiSGruTu!D25<>"",Mannschaftsmeldebogen_KiSGruTu!D25,"") | F4: =IF(Mannschaftsmeldebogen_KiSGruTu!E25<>"",Mannschaftsmeldebogen_KiSGruTu!E25,"") | G4: =IF(Mannschaftsmeldebogen_KiSGruTu!F25<>"",Mannschaftsmeldebogen_KiSGruTu!F25,"") | H4: =IF(Mannschaftsmeldebogen_KiSGruTu!G25<>"",Mannschaftsmeldebogen_KiSGruTu!G25,"")
B5: =IF(Tabelle1848[[#This Row],[Nachname]]<>"",Mannschaftsmeldebogen_KiSGruTu!$B$3,"") | C5: =IF(Tabelle1848[[#This Row],[Nachname]]<>"",Mannschaftsmeldebogen_KiSGruTu!$B$8,"") | D5: =IF(Tabelle1848[[#This Row],[Nachname]]<>"",Mannschaftsmeldebogen_KiSGruTu!$C$8,"") | E5: =IF(Mannschaftsmeldebogen_KiSGruTu!D26<>"",Mannschaftsmeldebogen_KiSGruTu!D26,"") | F5: =IF(Mannschaftsmeldebogen_KiSGruTu!E26<>"",Mannschaftsmeldebogen_KiSGruTu!E26,"") | G5: =IF(Mannschaftsmeldebogen_KiSGruTu!F26<>"",Mannschaftsmeldebogen_KiSGruTu!F26,"") | H5: =IF(Mannschaftsmeldebogen_KiSGruTu!G26<>"",Mannschaftsmeldebogen_KiSGruTu!G26,"")
B6: =IF(Tabelle1848[[#This Row],[Nachname]]<>"",Mannschaftsmeldebogen_KiSGruTu!$B$3,"") | C6: =IF(Tabelle1848[[#This Row],[Nachname]]<>"",Mannschaftsmeldebogen_KiSGruTu!$B$8,"") | D6: =IF(Tabelle1848[[#This Row],[Nachname]]<>"",Mannschaftsmeldebogen_KiSGruTu!$C$8,"") | E6: =IF(Mannschaftsmeldebogen_KiSGruTu!D27<>"",Mannschaftsmeldebogen_KiSGruTu!D27,"") | F6: =IF(Mannschaftsmeldebogen_KiSGruTu!E27<>"",Mannschaftsmeldebogen_KiSGruTu!E27,"") | G6: =IF(Mannschaftsmeldebogen_KiSGruTu!F27<>"",Mannschaftsmeldebogen_KiSGruTu!F27,"") | H6: =IF(Mannschaftsmeldebogen_KiSGruTu!G27<>"",Mannschaftsmeldebogen_KiSGruTu!G27,"")
B7: =IF(Tabelle1848[[#This Row],[Nachname]]<>"",Mannschaftsmeldebogen_KiSGruTu!$B$3,"") | C7: =IF(Tabelle1848[[#This Row],[Nachname]]<>"",Mannschaftsmeldebogen_KiSGruTu!$B$8,"") | D7: =IF(Tabelle1848[[#This Row],[Nachname]]<>"",Mannschaftsmeldebogen_KiSGruTu!$C$8,"") | E7: =IF(Mannschaftsmeldebogen_KiSGruTu!D28<>"",Mannschaftsmeldebogen_KiSGruTu!D28,"") | F7: =IF(Mannschaftsmeldebogen_KiSGruTu!E28<>"",Mannschaftsmeldebogen_KiSGruTu!E28,"") | G7: =IF(Mannschaftsmeldebogen_KiSGruTu!F28<>"",Mannschaftsmeldebogen_KiSGruTu!F28,"") | H7: =IF(Mannschaftsmeldebogen_KiSGruTu!G28<>"",Mannschaftsmeldebogen_KiSGruTu!G28,"")
B8: =IF(Tabelle1848[[#This Row],[Nachname]]<>"",Mannschaftsmeldebogen_KiSGruTu!$B$3,"") | C8: =IF(Tabelle1848[[#This Row],[Nachname]]<>"",Mannschaftsmeldebogen_KiSGruTu!$B$8,"") | D8: =IF(Tabelle1848[[#This Row],[Nachname]]<>"",Mannschaftsmeldebogen_KiSGruTu!$C$8,"") | E8: =IF(Mannschaftsmeldebogen_KiSGruTu!D29<>"",Mannschaftsmeldebogen_KiSGruTu!D29,"") | F8: =IF(Mannschaftsmeldebogen_KiSGruTu!E29<>"",Mannschaftsmeldebogen_KiSGruTu!E29,"") | G8: =IF(Mannschaftsmeldebogen_KiSGruTu!F29<>"",Mannschaftsmeldebogen_KiSGruTu!F29,"") | H8: =IF(Mannschaftsmeldebogen_KiSGruTu!G29<>"",Mannschaftsmeldebogen_KiSGruTu!G29,"")
B9: =IF(Tabelle1848[[#This Row],[Nachname]]<>"",Mannschaftsmeldebogen_KiSGruTu!$B$3,"") | C9: =IF(Tabelle1848[[#This Row],[Nachname]]<>"",Mannschaftsmeldebogen_KiSGruTu!$B$8,"") | D9: =IF(Tabelle1848[[#This Row],[Nachname]]<>"",Mannschaftsmeldebogen_KiSGruTu!$C$8,"") | E9: =IF(Mannschaftsmeldebogen_KiSGruTu!D30<>"",Mannschaftsmeldebogen_KiSGruTu!D30,"") | F9: =IF(Mannschaftsmeldebogen_KiSGruTu!E30<>"",Mannschaftsmeldebogen_KiSGruTu!E30,"") | G9: =IF(Mannschaftsmeldebogen_KiSGruTu!F30<>"",Mannschaftsmeldebogen_KiSGruTu!F30,"") | H9: =IF(Mannschaftsmeldebogen_KiSGruTu!G30<>"",Mannschaftsmeldebogen_KiSGruTu!G30,"")
B10: =IF(Tabelle1848[[#This Row],[Nachname]]<>"",Mannschaftsmeldebogen_KiSGruTu!$B$3,"") | C10: =IF(Tabelle1848[[#This Row],[Nachname]]<>"",Mannschaftsmeldebogen_KiSGruTu!$B$8,"") | D10: =IF(Tabelle1848[[#This Row],[Nachname]]<>"",Mannschaftsmeldebogen_KiSGruTu!$C$8,"") | E10: =IF(Mannschaftsmeldebogen_KiSGruTu!D31<>"",Mannschaftsmeldebogen_KiSGruTu!D31,"") | F10: =IF(Mannschaftsmeldebogen_KiSGruTu!E31<>"",Mannschaftsmeldebogen_KiSGruTu!E31,"") | G10: =IF(Mannschaftsmeldebogen_KiSGruTu!F31<>"",Mannschaftsmeldebogen_KiSGruTu!F31,"") | H10: =IF(Mannschaftsmeldebogen_KiSGruTu!G31<>"",Mannschaftsmeldebogen_KiSGruTu!G31,"")
B11: =IF(Tabelle1848[[#This Row],[Nachname]]<>"",Mannschaftsmeldebogen_KiSGruTu!$B$3,"") | C11: =IF(Tabelle1848[[#This Row],[Nachname]]<>"",Mannschaftsmeldebogen_KiSGruTu!$B$8,"") | D11: =IF(Tabelle1848[[#This Row],[Nachname]]<>"",Mannschaftsmeldebogen_KiSGruTu!$C$8,"") | E11: =IF(Mannschaftsmeldebogen_KiSGruTu!D32<>"",Mannschaftsmeldebogen_KiSGruTu!D32,"") | F11: =IF(Mannschaftsmeldebogen_KiSGruTu!E32<>"",Mannschaftsmeldebogen_KiSGruTu!E32,"") | G11: =IF(Mannschaftsmeldebogen_KiSGruTu!F32<>"",Mannschaftsmeldebogen_KiSGruTu!F32,"") | H11: =IF(Mannschaftsmeldebogen_KiSGruTu!G32<>"",Mannschaftsmeldebogen_KiSGruTu!G32,"")
B12: =IF(Tabelle1848[[#This Row],[Nachname]]<>"",Mannschaftsmeldebogen_KiSGruTu!$B$3,"") | C12: =IF(Tabelle1848[[#This Row],[Nachname]]<>"",Mannschaftsmeldebogen_KiSGruTu!$B$8,"") | D12: =IF(Tabelle1848[[#This Row],[Nachname]]<>"",Mannschaftsmeldebogen_KiSGruTu!$C$8,"") | E12: =IF(Mannschaftsmeldebogen_KiSGruTu!D33<>"",Mannschaftsmeldebogen_KiSGruTu!D33,"") | F12: =IF(Mannschaftsmeldebogen_KiSGruTu!E33<>"",Mannschaftsmeldebogen_KiSGruTu!E33,"") | G12: =IF(Mannschaftsmeldebogen_KiSGruTu!F33<>"",Mannschaftsmeldebogen_KiSGruTu!F33,"") | H12: =IF(Mannschaftsmeldebogen_KiSGruTu!G33<>"",Mannschaftsmeldebogen_KiSGruTu!G33,"")
B13: =IF(Tabelle1848[[#This Row],[Nachname]]<>"",Mannschaftsmeldebogen_KiSGruTu!$B$3,"") | C13: =IF(Tabelle1848[[#This Row],[Nachname]]<>"",Mannschaftsmeldebogen_KiSGruTu!$B$8,"") | D13: =IF(Tabelle1848[[#This Row],[Nachname]]<>"",Mannschaftsmeldebogen_KiSGruTu!$C$8,"") | E13: =IF(Mannschaftsmeldebogen_KiSGruTu!D34<>"",Mannschaftsmeldebogen_KiSGruTu!D34,"") | F13: =IF(Mannschaftsmeldebogen_KiSGruTu!E34<>"",Mannschaftsmeldebogen_KiSGruTu!E34,"") | G13: =IF(Mannschaftsmeldebogen_KiSGruTu!F34<>"",Mannschaftsmeldebogen_KiSGruTu!F34,"") | H13: =IF(Mannschaftsmeldebogen_KiSGruTu!G34<>"",Mannschaftsmeldebogen_KiSGruTu!G34,"")
B14: =IF(Tabelle1848[[#This Row],[Nachname]]<>"",Mannschaftsmeldebogen_KiSGruTu!$B$3,"") | C14: =IF(Tabelle1848[[#This Row],[Nachname]]<>"",Mannschaftsmeldebogen_KiSGruTu!$B$8,"") | D14: =IF(Tabelle1848[[#This Row],[Nachname]]<>"",Mannschaftsmeldebogen_KiSGruTu!$C$8,"") | E14: =IF(Mannschaftsmeldebogen_KiSGruTu!D35<>"",Mannschaftsmeldebogen_KiSGruTu!D35,"") | F14: =IF(Mannschaftsmeldebogen_KiSGruTu!E35<>"",Mannschaftsmeldebogen_KiSGruTu!E35,"") | G14: =IF(Mannschaftsmeldebogen_KiSGruTu!F35<>"",Mannschaftsmeldebogen_KiSGruTu!F35,"") | H14: =IF(Mannschaftsmeldebogen_KiSGruTu!G35<>"",Mannschaftsmeldebogen_KiSGruTu!G35,"")
... B18: =IF(Tabelle1848[[#This Row],[Nachname]]<>"",Mannschaftsmeldebogen_KiSGruTu!$B$3,"") | C18: =IF(Tabelle1848[[#This Row],[Nachname]]<>"",Mannschaftsmeldebogen_KiSGruTu!$B$8,"") | D18: =IF(Tabelle1848[[#This Row],[Nachname]]<>"",Mannschaftsmeldebogen_KiSGruTu!$C$8,"") | E18: =IF(Mannschaftsmeldebogen_KiSGruTu!D39<>"",Mannschaftsmeldebogen_KiSGruTu!D39,"") | F18: =IF(Mannschaftsmeldebogen_KiSGruTu!E39<>"",Mannschaftsmeldebogen_KiSGruTu!E39,"") | G18: =IF(Mannschaftsmeldebogen_KiSGruTu!F39<>"",Mannschaftsmeldebogen_KiSGruTu!F39,"") | H18: =IF(Mannschaftsmeldebogen_KiSGruTu!G39<>"",Mannschaftsmeldebogen_KiSGruTu!G39,"")
B19: =IF(Tabelle1848[[#This Row],[Nachname]]<>"",Mannschaftsmeldebogen_KiSGruTu!$B$3,"") | C19: =IF(Tabelle1848[[#This Row],[Nachname]]<>"",Mannschaftsmeldebogen_KiSGruTu!$B$9,"") | D19: =IF(Tabelle1848[[#This Row],[Nachname]]<>"",Mannschaftsmeldebogen_KiSGruTu!$C$9,"") | E19: =IF(Mannschaftsmeldebogen_KiSGruTu!D42<>"",Mannschaftsmeldebogen_KiSGruTu!D42,"") | F19: =IF(Mannschaftsmeldebogen_KiSGruTu!E42<>"",Mannschaftsmeldebogen_KiSGruTu!E42,"") | G19: =IF(Mannschaftsmeldebogen_KiSGruTu!F42<>"",Mannschaftsmeldebogen_KiSGruTu!F42,"") | H19: =IF(Mannschaftsmeldebogen_KiSGruTu!G42<>"",Mannschaftsmeldebogen_KiSGruTu!G42,"")
