Workbook
Name jahrgangausw: _xlfn.IFS(#REF!="SGW 1",RAW!#REF!,#REF!="SGW 2",RAW!#REF!)

Sheet Erklärung
B2: =RAW!B3 -> 34. Kinder- und Schülergruppenturniade
B3: =RAW!B6 -> vom 13. bis 15. November 2026 beim TSV Nord Harrislee
B5: =RAW!B9 -> Meldeschluss: 23. Oktober 2026
B7: Liebe TGW-Vereinsverantwortliche,
B9: bitte tragt in die Tabellenblätter Hauptmeldebogen, Karimeldebogen, Manschaftsmeldebogen, weitere Anmeldungen, weitere Angaben, T-Shirts und Essen eure Daten ein.
B12: Hauptmeldebogen
B14: Hier sind Formeln hinterlegt. Ihr braucht also nur die Anzahl der Gruppen und Kampfrichter einzutragen, die ihr meldet.
B17: Setzt die Zelle Fotoerlaubnis auf "ja oder "nein", um der folgenden Erklärung zuzustimmen oder diese abzulehnen. Im Rahmen der Veranstaltungen werden Fotos und Videos von der Presse zur Berichterstattung in Print- und Onlinemedien gemacht, ebenso wie zur Veröffentlichung in Print- und Onlinemedien des SHTV und der TuJuSH. Die beigefügten Informationen zum Datenschutz haben die Teilnehmer bzw. deren Sorgeberechtigte erhalten und zur Kenntnis genommen.
B24: Jeder Verein muss bei der Wettkampfmeldung versichern, dass seine Betreuenden, Trainer und Kampfrichter den Ehrenkodex und die Verhaltensregeln (beides nicht älter als vier Jahre) unterzeichnet haben. Des Weiteren muss dem Verein von den Personen, die in der Gemeinschaftsunterkunft übernachten, ein erweitertes Führungszeugnis vorliegen (nicht älter als vier Jahre).
B31: Karimeldebogen
B33: Bitte fügt hier die Daten eurer Kampfrichter ein, die ihr für diesen Wettkampf melden möchtet. Euer Vereinsname erscheint an dieser Stelle automatisch sowie die Anzahl eurer Mannschaften und benötigten Kampfrichter.
B37: T-Shirts
B39: Jede angemeldete Person bekommt ein T-Shirt. Bitte tragt hier die benötigte Anzahl ein!
B43: Mannschaftsmeldebogen KiSGruTu
B45: Bitte tragt zuerst alle Mannschaften in die obere Tabelle mit der jeweiligen Wettkampfklasse und Disziplinen ein. Danach füllt für jede Mannschaft die entsprechende Tabelle aus und achtet auf die korrekte Angabe der Geburtsjahrgänge. Die Wettkampfklassen erscheinen rot hinterlegt, solange nicht die nötige Anzahl an Disziplinen ausgewählt ist.
... B58: Viele Grüße euer AK TGM/TGW/SGW Schleswig-Holstein

Sheet Hauptmeldebogen_KiSGruTu
B2: =RAW!B3 -> 34. Kinder- und Schülergruppenturniade
B3: =RAW!B6 -> vom 13. bis 15. November 2026 beim TSV Nord Harrislee
B5: =RAW!B9 -> Meldeschluss: 23. Oktober 2026
B7: Verein
B8: wird so auf der Urkunde verwendet
B10: Nachname | E10: 1 - 2 Gruppen = 1 Kampfrichter
B11: Vorname | E11: 3 - 4 Gruppen = 2 Kampfrichter
B12: E-Mail | E12: 5 - 6 Gruppen = 3 Kampfrichter
B13: Telefonnummer | E13: > 7 Gruppen = 4 Kampfrichter
B15: Anzahl Mannschaften
B16: Anzahl benötigte Kampfrichter | C16: =IF(C15<1,0,IF(AND(C15>0,C15<3),1,IF(AND(C15>2,C15<5),2,IF(AND(C15>4,C15<7),3,4)))) -> 0
B18: Anzahl gemeldete Kampfrichter | E18: Gebühr pro fehlendem Kampfrichter | F18: =RAW!B18 -> 100
B19: Anzahl fehlende Kampfrichter | C19: =IF(C16-C18<0,0,C16-C18) -> 0
B21: Anzahl Kinder | E21: Gebühr pro Kind (Teilnehmer/in, Ersatzperson, Gast) | F21: =RAW!B33 -> 45
B23: Anzahl Erwachsene | E23: Gebühr pro Erwachsener (Trainer/in, Betreuer/in, Kari) | F23: =RAW!B36 -> 30
B25: Fotoerlaubnis
B27: Ehrenkodex* | E27: *Ich versichere, dass dem Verein von allen anwesenden Betreuenden, Trainern und Kampfrichtern ein unterschriebener Ehrenkodex und die Verhaltensregeln (beides nicht älter als vier Jahre) vorliegt. Von den Personen, die in der Gemeinschaftsunterkunft übernachten, liegt ein aktuelles erweitertes Führungszeugnis vor.
B29: Überweisungsbetrag | C29: =SUM((C19*F18),(C21*F21),(C23*F23)) -> 0
B31: ="Die ermittelten Kosten sind fristgerecht bis zum "&TEXT(RAW!B39,"t. MMM. Jjjj ") &TEXT(RAW!B40,"") -> Die ermittelten Kosten sind fristgerecht bis zum 30. Okt. 2026 auf das folgende Konto zu überweisen:
B34: =TEXT(RAW!B43,"")&TEXT(RAW!B44,"") -> SHTV Turnerjugend VR Bank zwischen den Meeren
B35: =TEXT(RAW!B45,"")&TEXT(RAW!B46,"") -> IBAN: DE76 2139 0008 0002527510, BIC: GENODEF1NSH
B36: =TEXT(RAW!B47,"") &TEXT(C7,"") -> Verwendungszweck: Kisgrutu 2026 +
B38: Anmeldung verpflichtet zur Zahlung!

Sheet Karimeldebogen
D2: Verein | E2: =Hauptmeldebogen_KiSGruTu!C7 -> 0
D3: Anzahl Mannschaften | E3: =IF(Hauptmeldebogen_KiSGruTu!C15>0,Hauptmeldebogen_KiSGruTu!C15,0) -> 0
D4: Benötigte Kampfrichter | E4: =IF(Hauptmeldebogen_KiSGruTu!C16>0,Hauptmeldebogen_KiSGruTu!C16,0) -> 0
B6: Daten Kampfrichter
B8: Nachname | C8: Vorname | D8: Disziplin | E8: E-Mail | F8: Lizenz | G8: Anmerkungen

Sheet Mannschaftsmeldebogen_KiSGruTu
B2: Verein | D2: Es wurden zu wenige oder zu viele Disziplinen ausgewählt.
B3: =IF(Hauptmeldebogen_KiSGruTu!C7<>"",Hauptmeldebogen_KiSGruTu!C7,"") | D3: Je nach WK-Klasse ältere/jüngere Teilnehmer als der Durchschnitt.
D4: Diese Disziplinen müssen für die WK-Klasse ausgewählt werden (nur Starters).
B5: Daten Mannschaft
B7: Mannschaft | C7: Klasse | D7: Tu | E7: Si | F7: Ta | G7: Gym | H7: PSt | I7: Wurf | J7: Benötigte Geräte Turnen
L8: =SUM(msk[[#This Row],[Tu]:[Wurf]]) -> 0 | M8: =VLOOKUP(msk[[#This Row],[Klasse]],RAW!$D$11:$E$14,2) -> #N/A | N8: =VLOOKUP(msk[[#This Row],[Klasse]],RAW!$D$25:$E$28,2,0) -> #N/A
L9: =SUM(msk[[#This Row],[Tu]:[Wurf]]) -> 0 | M9: =VLOOKUP(msk[[#This Row],[Klasse]],RAW!$D$11:$E$14,2) -> #N/A | N9: =VLOOKUP(msk[[#This Row],[Klasse]],RAW!$D$25:$E$28,2,0) -> #N/A
L10: =SUM(msk[[#This Row],[Tu]:[Wurf]]) -> 0 | M10: =VLOOKUP(msk[[#This Row],[Klasse]],RAW!$D$11:$E$14,2) -> #N/A | N10: =VLOOKUP(msk[[#This Row],[Klasse]],RAW!$D$25:$E$28,2,0) -> #N/A
L11: =SUM(msk[[#This Row],[Tu]:[Wurf]]) -> 0 | M11: =VLOOKUP(msk[[#This Row],[Klasse]],RAW!$D$11:$E$14,2) -> #N/A | N11: =VLOOKUP(msk[[#This Row],[Klasse]],RAW!$D$25:$E$28,2,0) -> #N/A
L12: =SUM(msk[[#This Row],[Tu]:[Wurf]]) -> 0 | M12: =VLOOKUP(msk[[#This Row],[Klasse]],RAW!$D$11:$E$14,2) -> #N/A | N12: =VLOOKUP(msk[[#This Row],[Klasse]],RAW!$D$25:$E$28,2,0) -> #N/A
L13: =SUM(msk[[#This Row],[Tu]:[Wurf]]) -> 0 | M13: =VLOOKUP(msk[[#This Row],[Klasse]],RAW!$D$11:$E$14,2) -> #N/A | N13: =VLOOKUP(msk[[#This Row],[Klasse]],RAW!$D$25:$E$28,2,0) -> #N/A
L14: =SUM(msk[[#This Row],[Tu]:[Wurf]]) -> 0 | M14: =VLOOKUP(msk[[#This Row],[Klasse]],RAW!$D$11:$E$14,2) -> #N/A | N14: =VLOOKUP(msk[[#This Row],[Klasse]],RAW!$D$25:$E$28,2,0) -> #N/A
L15: =SUM(msk[[#This Row],[Tu]:[Wurf]]) -> 0 | M15: =VLOOKUP(msk[[#This Row],[Klasse]],RAW!$D$11:$E$14,2) -> #N/A | N15: =VLOOKUP(msk[[#This Row],[Klasse]],RAW!$D$25:$E$28,2,0) -> #N/A
L16: =SUM(msk[[#This Row],[Tu]:[Wurf]]) -> 0 | M16: =VLOOKUP(msk[[#This Row],[Klasse]],RAW!$D$11:$E$14,2) -> #N/A | N16: =VLOOKUP(msk[[#This Row],[Klasse]],RAW!$D$25:$E$28,2,0) -> #N/A
L17: =SUM(msk[[#This Row],[Tu]:[Wurf]]) -> 0 | M17: =VLOOKUP(msk[[#This Row],[Klasse]],RAW!$D$11:$E$14,2) -> #N/A | N17: =VLOOKUP(msk[[#This Row],[Klasse]],RAW!$D$25:$E$28,2,0) -> #N/A
L18: =SUM(msk[[#This Row],[Tu]:[Wurf]]) -> 0 | M18: =VLOOKUP(msk[[#This Row],[Klasse]],RAW!$D$11:$E$14,2) -> #N/A | N18: =VLOOKUP(msk[[#This Row],[Klasse]],RAW!$D$25:$E$28,2,0) -> #N/A
L19: =SUM(msk[[#This Row],[Tu]:[Wurf]]) -> 0 | M19: =VLOOKUP(msk[[#This Row],[Klasse]],RAW!$D$11:$E$14,2) -> #N/A | N19: =VLOOKUP(msk[[#This Row],[Klasse]],RAW!$D$25:$E$28,2,0) -> #N/A
L20: =SUM(msk[[#This Row],[Tu]:[Wurf]]) -> 0 | M20: =VLOOKUP(msk[[#This Row],[Klasse]],RAW!$D$11:$E$14,2) -> #N/A | N20: =VLOOKUP(msk[[#This Row],[Klasse]],RAW!$D$25:$E$28,2,0) -> #N/A
B23: =IF(B8<>"",B8,"") | D23: Nachname | E23: Vorname | F23: Geschlecht | G23: Jahrgang
C24: 1 | N24: =IF(G24="",FALSE(),IF(AND($C$8=RAW!$N$2,G24<RAW!$N$7),TRUE(),IF(AND($C$8=RAW!$P$2,G24<RAW!$P$8),TRUE(),IF(AND($C$8=RAW!$AD$2,G24<RAW!$AD$8),TRUE(),IF(AND($C$8=RAW!$AF$2,G24<RAW!$AF$8),TRUE(),IF(AND($C$8=RAW!$AH$2,G24<RAW!$AH$9),TRUE(),IF(AND($C$8=RAW!$AH$2,G24=RAW!$AH$8),TRUE(),FALSE()))))))) -> FALSE
C25: 2 | N25: =IF(G25="",FALSE(),IF(AND($C$8=RAW!$N$2,G25<RAW!$N$7),TRUE(),IF(AND($C$8=RAW!$P$2,G25<RAW!$P$8),TRUE(),IF(AND($C$8=RAW!$AD$2,G25<RAW!$AD$8),TRUE(),IF(AND($C$8=RAW!$AF$2,G25<RAW!$AF$8),TRUE(),IF(AND($C$8=RAW!$AH$2,G25<RAW!$AH$9),TRUE(),IF(AND($C$8=RAW!$AH$2,G25=RAW!$AH$8),TRUE(),FALSE()))))))) -> FALSE
C26: 3 | N26: =IF(G26="",FALSE(),IF(AND($C$8=RAW!$N$2,G26<RAW!$N$7),TRUE(),IF(AND($C$8=RAW!$P$2,G26<RAW!$P$8),TRUE(),IF(AND($C$8=RAW!$AD$2,G26<RAW!$AD$8),TRUE(),IF(AND($C$8=RAW!$AF$2,G26<RAW!$AF$8),TRUE(),IF(AND($C$8=RAW!$AH$2,G26<RAW!$AH$9),TRUE(),IF(AND($C$8=RAW!$AH$2,G26=RAW!$AH$8),TRUE(),FALSE()))))))) -> FALSE
C27: 4 | N27: =IF(G27="",FALSE(),IF(AND($C$8=RAW!$N$2,G27<RAW!$N$7),TRUE(),IF(AND($C$8=RAW!$P$2,G27<RAW!$P$8),TRUE(),IF(AND($C$8=RAW!$AD$2,G27<RAW!$AD$8),TRUE(),IF(AND($C$8=RAW!$AF$2,G27<RAW!$AF$8),TRUE(),IF(AND($C$8=RAW!$AH$2,G27<RAW!$AH$9),TRUE(),IF(AND($C$8=RAW!$AH$2,G27=RAW!$AH$8),TRUE(),FALSE()))))))) -> FALSE
C28: 5 | N28: =IF(G28="",FALSE(),IF(AND($C$8=RAW!$N$2,G28<RAW!$N$7),TRUE(),IF(AND($C$8=RAW!$P$2,G28<RAW!$P$8),TRUE(),IF(AND($C$8=RAW!$AD$2,G28<RAW!$AD$8),TRUE(),IF(AND($C$8=RAW!$AF$2,G28<RAW!$AF$8),TRUE(),IF(AND($C$8=RAW!$AH$2,G28<RAW!$AH$9),TRUE(),IF(AND($C$8=RAW!$AH$2,G28=RAW!$AH$8),TRUE(),FALSE()))))))) -> FALSE
C29: 6 | N29: =IF(G29="",FALSE(),IF(AND($C$8=RAW!$N$2,G29<RAW!$N$7),TRUE(),IF(AND($C$8=RAW!$P$2,G29<RAW!$P$8),TRUE(),IF(AND($C$8=RAW!$AD$2,G29<RAW!$AD$8),TRUE(),IF(AND($C$8=RAW!$AF$2,G29<RAW!$AF$8),TRUE(),IF(AND($C$8=RAW!$AH$2,G29<RAW!$AH$9),TRUE(),IF(AND($C$8=RAW!$AH$2,G29=RAW!$AH$8),TRUE(),FALSE()))))))) -> FALSE
C30: 7 | N30: =IF(G30="",FALSE(),IF(AND($C$8=RAW!$N$2,G30<RAW!$N$7),TRUE(),IF(AND($C$8=RAW!$P$2,G30<RAW!$P$8),TRUE(),IF(AND($C$8=RAW!$AD$2,G30<RAW!$AD$8),TRUE(),IF(AND($C$8=RAW!$AF$2,G30<RAW!$AF$8),TRUE(),IF(AND($C$8=RAW!$AH$2,G30<RAW!$AH$9),TRUE(),IF(AND($C$8=RAW!$AH$2,G30=RAW!$AH$8),TRUE(),FALSE()))))))) -> FALSE
C31: 8 | N31: =IF(G31="",FALSE(),IF(AND($C$8=RAW!$N$2,G31<RAW!$N$7),TRUE(),IF(AND($C$8=RAW!$P$2,G31<RAW!$P$8),TRUE(),IF(AND($C$8=RAW!$AD$2,G31<RAW!$AD$8),TRUE(),IF(AND($C$8=RAW!$AF$2,G31<RAW!$AF$8),TRUE(),IF(AND($C$8=RAW!$AH$2,G31<RAW!$AH$9),TRUE(),IF(AND($C$8=RAW!$AH$2,G31=RAW!$AH$8),TRUE(),FALSE()))))))) -> FALSE
C32: 9 | N32: =IF(G32="",FALSE(),IF(AND($C$8=RAW!$N$2,G32<RAW!$N$7),TRUE(),IF(AND($C$8=RAW!$P$2,G32<RAW!$P$8),TRUE(),IF(AND($C$8=RAW!$AD$2,G32<RAW!$AD$8),TRUE(),IF(AND($C$8=RAW!$AF$2,G32<RAW!$AF$8),TRUE(),IF(AND($C$8=RAW!$AH$2,G32<RAW!$AH$9),TRUE(),IF(AND($C$8=RAW!$AH$2,G32=RAW!$AH$8),TRUE(),FALSE()))))))) -> FALSE
C33: 10 | N33: =IF(G33="",FALSE(),IF(AND($C$8=RAW!$N$2,G33<RAW!$N$7),TRUE(),IF(AND($C$8=RAW!$P$2,G33<RAW!$P$8),TRUE(),IF(AND($C$8=RAW!$AD$2,G33<RAW!$AD$8),TRUE(),IF(AND($C$8=RAW!$AF$2,G33<RAW!$AF$8),TRUE(),IF(AND($C$8=RAW!$AH$2,G33<RAW!$AH$9),TRUE(),IF(AND($C$8=RAW!$AH$2,G33=RAW!$AH$8),TRUE(),FALSE()))))))) -> FALSE
C34: 11 | N34: =IF(G34="",FALSE(),IF(AND($C$8=RAW!$N$2,G34<RAW!$N$7),TRUE(),IF(AND($C$8=RAW!$P$2,G34<RAW!$P$8),TRUE(),IF(AND($C$8=RAW!$AD$2,G34<RAW!$AD$8),TRUE(),IF(AND($C$8=RAW!$AF$2,G34<RAW!$AF$8),TRUE(),IF(AND($C$8=RAW!$AH$2,G34<RAW!$AH$9),TRUE(),IF(AND($C$8=RAW!$AH$2,G34=RAW!$AH$8),TRUE(),FALSE()))))))) -> FALSE
C35: 12 | N35: =IF(G35="",FALSE(),IF(AND($C$8=RAW!$N$2,G35<RAW!$N$7),TRUE(),IF(AND($C$8=RAW!$P$2,G35<RAW!$P$8),TRUE(),IF(AND($C$8=RAW!$AD$2,G35<RAW!$AD$8),TRUE(),IF(AND($C$8=RAW!$AF$2,G35<RAW!$AF$8),TRUE(),IF(AND($C$8=RAW!$AH$2,G35<RAW!$AH$9),TRUE(),IF(AND($C$8=RAW!$AH$2,G35=RAW!$AH$8),TRUE(),FALSE()))))))) -> FALSE
... C39: 16 | N39: =IF(G39="",FALSE(),IF(AND($C$8=RAW!$N$2,G39<RAW!$N$7),TRUE(),IF(AND($C$8=RAW!$P$2,G39<RAW!$P$8),TRUE(),IF(AND($C$8=RAW!$AD$2,G39<RAW!$AD$8),TRUE(),IF(AND($C$8=RAW!$AF$2,G39<RAW!$AF$8),TRUE(),IF(AND($C$8=RAW!$AH$2,G39<RAW!$AH$9),TRUE(),IF(AND($C$8=RAW!$AH$2,G39=RAW!$AH$8),TRUE(),FALSE()))))))) -> FALSE
B41: =IF(B9<>"",B9,"") | D41: Nachname | E41: Vorname | F41: Geschlecht | G41: Jahrgang
C42: 1 | N42: =IF(G42="",FALSE(),IF(AND($C$9=RAW!$N$2,G42<RAW!$N$7),TRUE(),IF(AND($C$9=RAW!$P$2,G42<RAW!$P$8),TRUE(),IF(AND($C$9=RAW!$AD$2,G42<RAW!$AD$8),TRUE(),IF(AND($C$9=RAW!$AF$2,G42<RAW!$AF$8),TRUE(),IF(AND($C$9=RAW!$AH$2,G42<RAW!$AH$9),TRUE(),IF(AND($C$9=RAW!$AH$2,G42=RAW!$AH$8),TRUE(),FALSE()))))))) -> FALSE
C43: 2 | N43: =IF(G43="",FALSE(),IF(AND($C$9=RAW!$N$2,G43<RAW!$N$7),TRUE(),IF(AND($C$9=RAW!$P$2,G43<RAW!$P$8),TRUE(),IF(AND($C$9=RAW!$AD$2,G43<RAW!$AD$8),TRUE(),IF(AND($C$9=RAW!$AF$2,G43<RAW!$AF$8),TRUE(),IF(AND($C$9=RAW!$AH$2,G43<RAW!$AH$9),TRUE(),IF(AND($C$9=RAW!$AH$2,G43=RAW!$AH$8),TRUE(),FALSE()))))))) -> FALSE
C44: 3 | N44: =IF(G44="",FALSE(),IF(AND($C$9=RAW!$N$2,G44<RAW!$N$7),TRUE(),IF(AND($C$9=RAW!$P$2,G44<RAW!$P$8),TRUE(),IF(AND($C$9=RAW!$AD$2,G44<RAW!$AD$8),TRUE(),IF(AND($C$9=RAW!$AF$2,G44<RAW!$AF$8),TRUE(),IF(AND($C$9=RAW!$AH$2,G44<RAW!$AH$9),TRUE(),IF(AND($C$9=RAW!$AH$2,G44=RAW!$AH$8),TRUE(),FALSE()))))))) -> FALSE
C45: 4 | N45: =IF(G45="",FALSE(),IF(AND($C$9=RAW!$N$2,G45<RAW!$N$7),TRUE(),IF(AND($C$9=RAW!$P$2,G45<RAW!$P$8),TRUE(),IF(AND($C$9=RAW!$AD$2,G45<RAW!$AD$8),TRUE(),IF(AND($C$9=RAW!$AF$2,G45<RAW!$AF$8),TRUE(),IF(AND($C$9=RAW!$AH$2,G45<RAW!$AH$9),TRUE(),IF(AND($C$9=RAW!$AH$2,G45=RAW!$AH$8),TRUE(),FALSE()))))))) -> FALSE
C46: 5 | N46: =IF(G46="",FALSE(),IF(AND($C$9=RAW!$N$2,G46<RAW!$N$7),TRUE(),IF(AND($C$9=RAW!$P$2,G46<RAW!$P$8),TRUE(),IF(AND($C$9=RAW!$AD$2,G46<RAW!$AD$8),TRUE(),IF(AND($C$9=RAW!$AF$2,G46<RAW!$AF$8),TRUE(),IF(AND($C$9=RAW!$AH$2,G46<RAW!$AH$9),TRUE(),IF(AND($C$9=RAW!$AH$2,G46=RAW!$AH$8),TRUE(),FALSE()))))))) -> FALSE
C47: 6 | N47: =IF(G47="",FALSE(),IF(AND($C$9=RAW!$N$2,G47<RAW!$N$7),TRUE(),IF(AND($C$9=RAW!$P$2,G47<RAW!$P$8),TRUE(),IF(AND($C$9=RAW!$AD$2,G47<RAW!$AD$8),TRUE(),IF(AND($C$9=RAW!$AF$2,G47<RAW!$AF$8),TRUE(),IF(AND($C$9=RAW!$AH$2,G47<RAW!$AH$9),TRUE(),IF(AND($C$9=RAW!$AH$2,G47=RAW!$AH$8),TRUE(),FALSE()))))))) -> FALSE
C48: 7 | N48: =IF(G48="",FALSE(),IF(AND($C$9=RAW!$N$2,G48<RAW!$N$7),TRUE(),IF(AND($C$9=RAW!$P$2,G48<RAW!$P$8),TRUE(),IF(AND($C$9=RAW!$AD$2,G48<RAW!$AD$8),TRUE(),IF(AND($C$9=RAW!$AF$2,G48<RAW!$AF$8),TRUE(),IF(AND($C$9=RAW!$AH$2,G48<RAW!$AH$9),TRUE(),IF(AND($C$9=RAW!$AH$2,G48=RAW!$AH$8),TRUE(),FALSE()))))))) -> FALSE
C49: 8 | N49: =IF(G49="",FALSE(),IF(AND($C$9=RAW!$N$2,G49<RAW!$N$7),TRUE(),IF(AND($C$9=RAW!$P$2,G49<RAW!$P$8),TRUE(),IF(AND($C$9=RAW!$AD$2,G49<RAW!$AD$8),TRUE(),IF(AND($C$9=RAW!$AF$2,G49<RAW!$AF$8),TRUE(),IF(AND($C$9=RAW!$AH$2,G49<RAW!$AH$9),TRUE(),IF(AND($C$9=RAW!$AH$2,G49=RAW!$AH$8),TRUE(),FALSE()))))))) -> FALSE
C50: 9 | N50: =IF(G50="",FALSE(),IF(AND($C$9=RAW!$N$2,G50<RAW!$N$7),TRUE(),IF(AND($C$9=RAW!$P$2,G50<RAW!$P$8),TRUE(),IF(AND($C$9=RAW!$AD$2,G50<RAW!$AD$8),TRUE(),IF(AND($C$9=RAW!$AF$2,G50<RAW!$AF$8),TRUE(),IF(AND($C$9=RAW!$AH$2,G50<RAW!$AH$9),TRUE(),IF(AND($C$9=RAW!$AH$2,G50=RAW!$AH$8),TRUE(),FALSE()))))))) -> FALSE
C51: 10 | N51: =IF(G51="",FALSE(),IF(AND($C$9=RAW!$N$2,G51<RAW!$N$7),TRUE(),IF(AND($C$9=RAW!$P$2,G51<RAW!$P$8),TRUE(),IF(AND($C$9=RAW!$AD$2,G51<RAW!$AD$8),TRUE(),IF(AND($C$9=RAW!$AF$2,G51<RAW!$AF$8),TRUE(),IF(AND($C$9=RAW!$AH$2,G51<RAW!$AH$9),TRUE(),IF(AND($C$9=RAW!$AH$2,G51=RAW!$AH$8),TRUE(),FALSE()))))))) -> FALSE
C52: 11 | N52: =IF(G52="",FALSE(),IF(AND($C$9=RAW!$N$2,G52<RAW!$N$7),TRUE(),IF(AND($C$9=RAW!$P$2,G52<RAW!$P$8),TRUE(),IF(AND($C$9=RAW!$AD$2,G52<RAW!$AD$8),TRUE(),IF(AND($C$9=RAW!$AF$2,G52<RAW!$AF$8),TRUE(),IF(AND($C$9=RAW!$AH$2,G52<RAW!$AH$9),TRUE(),IF(AND($C$9=RAW!$AH$2,G52=RAW!$AH$8),TRUE(),FALSE()))))))) -> FALSE
C53: 12 | N53: =IF(G53="",FALSE(),IF(AND($C$9=RAW!$N$2,G53<RAW!$N$7),TRUE(),IF(AND($C$9=RAW!$P$2,G53<RAW!$P$8),TRUE(),IF(AND($C$9=RAW!$AD$2,G53<RAW!$AD$8),TRUE(),IF(AND($C$9=RAW!$AF$2,G53<RAW!$AF$8),TRUE(),IF(AND($C$9=RAW!$AH$2,G53<RAW!$AH$9),TRUE(),IF(AND($C$9=RAW!$AH$2,G53=RAW!$AH$8),TRUE(),FALSE()))))))) -> FALSE
... C57: 16 | N57: =IF(G57="",FALSE(),IF(AND($C$9=RAW!$N$2,G57<RAW!$N$7),TRUE(),IF(AND($C$9=RAW!$P$2,G57<RAW!$P$8),TRUE(),IF(AND($C$9=RAW!$AD$2,G57<RAW!$AD$8),TRUE(),IF(AND($C$9=RAW!$AF$2,G57<RAW!$AF$8),TRUE(),IF(AND($C$9=RAW!$AH$2,G57<RAW!$AH$9),TRUE(),IF(AND($C$9=RAW!$AH$2,G57=RAW!$AH$8),TRUE(),FALSE()))))))) -> FALSE
B59: =IF(B10<>"",B10,"") | D59: Nachname | E59: Vorname | F59: Geschlecht | G59: Jahrgang
C60: 1 | N60: =IF(G60="",FALSE(),IF(AND($C$10=RAW!$N$2,G60<RAW!$N$7),TRUE(),IF(AND($C$10=RAW!$P$2,G60<RAW!$P$8),TRUE(),IF(AND($C$10=RAW!$AD$2,G60<RAW!$AD$8),TRUE(),IF(AND($C$10=RAW!$AF$2,G60<RAW!$AF$8),TRUE(),IF(AND($C$10=RAW!$AH$2,G60<RAW!$AH$9),TRUE(),IF(AND($C$10=RAW!$AH$2,G60=RAW!$AH$8),TRUE(),FALSE()))))))) -> FALSE
C61: 2 | N61: =IF(G61="",FALSE(),IF(AND($C$10=RAW!$N$2,G61<RAW!$N$7),TRUE(),IF(AND($C$10=RAW!$P$2,G61<RAW!$P$8),TRUE(),IF(AND($C$10=RAW!$AD$2,G61<RAW!$AD$8),TRUE(),IF(AND($C$10=RAW!$AF$2,G61<RAW!$AF$8),TRUE(),IF(AND($C$10=RAW!$AH$2,G61<RAW!$AH$9),TRUE(),IF(AND($C$10=RAW!$AH$2,G61=RAW!$AH$8),TRUE(),FALSE()))))))) -> FALSE
C62: 3 | N62: =IF(G62="",FALSE(),IF(AND($C$10=RAW!$N$2,G62<RAW!$N$7),TRUE(),IF(AND($C$10=RAW!$P$2,G62<RAW!$P$8),TRUE(),IF(AND($C$10=RAW!$AD$2,G62<RAW!$AD$8),TRUE(),IF(AND($C$10=RAW!$AF$2,G62<RAW!$AF$8),TRUE(),IF(AND($C$10=RAW!$AH$2,G62<RAW!$AH$9),TRUE(),IF(AND($C$10=RAW!$AH$2,G62=RAW!$AH$8),TRUE(),FALSE()))))))) -> FALSE
C63: 4 | N63: =IF(G63="",FALSE(),IF(AND($C$10=RAW!$N$2,G63<RAW!$N$7),TRUE(),IF(AND($C$10=RAW!$P$2,G63<RAW!$P$8),TRUE(),IF(AND($C$10=RAW!$AD$2,G63<RAW!$AD$8),TRUE(),IF(AND($C$10=RAW!$AF$2,G63<RAW!$AF$8),TRUE(),IF(AND($C$10=RAW!$AH$2,G63<RAW!$AH$9),TRUE(),IF(AND($C$10=RAW!$AH$2,G63=RAW!$AH$8),TRUE(),FALSE()))))))) -> FALSE
C64: 5 | N64: =IF(G64="",FALSE(),IF(AND($C$10=RAW!$N$2,G64<RAW!$N$7),TRUE(),IF(AND($C$10=RAW!$P$2,G64<RAW!$P$8),TRUE(),IF(AND($C$10=RAW!$AD$2,G64<RAW!$AD$8),TRUE(),IF(AND($C$10=RAW!$AF$2,G64<RAW!$AF$8),TRUE(),IF(AND($C$10=RAW!$AH$2,G64<RAW!$AH$9),TRUE(),IF(AND($C$10=RAW!$AH$2,G64=RAW!$AH$8),TRUE(),FALSE()))))))) -> FALSE
C65: 6 | N65: =IF(G65="",FALSE(),IF(AND($C$10=RAW!$N$2,G65<RAW!$N$7),TRUE(),IF(AND($C$10=RAW!$P$2,G65<RAW!$P$8),TRUE(),IF(AND($C$10=RAW!$AD$2,G65<RAW!$AD$8),TRUE(),IF(AND($C$10=RAW!$AF$2,G65<RAW!$AF$8),TRUE(),IF(AND($C$10=RAW!$AH$2,G65<RAW!$AH$9),TRUE(),IF(AND($C$10=RAW!$AH$2,G65=RAW!$AH$8),TRUE(),FALSE()))))))) -> FALSE
C66: 7 | N66: =IF(G66="",FALSE(),IF(AND($C$10=RAW!$N$2,G66<RAW!$N$7),TRUE(),IF(AND($C$10=RAW!$P$2,G66<RAW!$P$8),TRUE(),IF(AND($C$10=RAW!$AD$2,G66<RAW!$AD$8),TRUE(),IF(AND($C$10=RAW!$AF$2,G66<RAW!$AF$8),TRUE(),IF(AND($C$10=RAW!$AH$2,G66<RAW!$AH$9),TRUE(),IF(AND($C$10=RAW!$AH$2,G66=RAW!$AH$8),TRUE(),FALSE()))))))) -> FALSE
C67: 8 | N67: =IF(G67="",FALSE(),IF(AND($C$10=RAW!$N$2,G67<RAW!$N$7),TRUE(),IF(AND($C$10=RAW!$P$2,G67<RAW!$P$8),TRUE(),IF(AND($C$10=RAW!$AD$2,G67<RAW!$AD$8),TRUE(),IF(AND($C$10=RAW!$AF$2,G67<RAW!$AF$8),TRUE(),IF(AND($C$10=RAW!$AH$2,G67<RAW!$AH$9),TRUE(),IF(AND($C$10=RAW!$AH$2,G67=RAW!$AH$8),TRUE(),FALSE()))))))) -> FALSE
C68: 9 | N68: =IF(G68="",FALSE(),IF(AND($C$10=RAW!$N$2,G68<RAW!$N$7),TRUE(),IF(AND($C$10=RAW!$P$2,G68<RAW!$P$8),TRUE(),IF(AND($C$10=RAW!$AD$2,G68<RAW!$AD$8),TRUE(),IF(AND($C$10=RAW!$AF$2,G68<RAW!$AF$8),TRUE(),IF(AND($C$10=RAW!$AH$2,G68<RAW!$AH$9),TRUE(),IF(AND($C$10=RAW!$AH$2,G68=RAW!$AH$8),TRUE(),FALSE()))))))) -> FALSE
C69: 10 | N69: =IF(G69="",FALSE(),IF(AND($C$10=RAW!$N$2,G69<RAW!$N$7),TRUE(),IF(AND($C$10=RAW!$P$2,G69<RAW!$P$8),TRUE(),IF(AND($C$10=RAW!$AD$2,G69<RAW!$AD$8),TRUE(),IF(AND($C$10=RAW!$AF$2,G69<RAW!$AF$8),TRUE(),IF(AND($C$10=RAW!$AH$2,G69<RAW!$AH$9),TRUE(),IF(AND($C$10=RAW!$AH$2,G69=RAW!$AH$8),TRUE(),FALSE()))))))) -> FALSE
C70: 11 | N70: =IF(G70="",FALSE(),IF(AND($C$10=RAW!$N$2,G70<RAW!$N$7),TRUE(),IF(AND($C$10=RAW!$P$2,G70<RAW!$P$8),TRUE(),IF(AND($C$10=RAW!$AD$2,G70<RAW!$AD$8),TRUE(),IF(AND($C$10=RAW!$AF$2,G70<RAW!$AF$8),TRUE(),IF(AND($C$10=RAW!$AH$2,G70<RAW!$AH$9),TRUE(),IF(AND($C$10=RAW!$AH$2,G70=RAW!$AH$8),TRUE(),FALSE()))))))) -> FALSE
C71: 12 | N71: =IF(G71="",FALSE(),IF(AND($C$10=RAW!$N$2,G71<RAW!$N$7),TRUE(),IF(AND($C$10=RAW!$P$2,G71<RAW!$P$8),TRUE(),IF(AND($C$10=RAW!$AD$2,G71<RAW!$AD$8),TRUE(),IF(AND($C$10=RAW!$AF$2,G71<RAW!$AF$8),TRUE(),IF(AND($C$10=RAW!$AH$2,G71<RAW!$AH$9),TRUE(),IF(AND($C$10=RAW!$AH$2,G71=RAW!$AH$8),TRUE(),FALSE()))))))) -> FALSE
... C75: 16 | N75: =IF(G75="",FALSE(),IF(AND($C$10=RAW!$N$2,G75<RAW!$N$7),TRUE(),IF(AND($C$10=RAW!$P$2,G75<RAW!$P$8),TRUE(),IF(AND($C$10=RAW!$AD$2,G75<RAW!$AD$8),TRUE(),IF(AND($C$10=RAW!$AF$2,G75<RAW!$AF$8),TRUE(),IF(AND($C$10=RAW!$AH$2,G75<RAW!$AH$9),TRUE(),IF(AND($C$10=RAW!$AH$2,G75=RAW!$AH$8),TRUE(),FALSE()))))))) -> FALSE
B77: =IF(B11<>"",B11,"") | D77: Nachname | E77: Vorname | F77: Geschlecht | G77: Jahrgang
C78: 1 | N78: =IF(G78="",FALSE(),IF(AND($C$11=RAW!$N$2,G78<RAW!$N$7),TRUE(),IF(AND($C$11=RAW!$P$2,G78<RAW!$P$8),TRUE(),IF(AND($C$11=RAW!$AD$2,G78<RAW!$AD$8),TRUE(),IF(AND($C$11=RAW!$AF$2,G78<RAW!$AF$8),TRUE(),IF(AND($C$11=RAW!$AH$2,G78<RAW!$AH$9),TRUE(),IF(AND($C$11=RAW!$AH$2,G78=RAW!$AH$8),TRUE(),FALSE()))))))) -> FALSE
C79: 2 | N79: =IF(G79="",FALSE(),IF(AND($C$11=RAW!$N$2,G79<RAW!$N$7),TRUE(),IF(AND($C$11=RAW!$P$2,G79<RAW!$P$8),TRUE(),IF(AND($C$11=RAW!$AD$2,G79<RAW!$AD$8),TRUE(),IF(AND($C$11=RAW!$AF$2,G79<RAW!$AF$8),TRUE(),IF(AND($C$11=RAW!$AH$2,G79<RAW!$AH$9),TRUE(),IF(AND($C$11=RAW!$AH$2,G79=RAW!$AH$8),TRUE(),FALSE()))))))) -> FALSE
C80: 3 | N80: =IF(G80="",FALSE(),IF(AND($C$11=RAW!$N$2,G80<RAW!$N$7),TRUE(),IF(AND($C$11=RAW!$P$2,G80<RAW!$P$8),TRUE(),IF(AND($C$11=RAW!$AD$2,G80<RAW!$AD$8),TRUE(),IF(AND($C$11=RAW!$AF$2,G80<RAW!$AF$8),TRUE(),IF(AND($C$11=RAW!$AH$2,G80<RAW!$AH$9),TRUE(),IF(AND($C$11=RAW!$AH$2,G80=RAW!$AH$8),TRUE(),FALSE()))))))) -> FALSE
C81: 4 | N81: =IF(G81="",FALSE(),IF(AND($C$11=RAW!$N$2,G81<RAW!$N$7),TRUE(),IF(AND($C$11=RAW!$P$2,G81<RAW!$P$8),TRUE(),IF(AND($C$11=RAW!$AD$2,G81<RAW!$AD$8),TRUE(),IF(AND($C$11=RAW!$AF$2,G81<RAW!$AF$8),TRUE(),IF(AND($C$11=RAW!$AH$2,G81<RAW!$AH$9),TRUE(),IF(AND($C$11=RAW!$AH$2,G81=RAW!$AH$8),TRUE(),FALSE()))))))) -> FALSE
C82: 5 | N82: =IF(G82="",FALSE(),IF(AND($C$11=RAW!$N$2,G82<RAW!$N$7),TRUE(),IF(AND($C$11=RAW!$P$2,G82<RAW!$P$8),TRUE(),IF(AND($C$11=RAW!$AD$2,G82<RAW!$AD$8),TRUE(),IF(AND($C$11=RAW!$AF$2,G82<RAW!$AF$8),TRUE(),IF(AND($C$11=RAW!$AH$2,G82<RAW!$AH$9),TRUE(),IF(AND($C$11=RAW!$AH$2,G82=RAW!$AH$8),TRUE(),FALSE()))))))) -> FALSE
C83: 6 | N83: =IF(G83="",FALSE(),IF(AND($C$11=RAW!$N$2,G83<RAW!$N$7),TRUE(),IF(AND($C$11=RAW!$P$2,G83<RAW!$P$8),TRUE(),IF(AND($C$11=RAW!$AD$2,G83<RAW!$AD$8),TRUE(),IF(AND($C$11=RAW!$AF$2,G83<RAW!$AF$8),TRUE(),IF(AND($C$11=RAW!$AH$2,G83<RAW!$AH$9),TRUE(),IF(AND($C$11=RAW!$AH$2,G83=RAW!$AH$8),TRUE(),FALSE()))))))) -> FALSE
C84: 7 | N84: =IF(G84="",FALSE(),IF(AND($C$11=RAW!$N$2,G84<RAW!$N$7),TRUE(),IF(AND($C$11=RAW!$P$2,G84<RAW!$P$8),TRUE(),IF(AND($C$11=RAW!$AD$2,G84<RAW!$AD$8),TRUE(),IF(AND($C$11=RAW!$AF$2,G84<RAW!$AF$8),TRUE(),IF(AND($C$11=RAW!$AH$2,G84<RAW!$AH$9),TRUE(),IF(AND($C$11=RAW!$AH$2,G84=RAW!$AH$8),TRUE(),FALSE()))))))) -> FALSE
C85: 8 | N85: =IF(G85="",FALSE(),IF(AND($C$11=RAW!$N$2,G85<RAW!$N$7),TRUE(),IF(AND($C$11=RAW!$P$2,G85<RAW!$P$8),TRUE(),IF(AND($C$11=RAW!$AD$2,G85<RAW!$AD$8),TRUE(),IF(AND($C$11=RAW!$AF$2,G85<RAW!$AF$8),TRUE(),IF(AND($C$11=RAW!$AH$2,G85<RAW!$AH$9),TRUE(),IF(AND($C$11=RAW!$AH$2,G85=RAW!$AH$8),TRUE(),FALSE()))))))) -> FALSE
C86: 9 | N86: =IF(G86="",FALSE(),IF(AND($C$11=RAW!$N$2,G86<RAW!$N$7),TRUE(),IF(AND($C$11=RAW!$P$2,G86<RAW!$P$8),TRUE(),IF(AND($C$11=RAW!$AD$2,G86<RAW!$AD$8),TRUE(),IF(AND($C$11=RAW!$AF$2,G86<RAW!$AF$8),TRUE(),IF(AND($C$11=RAW!$AH$2,G86<RAW!$AH$9),TRUE(),IF(AND($C$11=RAW!$AH$2,G86=RAW!$AH$8),TRUE(),FALSE()))))))) -> FALSE
C87: 10 | N87: =IF(G87="",FALSE(),IF(AND($C$11=RAW!$N$2,G87<RAW!$N$7),TRUE(),IF(AND($C$11=RAW!$P$2,G87<RAW!$P$8),TRUE(),IF(AND($C$11=RAW!$AD$2,G87<RAW!$AD$8),TRUE(),IF(AND($C$11=RAW!$AF$2,G87<RAW!$AF$8),TRUE(),IF(AND($C$11=RAW!$AH$2,G87<RAW!$AH$9),TRUE(),IF(AND($C$11=RAW!$AH$2,G87=RAW!$AH$8),TRUE(),FALSE()))))))) -> FALSE
C88: 11 | N88: =IF(G88="",FALSE(),IF(AND($C$11=RAW!$N$2,G88<RAW!$N$7),TRUE(),IF(AND($C$11=RAW!$P$2,G88<RAW!$P$8),TRUE(),IF(AND($C$11=RAW!$AD$2,G88<RAW!$AD$8),TRUE(),IF(AND($C$11=RAW!$AF$2,G88<RAW!$AF$8),TRUE(),IF(AND($C$11=RAW!$AH$2,G88<RAW!$AH$9),TRUE(),IF(AND($C$11=RAW!$AH$2,G88=RAW!$AH$8),TRUE(),FALSE()))))))) -> FALSE
C89: 12 | N89: =IF(G89="",FALSE(),IF(AND($C$11=RAW!$N$2,G89<RAW!$N$7),TRUE(),IF(AND($C$11=RAW!$P$2,G89<RAW!$P$8),TRUE(),IF(AND($C$11=RAW!$AD$2,G89<RAW!$AD$8),TRUE(),IF(AND($C$11=RAW!$AF$2,G89<RAW!$AF$8),TRUE(),IF(AND($C$11=RAW!$AH$2,G89<RAW!$AH$9),TRUE(),IF(AND($C$11=RAW!$AH$2,G89=RAW!$AH$8),TRUE(),FALSE()))))))) -> FALSE
... C93: 16 | N93: =IF(G93="",FALSE(),IF(AND($C$11=RAW!$N$2,G93<RAW!$N$7),TRUE(),IF(AND($C$11=RAW!$P$2,G93<RAW!$P$8),TRUE(),IF(AND($C$11=RAW!$AD$2,G93<RAW!$AD$8),TRUE(),IF(AND($C$11=RAW!$AF$2,G93<RAW!$AF$8),TRUE(),IF(AND($C$11=RAW!$AH$2,G93<RAW!$AH$9),TRUE(),IF(AND($C$11=RAW!$AH$2,G93=RAW!$AH$8),TRUE(),FALSE()))))))) -> FALSE
B95: =IF(B12<>"",B12,"") | D95: Nachname | E95: Vorname | F95: Geschlecht | G95: Jahrgang
C96: 1 | N96: =IF(G96="",FALSE(),IF(AND($C$12=RAW!$N$2,G96<RAW!$N$7),TRUE(),IF(AND($C$12=RAW!$P$2,G96<RAW!$P$8),TRUE(),IF(AND($C$12=RAW!$AD$2,G96<RAW!$AD$8),TRUE(),IF(AND($C$12=RAW!$AF$2,G96<RAW!$AF$8),TRUE(),IF(AND($C$12=RAW!$AH$2,G96<RAW!$AH$9),TRUE(),IF(AND($C$12=RAW!$AH$2,G96=RAW!$AH$8),TRUE(),FALSE()))))))) -> FALSE
C97: 2 | N97: =IF(G97="",FALSE(),IF(AND($C$12=RAW!$N$2,G97<RAW!$N$7),TRUE(),IF(AND($C$12=RAW!$P$2,G97<RAW!$P$8),TRUE(),IF(AND($C$12=RAW!$AD$2,G97<RAW!$AD$8),TRUE(),IF(AND($C$12=RAW!$AF$2,G97<RAW!$AF$8),TRUE(),IF(AND($C$12=RAW!$AH$2,G97<RAW!$AH$9),TRUE(),IF(AND($C$12=RAW!$AH$2,G97=RAW!$AH$8),TRUE(),FALSE()))))))) -> FALSE
C98: 3 | N98: =IF(G98="",FALSE(),IF(AND($C$12=RAW!$N$2,G98<RAW!$N$7),TRUE(),IF(AND($C$12=RAW!$P$2,G98<RAW!$P$8),TRUE(),IF(AND($C$12=RAW!$AD$2,G98<RAW!$AD$8),TRUE(),IF(AND($C$12=RAW!$AF$2,G98<RAW!$AF$8),TRUE(),IF(AND($C$12=RAW!$AH$2,G98<RAW!$AH$9),TRUE(),IF(AND($C$12=RAW!$AH$2,G98=RAW!$AH$8),TRUE(),FALSE()))))))) -> FALSE
C99: 4 | N99: =IF(G99="",FALSE(),IF(AND($C$12=RAW!$N$2,G99<RAW!$N$7),TRUE(),IF(AND($C$12=RAW!$P$2,G99<RAW!$P$8),TRUE(),IF(AND($C$12=RAW!$AD$2,G99<RAW!$AD$8),TRUE(),IF(AND($C$12=RAW!$AF$2,G99<RAW!$AF$8),TRUE(),IF(AND($C$12=RAW!$AH$2,G99<RAW!$AH$9),TRUE(),IF(AND($C$12=RAW!$AH$2,G99=RAW!$AH$8),TRUE(),FALSE()))))))) -> FALSE
C100: 5 | N100: =IF(G100="",FALSE(),IF(AND($C$12=RAW!$N$2,G100<RAW!$N$7),TRUE(),IF(AND($C$12=RAW!$P$2,G100<RAW!$P$8),TRUE(),IF(AND($C$12=RAW!$AD$2,G100<RAW!$AD$8),TRUE(),IF(AND($C$12=RAW!$AF$2,G100<RAW!$AF$8),TRUE(),IF(AND($C$12=RAW!$AH$2,G100<RAW!$AH$9),TRUE(),IF(AND($C$12=RAW!$AH$2,G100=RAW!$AH$8),TRUE(),FALSE()))))))) -> FALSE
C101: 6 | N101: =IF(G101="",FALSE(),IF(AND($C$12=RAW!$N$2,G101<RAW!$N$7),TRUE(),IF(AND($C$12=RAW!$P$2,G101<RAW!$P$8),TRUE(),IF(AND($C$12=RAW!$AD$2,G101<RAW!$AD$8),TRUE(),IF(AND($C$12=RAW!$AF$2,G101<RAW!$AF$8),TRUE(),IF(AND($C$12=RAW!$AH$2,G101<RAW!$AH$9),TRUE(),IF(AND($C$12=RAW!$AH$2,G101=RAW!$AH$8),TRUE(),FALSE()))))))) -> FALSE
C102: 7 | N102: =IF(G102="",FALSE(),IF(AND($C$12=RAW!$N$2,G102<RAW!$N$7),TRUE(),IF(AND($C$12=RAW!$P$2,G102<RAW!$P$8),TRUE(),IF(AND($C$12=RAW!$AD$2,G102<RAW!$AD$8),TRUE(),IF(AND($C$12=RAW!$AF$2,G102<RAW!$AF$8),TRUE(),IF(AND($C$12=RAW!$AH$2,G102<RAW!$AH$9),TRUE(),IF(AND($C$12=RAW!$AH$2,G102=RAW!$AH$8),TRUE(),FALSE()))))))) -> FALSE
C103: 8 | N103: =IF(G103="",FALSE(),IF(AND($C$12=RAW!$N$2,G103<RAW!$N$7),TRUE(),IF(AND($C$12=RAW!$P$2,G103<RAW!$P$8),TRUE(),IF(AND($C$12=RAW!$AD$2,G103<RAW!$AD$8),TRUE(),IF(AND($C$12=RAW!$AF$2,G103<RAW!$AF$8),TRUE(),IF(AND($C$12=RAW!$AH$2,G103<RAW!$AH$9),TRUE(),IF(AND($C$12=RAW!$AH$2,G103=RAW!$AH$8),TRUE(),FALSE()))))))) -> FALSE
C104: 9 | N104: =IF(G104="",FALSE(),IF(AND($C$12=RAW!$N$2,G104<RAW!$N$7),TRUE(),IF(AND($C$12=RAW!$P$2,G104<RAW!$P$8),TRUE(),IF(AND($C$12=RAW!$AD$2,G104<RAW!$AD$8),TRUE(),IF(AND($C$12=RAW!$AF$2,G104<RAW!$AF$8),TRUE(),IF(AND($C$12=RAW!$AH$2,G104<RAW!$AH$9),TRUE(),IF(AND($C$12=RAW!$AH$2,G104=RAW!$AH$8),TRUE(),FALSE()))))))) -> FALSE
C105: 10 | N105: =IF(G105="",FALSE(),IF(AND($C$12=RAW!$N$2,G105<RAW!$N$7),TRUE(),IF(AND($C$12=RAW!$P$2,G105<RAW!$P$8),TRUE(),IF(AND($C$12=RAW!$AD$2,G105<RAW!$AD$8),TRUE(),IF(AND($C$12=RAW!$AF$2,G105<RAW!$AF$8),TRUE(),IF(AND($C$12=RAW!$AH$2,G105<RAW!$AH$9),TRUE(),IF(AND($C$12=RAW!$AH$2,G105=RAW!$AH$8),TRUE(),FALSE()))))))) -> FALSE
C106: 11 | N106: =IF(G106="",FALSE(),IF(AND($C$12=RAW!$N$2,G106<RAW!$N$7),TRUE(),IF(AND($C$12=RAW!$P$2,G106<RAW!$P$8),TRUE(),IF(AND($C$12=RAW!$AD$2,G106<RAW!$AD$8),TRUE(),IF(AND($C$12=RAW!$AF$2,G106<RAW!$AF$8),TRUE(),IF(AND($C$12=RAW!$AH$2,G106<RAW!$AH$9),TRUE(),IF(AND($C$12=RAW!$AH$2,G106=RAW!$AH$8),TRUE(),FALSE()))))))) -> FALSE
C107: 12 | N107: =IF(G107="",FALSE(),IF(AND($C$12=RAW!$N$2,G107<RAW!$N$7),TRUE(),IF(AND($C$12=RAW!$P$2,G107<RAW!$P$8),TRUE(),IF(AND($C$12=RAW!$AD$2,G107<RAW!$AD$8),TRUE(),IF(AND($C$12=RAW!$AF$2,G107<RAW!$AF$8),TRUE(),IF(AND($C$12=RAW!$AH$2,G107<RAW!$AH$9),TRUE(),IF(AND($C$12=RAW!$AH$2,G107=RAW!$AH$8),TRUE(),FALSE()))))))) -> FALSE
... C111: 16 | N111: =IF(G111="",FALSE(),IF(AND($C$12=RAW!$N$2,G111<RAW!$N$7),TRUE(),IF(AND($C$12=RAW!$P$2,G111<RAW!$P$8),TRUE(),IF(AND($C$12=RAW!$AD$2,G111<RAW!$AD$8),TRUE(),IF(AND($C$12=RAW!$AF$2,G111<RAW!$AF$8),TRUE(),IF(AND($C$12=RAW!$AH$2,G111<RAW!$AH$9),TRUE(),IF(AND($C$12=RAW!$AH$2,G111=RAW!$AH$8),TRUE(),FALSE()))))))) -> FALSE
B113: =IF(B13<>"",B13,"") | D113: Nachname | E113: Vorname | F113: Geschlecht | G113: Jahrgang
C114: 1 | N114: =IF(G114="",FALSE(),IF(AND($C$13=RAW!$N$2,G114<RAW!$N$7),TRUE(),IF(AND($C$13=RAW!$P$2,G114<RAW!$P$8),TRUE(),IF(AND($C$13=RAW!$AD$2,G114<RAW!$AD$8),TRUE(),IF(AND($C$13=RAW!$AF$2,G114<RAW!$AF$8),TRUE(),IF(AND($C$13=RAW!$AH$2,G114<RAW!$AH$9),TRUE(),IF(AND($C$13=RAW!$AH$2,G114=RAW!$AH$8),TRUE(),FALSE()))))))) -> FALSE
C115: 2 | N115: =IF(G115="",FALSE(),IF(AND($C$13=RAW!$N$2,G115<RAW!$N$7),TRUE(),IF(AND($C$13=RAW!$P$2,G115<RAW!$P$8),TRUE(),IF(AND($C$13=RAW!$AD$2,G115<RAW!$AD$8),TRUE(),IF(AND($C$13=RAW!$AF$2,G115<RAW!$AF$8),TRUE(),IF(AND($C$13=RAW!$AH$2,G115<RAW!$AH$9),TRUE(),IF(AND($C$13=RAW!$AH$2,G115=RAW!$AH$8),TRUE(),FALSE()))))))) -> FALSE
C116: 3 | N116: =IF(G116="",FALSE(),IF(AND($C$13=RAW!$N$2,G116<RAW!$N$7),TRUE(),IF(AND($C$13=RAW!$P$2,G116<RAW!$P$8),TRUE(),IF(AND($C$13=RAW!$AD$2,G116<RAW!$AD$8),TRUE(),IF(AND($C$13=RAW!$AF$2,G116<RAW!$AF$8),TRUE(),IF(AND($C$13=RAW!$AH$2,G116<RAW!$AH$9),TRUE(),IF(AND($C$13=RAW!$AH$2,G116=RAW!$AH$8),TRUE(),FALSE()))))))) -> FALSE
C117: 4 | N117: =IF(G117="",FALSE(),IF(AND($C$13=RAW!$N$2,G117<RAW!$N$7),TRUE(),IF(AND($C$13=RAW!$P$2,G117<RAW!$P$8),TRUE(),IF(AND($C$13=RAW!$AD$2,G117<RAW!$AD$8),TRUE(),IF(AND($C$13=RAW!$AF$2,G117<RAW!$AF$8),TRUE(),IF(AND($C$13=RAW!$AH$2,G117<RAW!$AH$9),TRUE(),IF(AND($C$13=RAW!$AH$2,G117=RAW!$AH$8),TRUE(),FALSE()))))))) -> FALSE
C118: 5 | N118: =IF(G118="",FALSE(),IF(AND($C$13=RAW!$N$2,G118<RAW!$N$7),TRUE(),IF(AND($C$13=RAW!$P$2,G118<RAW!$P$8),TRUE(),IF(AND($C$13=RAW!$AD$2,G118<RAW!$AD$8),TRUE(),IF(AND($C$13=RAW!$AF$2,G118<RAW!$AF$8),TRUE(),IF(AND($C$13=RAW!$AH$2,G118<RAW!$AH$9),TRUE(),IF(AND($C$13=RAW!$AH$2,G118=RAW!$AH$8),TRUE(),FALSE()))))))) -> FALSE
C119: 6 | N119: =IF(G119="",FALSE(),IF(AND($C$13=RAW!$N$2,G119<RAW!$N$7),TRUE(),IF(AND($C$13=RAW!$P$2,G119<RAW!$P$8),TRUE(),IF(AND($C$13=RAW!$AD$2,G119<RAW!$AD$8),TRUE(),IF(AND($C$13=RAW!$AF$2,G119<RAW!$AF$8),TRUE(),IF(AND($C$13=RAW!$AH$2,G119<RAW!$AH$9),TRUE(),IF(AND($C$13=RAW!$AH$2,G119=RAW!$AH$8),TRUE(),FALSE()))))))) -> FALSE
C120: 7 | N120: =IF(G120="",FALSE(),IF(AND($C$13=RAW!$N$2,G120<RAW!$N$7),TRUE(),IF(AND($C$13=RAW!$P$2,G120<RAW!$P$8),TRUE(),IF(AND($C$13=RAW!$AD$2,G120<RAW!$AD$8),TRUE(),IF(AND($C$13=RAW!$AF$2,G120<RAW!$AF$8),TRUE(),IF(AND($C$13=RAW!$AH$2,G120<RAW!$AH$9),TRUE(),IF(AND($C$13=RAW!$AH$2,G120=RAW!$AH$8),TRUE(),FALSE()))))))) -> FALSE
C121: 8 | N121: =IF(G121="",FALSE(),IF(AND($C$13=RAW!$N$2,G121<RAW!$N$7),TRUE(),IF(AND($C$13=RAW!$P$2,G121<RAW!$P$8),TRUE(),IF(AND($C$13=RAW!$AD$2,G121<RAW!$AD$8),TRUE(),IF(AND($C$13=RAW!$AF$2,G121<RAW!$AF$8),TRUE(),IF(AND($C$13=RAW!$AH$2,G121<RAW!$AH$9),TRUE(),IF(AND($C$13=RAW!$AH$2,G121=RAW!$AH$8),TRUE(),FALSE()))))))) -> FALSE
C122: 9 | N122: =IF(G122="",FALSE(),IF(AND($C$13=RAW!$N$2,G122<RAW!$N$7),TRUE(),IF(AND($C$13=RAW!$P$2,G122<RAW!$P$8),TRUE(),IF(AND($C$13=RAW!$AD$2,G122<RAW!$AD$8),TRUE(),IF(AND($C$13=RAW!$AF$2,G122<RAW!$AF$8),TRUE(),IF(AND($C$13=RAW!$AH$2,G122<RAW!$AH$9),TRUE(),IF(AND($C$13=RAW!$AH$2,G122=RAW!$AH$8),TRUE(),FALSE()))))))) -> FALSE
C123: 10 | N123: =IF(G123="",FALSE(),IF(AND($C$13=RAW!$N$2,G123<RAW!$N$7),TRUE(),IF(AND($C$13=RAW!$P$2,G123<RAW!$P$8),TRUE(),IF(AND($C$13=RAW!$AD$2,G123<RAW!$AD$8),TRUE(),IF(AND($C$13=RAW!$AF$2,G123<RAW!$AF$8),TRUE(),IF(AND($C$13=RAW!$AH$2,G123<RAW!$AH$9),TRUE(),IF(AND($C$13=RAW!$AH$2,G123=RAW!$AH$8),TRUE(),FALSE()))))))) -> FALSE
C124: 11 | N124: =IF(G124="",FALSE(),IF(AND($C$13=RAW!$N$2,G124<RAW!$N$7),TRUE(),IF(AND($C$13=RAW!$P$2,G124<RAW!$P$8),TRUE(),IF(AND($C$13=RAW!$AD$2,G124<RAW!$AD$8),TRUE(),IF(AND($C$13=RAW!$AF$2,G124<RAW!$AF$8),TRUE(),IF(AND($C$13=RAW!$AH$2,G124<RAW!$AH$9),TRUE(),IF(AND($C$13=RAW!$AH$2,G124=RAW!$AH$8),TRUE(),FALSE()))))))) -> FALSE
...

Sheet weitere Anmeldungen
B2: Verein | D2: Folgende weitere Personen werden zur Übernachtung angemeldet.
B3: =IF(Hauptmeldebogen_KiSGruTu!C7<>"",Hauptmeldebogen_KiSGruTu!C7,"")
B5: Weitere Kinder (Ersatzturner, Gäste) | D5: Nachname | E5: Vorname | F5: Mannschaft
C6: 1
C7: 2
C8: 3
C9: 4
C10: 5
C11: 6
C12: 7
C13: 8
C14: 9
C15: 10
B17: Trainer, Betreuer, Karis | D17: Nachname | E17: Vorname
C18: 1
C19: 2
C20: 3
C21: 4
C22: 5
C23: 6
C24: 7
C25: 8
C26: 9
C27: 10
C28: 11
C29: 12
... C32: 15

Sheet weitere Angaben
B2: Verein
B3: =IF(Hauptmeldebogen_KiSGruTu!C7<>"",Hauptmeldebogen_KiSGruTu!C7,"")
B5: Hauptverantwortlicher vor Ort
B6: Mobilnummer (vor Ort erreichbar!)
B8: Wir reisen an mit
B9: Reisebus
B10: PKW/Kleinbus
B12: Wir können uns vorstellen die Klassenräume mit dem folgenden Verein zu teilen
B14: Für Vereine mit weiblichen und männlichen Teilnehmern
B15: Die Unterbringung unserer Teilnehmer kann gemischt erfolgen
B16: Anzahl der Personen, die getrennt untergebracht werden sollen
B17: weiblich
B18: männlich

Sheet T-Shirts
B2: Verein
B3: =IF(Hauptmeldebogen_KiSGruTu!C7<>"",Hauptmeldebogen_KiSGruTu!C7,"")
B5: Daten T-Shirts
B7: Größe | C7: Anzahl
B8: 128 | E8: Die Anzahl der bestellten T-Shirts sollte mit der Anzahl eurer gemeldeten Betreuer und Teilnehmer übereinstimmen.
B9: 140
B10: 152
B11: 164
B12: S
B13: M | E13: gemeldete Teilnehmer | I13: =Hauptmeldebogen_KiSGruTu!C21 -> 0
B14: L
B15: XL | E15: gemeldete Betreuer | I15: =Hauptmeldebogen_KiSGruTu!C23 -> 0
B16: XXL
B17: Gesamt | C17: =SUM(Tabelle26[Anzahl]) -> 0 | E17: gesamt meldete Personen | I17: =SUM(I13,I15) -> 0

Sheet Essen
B2: Verein
B3: =IF(Hauptmeldebogen_KiSGruTu!C7<>"",Hauptmeldebogen_KiSGruTu!C7,"")
B5: Daten Essen
B7: Essen | C7: Anzahl | D7: davon laktoseintolerant | E7: davon Glutenunverträglichkeit | G7: Die Anzahl der bestellten Essen sollte ggf. mit der Anzahl eurer gemeldeten Betreuer und Teilnehmer übereinstimmen.
B8: mit Fleisch | M8: =SUM(Tabelle2630[[#This Row],[davon laktoseintolerant]:[davon Glutenunverträglichkeit]]) -> 0
B9: vegetarisch | M9: =SUM(Tabelle2630[[#This Row],[davon laktoseintolerant]:[davon Glutenunverträglichkeit]]) -> 0
B10: vegan | M10: =SUM(Tabelle2630[[#This Row],[davon laktoseintolerant]:[davon Glutenunverträglichkeit]]) -> 0
B11: Gesamt | C11: =SUM(Tabelle2630[Anzahl]) -> 0 | D11: =SUM(Tabelle2630[davon laktoseintolerant]) -> 0 | E11: =SUM(Tabelle2630[davon Glutenunverträglichkeit]) -> 0 | M11: =SUM(D11:E11) -> 0
G12: gemeldete Teilnehmer | K12: =Hauptmeldebogen_KiSGruTu!C21 -> 0
G14: gemeldete Betreuer | K14: =Hauptmeldebogen_KiSGruTu!C23 -> 0
G16: gesamt meldete Personen | K16: =SUM(K12,K14) -> 0

Sheet RAW
B2: Wettkampf | D2: Klasse | E2: Anzahl Disziplinen | F2: Disziplin | G2: gemeldete Disziplin | H2: fehlende Karis | I2: Anzahl Mannschaften | J2: Anzahl Karis | K2: Lizenz | L2: Fotoerlaubnis | M2: Geschlecht | N2: SGW 1 | P2: SGW 2 | R2: TGM Ju | T2: TGM J | V2: TGM E | X2: TGW J | Z2: TGW E | AB2: TGW S | AD2: SGW 2 A | AF2: SGW 2 B | AH2: SGW Starters | AJ2: Unterbringung gemischt
B3: 34. Kinder- und Schülergruppenturniade | D3: SGW 1 | E3: 4 | F3: Turnen | G3: 1 | H3: 0 | I3: 0 | J3: 0 | K3: A | L3: ja | M3: w | N3: =YEAR(TODAY())-6 -> 2020 | P3: =YEAR(TODAY())-8 -> 2018 | R3: =YEAR(TODAY())-12 -> 2014 | T3: =YEAR(TODAY())-12 -> 2014 | V3: =YEAR(TODAY())-16 -> 2010 | X3: =YEAR(TODAY())-14 -> 2012 | Z3: =YEAR(TODAY())-16 -> 2010 | AB3: =YEAR(TODAY())-25 -> 2001 | AD3: =YEAR(TODAY())-8 -> 2018 | AF3: =YEAR(TODAY())-8 -> 2018 | AH3: =YEAR(TODAY())-6 -> 2020 | AJ3: ja
D4: SGW 2 | E4: 4 | F4: Singen | H4: 1 | I4: 1 | J4: 1 | K4: B | L4: nein | M4: m | N4: =YEAR(TODAY())-7 -> 2019 | P4: =YEAR(TODAY())-9 -> 2017 | R4: =YEAR(TODAY())-13 -> 2013 | T4: =YEAR(TODAY())-13 -> 2013 | V4: =YEAR(TODAY())-17 -> 2009 | X4: =YEAR(TODAY())-15 -> 2011 | Z4: =YEAR(TODAY())-17 -> 2009 | AB4: =YEAR(TODAY())-26 -> 2000 | AD4: =YEAR(TODAY())-9 -> 2017 | AF4: =YEAR(TODAY())-9 -> 2017 | AH4: =YEAR(TODAY())-7 -> 2019 | AJ4: nein
B5: Datum und Ort | D5: TGM Jugend | E5: 4 | F5: Tanzen | H5: 2 | I5: 2 | J5: 2 | N5: =YEAR(TODAY())-8 -> 2018 | P5: =YEAR(TODAY())-10 -> 2016 | R5: =YEAR(TODAY())-14 -> 2012 | T5: =YEAR(TODAY())-14 -> 2012 | V5: =YEAR(TODAY())-18 -> 2008 | X5: =YEAR(TODAY())-16 -> 2010 | Z5: =YEAR(TODAY())-18 -> 2008 | AB5: =YEAR(TODAY())-27 -> 1999 | AD5: =YEAR(TODAY())-10 -> 2016 | AF5: =YEAR(TODAY())-10 -> 2016 | AH5: =YEAR(TODAY())-8 -> 2018
B6: vom 13. bis 15. November 2026 beim TSV Nord Harrislee | D6: TGM Junioren | E6: 4 | F6: MD | H6: 3 | I6: 3 | J6: 3 | N6: =YEAR(TODAY())-9 -> 2017 | P6: =YEAR(TODAY())-11 -> 2015 | R6: =YEAR(TODAY())-15 -> 2011 | T6: =YEAR(TODAY())-15 -> 2011 | X6: =YEAR(TODAY())-17 -> 2009 | AB6: =YEAR(TODAY())-28 -> 1998 | AD6: =YEAR(TODAY())-11 -> 2015 | AF6: =YEAR(TODAY())-11 -> 2015 | AH6: =YEAR(TODAY())-9 -> 2017
D7: TGM E | E7: 4 | F7: Gymnastik | H7: 4 | I7: 4 | J7: 4 | N7: =YEAR(TODAY())-10 -> 2016 | P7: =YEAR(TODAY())-12 -> 2014 | R7: =YEAR(TODAY())-16 -> 2010 | T7: =YEAR(TODAY())-16 -> 2010 | V7: 18 und älter | X7: =YEAR(TODAY())-18 -> 2008 | Z7: 18 und älter | AB7: =YEAR(TODAY())-29 -> 1997 | AD7: =YEAR(TODAY())-12 -> 2014 | AF7: =YEAR(TODAY())-12 -> 2014 | AH7: =YEAR(TODAY())-10 -> 2016
B8: Meldeschluss | D8: TGW Junioren | E8: 3 | I8: 5 | J8: 5 | N8: =YEAR(TODAY())-11 -> 2015 | P8: =YEAR(TODAY())-13 -> 2013 | R8: =YEAR(TODAY())-17 -> 2009 | T8: =YEAR(TODAY())-17 -> 2009 | X8: =YEAR(TODAY())-19 -> 2007 | AB8: =YEAR(TODAY())-30 -> 1996 | AD8: =YEAR(TODAY())-13 -> 2013 | AF8: =YEAR(TODAY())-13 -> 2013 | AH8: =YEAR(TODAY())-11 -> 2015
B9: Meldeschluss: 23. Oktober 2026 | D9: TGW E | E9: 3 | I9: 6 | J9: 6 | P9: =YEAR(TODAY())-14 -> 2012 | R9: =YEAR(TODAY())-18 -> 2008 | T9: =YEAR(TODAY())-18 -> 2008 | X9: =YEAR(TODAY())-20 -> 2006 | AD9: =YEAR(TODAY())-14 -> 2012 | AF9: =YEAR(TODAY())-14 -> 2012 | AH9: =YEAR(TODAY())-13 -> 2013
D10: TGW S | E10: 3 | I10: 7 | J10: 7 | T10: =YEAR(TODAY())-19 -> 2007 | X10: =YEAR(TODAY())-21 -> 2005 | AB10: 30 und älter | AH10: =YEAR(TODAY())-12 -> 2014
B11: Startgeld pro Mannschaft | D11: SGW 1 | E11: 4 | I11: 8 | T11: =YEAR(TODAY())-20 -> 2006 | AH11: =YEAR(TODAY())-14 -> 2012
D12: SGW 2 A | E12: 4 | I12: 9 | T12: =YEAR(TODAY())-21 -> 2005
D13: SGW 2 B | E13: 4 | I13: 10
B14: Kaution pro Mannschaft | D14: SGW Starters | E14: 3 | I14: 11
I15: 12 | N15: SGWI | P15: SGWII | R15: TGMJugend | T15: TGMJunioren | V15: TGME | X15: TGWJunioren | Z15: TGWE | AB15: TGWS | AD15: SGWIIA | AF15: SGWIIB | AH15: SGWS
I16: 13 | N16: =YEAR(TODAY())-6 -> 2020 | P16: =YEAR(TODAY())-8 -> 2018 | R16: =YEAR(TODAY())-12 -> 2014 | T16: =YEAR(TODAY())-12 -> 2014 | V16: =YEAR(TODAY())-16 -> 2010 | X16: =YEAR(TODAY())-14 -> 2012 | Z16: =YEAR(TODAY())-16 -> 2010 | AB16: =YEAR(TODAY())-25 -> 2001 | AD16: =YEAR(TODAY())-8 -> 2018 | AF16: =YEAR(TODAY())-8 -> 2018 | AH16: =YEAR(TODAY())-6 -> 2020
B17: Gebühr pro fehlendem Kampfrichter | D17: SGW 1 | E17: SGWI | N17: =YEAR(TODAY())-7 -> 2019 | P17: =YEAR(TODAY())-9 -> 2017 | R17: =YEAR(TODAY())-13 -> 2013 | T17: =YEAR(TODAY())-13 -> 2013 | V17: =YEAR(TODAY())-17 -> 2009 | X17: =YEAR(TODAY())-15 -> 2011 | Z17: =YEAR(TODAY())-17 -> 2009 | AB17: =YEAR(TODAY())-26 -> 2000 | AD17: =YEAR(TODAY())-9 -> 2017 | AF17: =YEAR(TODAY())-9 -> 2017 | AH17: =YEAR(TODAY())-7 -> 2019
B18: 100 | D18: SGW 2 | E18: SGWII | N18: =YEAR(TODAY())-8 -> 2018 | P18: =YEAR(TODAY())-10 -> 2016 | R18: =YEAR(TODAY())-14 -> 2012 | T18: =YEAR(TODAY())-14 -> 2012 | V18: =YEAR(TODAY())-18 -> 2008 | X18: =YEAR(TODAY())-16 -> 2010 | Z18: =YEAR(TODAY())-18 -> 2008 | AB18: =YEAR(TODAY())-27 -> 1999 | AD18: =YEAR(TODAY())-10 -> 2016 | AF18: =YEAR(TODAY())-10 -> 2016 | AH18: =YEAR(TODAY())-8 -> 2018
D19: TGM Jugend | E19: TGMJu | N19: =YEAR(TODAY())-9 -> 2017 | P19: =YEAR(TODAY())-11 -> 2015 | R19: =YEAR(TODAY())-15 -> 2011 | T19: =YEAR(TODAY())-15 -> 2011 | V19: =YEAR(TODAY())-19 -> 2007 | X19: =YEAR(TODAY())-17 -> 2009 | Z19: =YEAR(TODAY())-19 -> 2007 | AB19: =YEAR(TODAY())-28 -> 1998 | AD19: =YEAR(TODAY())-11 -> 2015 | AF19: =YEAR(TODAY())-11 -> 2015 | AH19: =YEAR(TODAY())-9 -> 2017
B20: Beitrag pro Übernachtung / Frühstück | D20: TGM Junioren | E20: TGMJ | N20: =YEAR(TODAY())-10 -> 2016 | P20: =YEAR(TODAY())-12 -> 2014 | R20: =YEAR(TODAY())-16 -> 2010 | T20: =YEAR(TODAY())-16 -> 2010 | V20: =YEAR(TODAY())-20 -> 2006 | X20: =YEAR(TODAY())-18 -> 2008 | Z20: =YEAR(TODAY())-20 -> 2006 | AB20: =YEAR(TODAY())-29 -> 1997 | AD20: =YEAR(TODAY())-12 -> 2014 | AF20: =YEAR(TODAY())-12 -> 2014 | AH20: =YEAR(TODAY())-10 -> 2016
D21: TGM E | E21: TGME | N21: =YEAR(TODAY())-11 -> 2015 | P21: =YEAR(TODAY())-13 -> 2013 | R21: =YEAR(TODAY())-17 -> 2009 | T21: =YEAR(TODAY())-17 -> 2009 | V21: =YEAR(TODAY())-21 -> 2005 | X21: =YEAR(TODAY())-19 -> 2007 | Z21: =YEAR(TODAY())-21 -> 2005 | AB21: =YEAR(TODAY())-30 -> 1996 | AD21: =YEAR(TODAY())-13 -> 2013 | AF21: =YEAR(TODAY())-13 -> 2013 | AH21: =YEAR(TODAY())-11 -> 2015
D22: TGW Junioren | E22: TGWJ | P22: =YEAR(TODAY())-14 -> 2012 | R22: =YEAR(TODAY())-18 -> 2008 | T22: =YEAR(TODAY())-18 -> 2008 | V22: =YEAR(TODAY())-22 -> 2004 | X22: =YEAR(TODAY())-20 -> 2006 | Z22: =YEAR(TODAY())-22 -> 2004 | AB22: =YEAR(TODAY())-31 -> 1995 | AD22: =YEAR(TODAY())-14 -> 2012 | AF22: =YEAR(TODAY())-14 -> 2012 | AH22: =YEAR(TODAY())-12 -> 2014
B23: Beitrag pro Abendessen Samstag | D23: TGW E | E23: TGWE | T23: =YEAR(TODAY())-19 -> 2007 | V23: =YEAR(TODAY())-23 -> 2003 | X23: =YEAR(TODAY())-21 -> 2005 | Z23: =YEAR(TODAY())-23 -> 2003 | AB23: =YEAR(TODAY())-32 -> 1994 | AH23: =YEAR(TODAY())-13 -> 2013
D24: TGW S | E24: TGWS | T24: =YEAR(TODAY())-20 -> 2006 | V24: =YEAR(TODAY())-24 -> 2002 | Z24: =YEAR(TODAY())-24 -> 2002 | AB24: =YEAR(TODAY())-33 -> 1993 | AH24: =YEAR(TODAY())-14 -> 2012
D25: SGW 1 | E25: SGWI | T25: =YEAR(TODAY())-21 -> 2005 | V25: =YEAR(TODAY())-25 -> 2001 | Z25: =YEAR(TODAY())-25 -> 2001 | AB25: =YEAR(TODAY())-34 -> 1992
B26: Beitrag pro T-Shirt | D26: SGW 2 A | E26: SGWIIA | V26: =YEAR(TODAY())-26 -> 2000 | Z26: =YEAR(TODAY())-26 -> 2000 | AB26: =YEAR(TODAY())-35 -> 1991
D27: SGW 2 B | E27: SGWIIB | V27: =YEAR(TODAY())-27 -> 1999 | Z27: =YEAR(TODAY())-27 -> 1999 | AB27: =YEAR(TODAY())-36 -> 1990
D28: SGW Starters | E28: SGWS | V28: =YEAR(TODAY())-28 -> 1998 | Z28: =YEAR(TODAY())-28 -> 1998 | AB28: =YEAR(TODAY())-37 -> 1989
B29: Orgabeitrag Teilnehmer (Tagesgäste) | V29: =YEAR(TODAY())-29 -> 1997 | Z29: =YEAR(TODAY())-29 -> 1997 | AB29: =YEAR(TODAY())-38 -> 1988
V30: =YEAR(TODAY())-30 -> 1996 | Z30: =YEAR(TODAY())-30 -> 1996 | AB30: =YEAR(TODAY())-39 -> 1987
V31: =YEAR(TODAY())-31 -> 1995 | Z31: =YEAR(TODAY())-31 -> 1995 | AB31: =YEAR(TODAY())-40 -> 1986
B32: Gebühr pro Kind (Teilnehmer/in, Ersatzperson, Gast) | V32: =YEAR(TODAY())-32 -> 1994 | Z32: =YEAR(TODAY())-32 -> 1994 | AB32: =YEAR(TODAY())-41 -> 1985
B33: 45 | V33: =YEAR(TODAY())-33 -> 1993 | Z33: =YEAR(TODAY())-33 -> 1993 | AB33: =YEAR(TODAY())-42 -> 1984
V34: =YEAR(TODAY())-34 -> 1992 | Z34: =YEAR(TODAY())-34 -> 1992 | AB34: =YEAR(TODAY())-43 -> 1983
B35: Gebühr pro Erwachsener (Trainer/in, Betreuer/in, Kari) | V35: =YEAR(TODAY())-35 -> 1991 | Z35: =YEAR(TODAY())-35 -> 1991 | AB35: =YEAR(TODAY())-44 -> 1982
B36: 30 | V36: =YEAR(TODAY())-36 -> 1990 | Z36: =YEAR(TODAY())-36 -> 1990 | AB36: =YEAR(TODAY())-45 -> 1981
V37: =YEAR(TODAY())-37 -> 1989 | Z37: =YEAR(TODAY())-37 -> 1989 | AB37: =YEAR(TODAY())-46 -> 1980
B38: Frist Überweisung | V38: =YEAR(TODAY())-38 -> 1988 | Z38: =YEAR(TODAY())-38 -> 1988 | AB38: =YEAR(TODAY())-47 -> 1979
B39: 46325 | V39: =YEAR(TODAY())-39 -> 1987 | Z39: =YEAR(TODAY())-39 -> 1987 | AB39: =YEAR(TODAY())-48 -> 1978
B40: auf das folgende Konto zu überweisen: | V40: =YEAR(TODAY())-40 -> 1986 | Z40: =YEAR(TODAY())-40 -> 1986 | AB40: =YEAR(TODAY())-49 -> 1977
V41: =YEAR(TODAY())-41 -> 1985 | Z41: =YEAR(TODAY())-41 -> 1985 | AB41: =YEAR(TODAY())-50 -> 1976
B42: Verwendungszweck | V42: =YEAR(TODAY())-42 -> 1984 | Z42: =YEAR(TODAY())-42 -> 1984 | AB42: =YEAR(TODAY())-51 -> 1975
B43: SHTV Turnerjugend | V43: =YEAR(TODAY())-43 -> 1983 | Z43: =YEAR(TODAY())-43 -> 1983 | AB43: =YEAR(TODAY())-52 -> 1974
B44: VR Bank zwischen den Meeren | V44: =YEAR(TODAY())-44 -> 1982 | Z44: =YEAR(TODAY())-44 -> 1982 | AB44: =YEAR(TODAY())-53 -> 1973
B45: IBAN: DE76 2139 0008 0002527510, | V45: =YEAR(TODAY())-45 -> 1981 | Z45: =YEAR(TODAY())-45 -> 1981 | AB45: =YEAR(TODAY())-54 -> 1972
B46: BIC: GENODEF1NSH | V46: =YEAR(TODAY())-46 -> 1980 | Z46: =YEAR(TODAY())-46 -> 1980 | AB46: =YEAR(TODAY())-55 -> 1971
B47: Verwendungszweck: Kisgrutu 2026 + | V47: =YEAR(TODAY())-47 -> 1979 | Z47: =YEAR(TODAY())-47 -> 1979 | AB47: =YEAR(TODAY())-56 -> 1970
V48: =YEAR(TODAY())-48 -> 1978 | Z48: =YEAR(TODAY())-48 -> 1978 | AB48: =YEAR(TODAY())-57 -> 1969
V49: =YEAR(TODAY())-49 -> 1977 | Z49: =YEAR(TODAY())-49 -> 1977 | AB49: =YEAR(TODAY())-58 -> 1968
V50: =YEAR(TODAY())-50 -> 1976 | Z50: =YEAR(TODAY())-50 -> 1976 | AB50: =YEAR(TODAY())-59 -> 1967
V51: =YEAR(TODAY())-51 -> 1975 | Z51: =YEAR(TODAY())-51 -> 1975 | AB51: =YEAR(TODAY())-60 -> 1966
V52: =YEAR(TODAY())-52 -> 1974 | Z52: =YEAR(TODAY())-52 -> 1974 | AB52: =YEAR(TODAY())-61 -> 1965
V53: =YEAR(TODAY())-53 -> 1973 | Z53: =YEAR(TODAY())-53 -> 1973 | AB53: =YEAR(TODAY())-62 -> 1964
V54: =YEAR(TODAY())-54 -> 1972 | Z54: =YEAR(TODAY())-54 -> 1972 | AB54: =YEAR(TODAY())-63 -> 1963
V55: =YEAR(TODAY())-55 -> 1971 | Z55: =YEAR(TODAY())-55 -> 1971 | AB55: =YEAR(TODAY())-64 -> 1962
V56: =YEAR(TODAY())-56 -> 1970 | Z56: =YEAR(TODAY())-56 -> 1970 | AB56: =YEAR(TODAY())-65 -> 1961
V57: =YEAR(TODAY())-57 -> 1969 | Z57: =YEAR(TODAY())-57 -> 1969 | AB57: =YEAR(TODAY())-66 -> 1960
V58: =YEAR(TODAY())-58 -> 1968 | Z58: =YEAR(TODAY())-58 -> 1968 | AB58: =YEAR(TODAY())-67 -> 1959
V59: =YEAR(TODAY())-59 -> 1967 | Z59: =YEAR(TODAY())-59 -> 1967 | AB59: =YEAR(TODAY())-68 -> 1958
V60: =YEAR(TODAY())-60 -> 1966 | Z60: =YEAR(TODAY())-60 -> 1966 | AB60: =YEAR(TODAY())-69 -> 1957
V61: =YEAR(TODAY())-61 -> 1965 | Z61: =YEAR(TODAY())-61 -> 1965 | AB61: =YEAR(TODAY())-70 -> 1956
V62: =YEAR(TODAY())-62 -> 1964 | Z62: =YEAR(TODAY())-62 -> 1964 | AB62: =YEAR(TODAY())-71 -> 1955
V63: =YEAR(TODAY())-63 -> 1963 | Z63: =YEAR(TODAY())-63 -> 1963 | AB63: =YEAR(TODAY())-72 -> 1954
V64: =YEAR(TODAY())-64 -> 1962 | Z64: =YEAR(TODAY())-64 -> 1962 | AB64: =YEAR(TODAY())-72 -> 1954
V65: =YEAR(TODAY())-65 -> 1961 | Z65: =YEAR(TODAY())-65 -> 1961 | AB65: =YEAR(TODAY())-73 -> 1953
V66: =YEAR(TODAY())-66 -> 1960 | Z66: =YEAR(TODAY())-66 -> 1960 | AB66: =YEAR(TODAY())-74 -> 1952
V67: =YEAR(TODAY())-67 -> 1959 | Z67: =YEAR(TODAY())-67 -> 1959 | AB67: =YEAR(TODAY())-75 -> 1951
V68: =YEAR(TODAY())-68 -> 1958 | Z68: =YEAR(TODAY())-68 -> 1958 | AB68: =YEAR(TODAY())-76 -> 1950
V69: =YEAR(TODAY())-69 -> 1957 | Z69: =YEAR(TODAY())-69 -> 1957 | AB69: =YEAR(TODAY())-77 -> 1949
V70: =YEAR(TODAY())-70 -> 1956 | Z70: =YEAR(TODAY())-70 -> 1956 | AB70: =YEAR(TODAY())-78 -> 1948
V71: =YEAR(TODAY())-71 -> 1955 | Z71: =YEAR(TODAY())-71 -> 1955 | AB71: =YEAR(TODAY())-79 -> 1947
V72: =YEAR(TODAY())-72 -> 1954 | Z72: =YEAR(TODAY())-72 -> 1954 | AB72: =YEAR(TODAY())-80 -> 1946
V73: =YEAR(TODAY())-72 -> 1954 | Z73: =YEAR(TODAY())-72 -> 1954 | AB73: =YEAR(TODAY())-81 -> 1945
V74: =YEAR(TODAY())-73 -> 1953 | Z74: =YEAR(TODAY())-73 -> 1953 | AB74: =YEAR(TODAY())-82 -> 1944
V75: =YEAR(TODAY())-74 -> 1952 | Z75: =YEAR(TODAY())-74 -> 1952 | AB75: =YEAR(TODAY())-82 -> 1944
V76: =YEAR(TODAY())-75 -> 1951 | Z76: =YEAR(TODAY())-75 -> 1951 | AB76: =YEAR(TODAY())-84 -> 1942
V77: =YEAR(TODAY())-76 -> 1950 | Z77: =YEAR(TODAY())-76 -> 1950 | AB77: =YEAR(TODAY())-85 -> 1941
V78: =YEAR(TODAY())-77 -> 1949 | Z78: =YEAR(TODAY())-77 -> 1949 | AB78: =YEAR(TODAY())-86 -> 1940
V79: =YEAR(TODAY())-78 -> 1948 | Z79: =YEAR(TODAY())-78 -> 1948 | AB79: =YEAR(TODAY())-87 -> 1939
V80: =YEAR(TODAY())-79 -> 1947 | Z80: =YEAR(TODAY())-79 -> 1947 | AB80: =YEAR(TODAY())-88 -> 1938
V81: =YEAR(TODAY())-80 -> 1946 | Z81: =YEAR(TODAY())-80 -> 1946 | AB81: =YEAR(TODAY())-89 -> 1937
V82: =YEAR(TODAY())-81 -> 1945 | Z82: =YEAR(TODAY())-81 -> 1945 | AB82: =YEAR(TODAY())-90 -> 1936
V83: =YEAR(TODAY())-82 -> 1944 | Z83: =YEAR(TODAY())-82 -> 1944
V84: =YEAR(TODAY())-82 -> 1944 | Z84: =YEAR(TODAY())-82 -> 1944
V85: =YEAR(TODAY())-84 -> 1942 | Z85: =YEAR(TODAY())-84 -> 1942
V86: =YEAR(TODAY())-85 -> 1941 | Z86: =YEAR(TODAY())-85 -> 1941
V87: =YEAR(TODAY())-86 -> 1940 | Z87: =YEAR(TODAY())-86 -> 1940
V88: =YEAR(TODAY())-87 -> 1939 | Z88: =YEAR(TODAY())-87 -> 1939
V89: =YEAR(TODAY())-88 -> 1938 | Z89: =YEAR(TODAY())-88 -> 1938
V90: =YEAR(TODAY())-89 -> 1937 | Z90: =YEAR(TODAY())-89 -> 1937
V91: =YEAR(TODAY())-90 -> 1936 | Z91: =YEAR(TODAY())-90 -> 1936

Sheet Gesamt Verein
B2: KiSGruTu | C2: Verein | D2: Mannschaft | E2: Klasse | F2: m | G2: w | H2: Tu | I2: Si | J2: Ta | K2: Gym | L2: PSt | M2: Wurf | N2: fehlende Karis | O2: Anz Mannschaften | P2: Betrag | Q2: Fotoerlaubnis | R2: Disziplinen gecheckt | S2: Nachname | T2: Vorname | U2: Telefonnummer | V2: E-Mail | W2: Nachname Kari | X2: Vorname Kari | Y2: Disziplin Kari | Z2: E-Mail Kari | AA2: Lizenz | AB2: Anmerkungen | AC2: Benötigte Geräte Turnen | AD2: Ersatz | AE2: Betreuer | AF2: Gesamt Kinder | AG2: Ehrenkodex | AH2: Hauptverantwortlicher vor Ort | AI2: Mobilnummer vor Ort | AJ2: Bus | AK2: PKW | AL2: Unterbringung mit | AM2: gemischt | AN2: weiblich | AO2: männlich | AQ2: Größen | AR2: T-Shirts | AT2: Ersatz Verein | AU2: Ersatz NN | AV2: Ersatz VN | AX2: Essen | AY2: Anzahl | AZ2: davon laktoseintolerant | BA2: davon Glutenunverträglichkeit
C3: =IF(Mannschaftsmeldebogen_KiSGruTu!B8<>"",Hauptmeldebogen_KiSGruTu!$C$7,"") | D3: =IF(Mannschaftsmeldebogen_KiSGruTu!B8<>"",Mannschaftsmeldebogen_KiSGruTu!B8,"") | E3: =IF(Mannschaftsmeldebogen_KiSGruTu!C8<>"",Mannschaftsmeldebogen_KiSGruTu!C8,"") | F3: =COUNTIF(mski[Geschlecht],RAW!M4) -> 0 | G3: =COUNTIF(mski[Geschlecht],RAW!M3) -> 0 | H3: =IF(Mannschaftsmeldebogen_KiSGruTu!D8<>"",Mannschaftsmeldebogen_KiSGruTu!D8,"") | I3: =IF(Mannschaftsmeldebogen_KiSGruTu!E8<>"",Mannschaftsmeldebogen_KiSGruTu!E8,"") | J3: =IF(Mannschaftsmeldebogen_KiSGruTu!F8<>"",Mannschaftsmeldebogen_KiSGruTu!F8,"") | K3: =IF(Mannschaftsmeldebogen_KiSGruTu!G8<>"",Mannschaftsmeldebogen_KiSGruTu!G8,"") | L3: =IF(Mannschaftsmeldebogen_KiSGruTu!H8<>"",Mannschaftsmeldebogen_KiSGruTu!H8,"") | M3: =IF(Mannschaftsmeldebogen_KiSGruTu!I8<>"",Mannschaftsmeldebogen_KiSGruTu!I8,"") | N3: =Hauptmeldebogen_KiSGruTu!C19 -> 0 | O3: =Hauptmeldebogen_KiSGruTu!C15 -> 0 | P3: =Hauptmeldebogen_KiSGruTu!C29 -> 0 | Q3: =IF(Hauptmeldebogen_KiSGruTu!C25<>"",Hauptmeldebogen_KiSGruTu!C25,"") | S3: =IF(Hauptmeldebogen_KiSGruTu!C10<>"",Hauptmeldebogen_KiSGruTu!C10,"") | T3: =IF(Hauptmeldebogen_KiSGruTu!C11<>"",Hauptmeldebogen_KiSGruTu!C11,"") | U3: =IF(Hauptmeldebogen_KiSGruTu!C13<>"",Hauptmeldebogen_KiSGruTu!C13,"") | V3: =IF(Hauptmeldebogen_KiSGruTu!C12<>"",Hauptmeldebogen_KiSGruTu!C12,"") | W3: =IF(Karimeldebogen!B9<>"",Karimeldebogen!B9,"") | X3: =IF(Karimeldebogen!C9<>"",Karimeldebogen!C9,"") | Y3: =IF(Karimeldebogen!D9<>"",Karimeldebogen!D9,"") | Z3: =IF(Karimeldebogen!E9<>"",Karimeldebogen!E9,"") | AA3: =IF(Karimeldebogen!F9<>"",Karimeldebogen!F9,"") | AB3: =IF(Karimeldebogen!G9<>"",Karimeldebogen!G9,"") | AC3: =IF(Mannschaftsmeldebogen_KiSGruTu!J8<>"",Mannschaftsmeldebogen_KiSGruTu!J8,"") | AD3: =COUNTIF(Tabelle27[Nachname],"*") -> 0 | AE3: =COUNTIF(Tabelle28[Nachname],"*") -> 0 | AF3: =SUM(Tabelle350[m],Tabelle350[w],Tabelle350[[#This Row],[Ersatz]]) -> 0 | AG3: =IF(Hauptmeldebogen_KiSGruTu!C27<>"",Hauptmeldebogen_KiSGruTu!C27,"") | AH3: =IF('weitere Angaben'!C5<>"",'weitere Angaben'!C5,"") | AI3: =IF('weitere Angaben'!C6<>"",'weitere Angaben'!C6,"") | AJ3: =IF('weitere Angaben'!C9<>"",'weitere Angaben'!C9,"") | AK3: =IF('weitere Angaben'!C10<>"",'weitere Angaben'!C10,"") | AL3: =IF('weitere Angaben'!C12<>"",'weitere Angaben'!C12,"") | AM3: =IF('weitere Angaben'!C15<>"",'weitere Angaben'!C15,"") | AN3: =IF('weitere Angaben'!C17<>"",'weitere Angaben'!C17,"") | AO3: =IF('weitere Angaben'!C18<>"",'weitere Angaben'!C18,"") | AR3: =Hauptmeldebogen_KiSGruTu!C7 -> 0 | AT3: =IF('weitere Anmeldungen'!D6<>"",Hauptmeldebogen_KiSGruTu!$C$7,"") | AU3: =IF('weitere Anmeldungen'!D6<>"",'weitere Anmeldungen'!D6,"") | AV3: =IF('weitere Anmeldungen'!E6<>"",'weitere Anmeldungen'!E6,"") | AY3: =Hauptmeldebogen_KiSGruTu!C7 -> 0
C4: =IF(Mannschaftsmeldebogen_KiSGruTu!B9<>"",Hauptmeldebogen_KiSGruTu!$C$7,"") | D4: =IF(Mannschaftsmeldebogen_KiSGruTu!B9<>"",Mannschaftsmeldebogen_KiSGruTu!B9,"") | E4: =IF(Mannschaftsmeldebogen_KiSGruTu!C9<>"",Mannschaftsmeldebogen_KiSGruTu!C9,"") | F4: =COUNTIF(mskii[Geschlecht],RAW!M4) -> 0 | G4: =COUNTIF(mskii[Geschlecht],RAW!M3) -> 0 | H4: =IF(Mannschaftsmeldebogen_KiSGruTu!D9<>"",Mannschaftsmeldebogen_KiSGruTu!D9,"") | I4: =IF(Mannschaftsmeldebogen_KiSGruTu!E9<>"",Mannschaftsmeldebogen_KiSGruTu!E9,"") | J4: =IF(Mannschaftsmeldebogen_KiSGruTu!F9<>"",Mannschaftsmeldebogen_KiSGruTu!F9,"") | K4: =IF(Mannschaftsmeldebogen_KiSGruTu!G9<>"",Mannschaftsmeldebogen_KiSGruTu!G9,"") | L4: =IF(Mannschaftsmeldebogen_KiSGruTu!H9<>"",Mannschaftsmeldebogen_KiSGruTu!H9,"") | M4: =IF(Mannschaftsmeldebogen_KiSGruTu!I9<>"",Mannschaftsmeldebogen_KiSGruTu!I9,"") | W4: =IF(Karimeldebogen!B10<>"",Karimeldebogen!B10,"") | X4: =IF(Karimeldebogen!C10<>"",Karimeldebogen!C10,"") | Y4: =IF(Karimeldebogen!D10<>"",Karimeldebogen!D10,"") | Z4: =IF(Karimeldebogen!E10<>"",Karimeldebogen!E10,"") | AA4: =IF(Karimeldebogen!F10<>"",Karimeldebogen!F10,"") | AB4: =IF(Karimeldebogen!G10<>"",Karimeldebogen!G10,"") | AC4: =IF(Mannschaftsmeldebogen_KiSGruTu!J9<>"",Mannschaftsmeldebogen_KiSGruTu!J9,"") | AQ4: ='T-Shirts'!B8 -> 128 | AR4: ='T-Shirts'!C8 -> 0 | AT4: =IF('weitere Anmeldungen'!D7<>"",Hauptmeldebogen_KiSGruTu!$C$7,"") | AU4: =IF('weitere Anmeldungen'!D7<>"",'weitere Anmeldungen'!D7,"") | AV4: =IF('weitere Anmeldungen'!E7<>"",'weitere Anmeldungen'!E7,"") | AX4: =Essen!B8 -> mit Fleisch | AY4: =Essen!C8 -> 0 | AZ4: =Essen!D8 -> 0 | BA4: =Essen!E8 -> 0
C5: =IF(Mannschaftsmeldebogen_KiSGruTu!B10<>"",Hauptmeldebogen_KiSGruTu!$C$7,"") | D5: =IF(Mannschaftsmeldebogen_KiSGruTu!B10<>"",Mannschaftsmeldebogen_KiSGruTu!B10,"") | E5: =IF(Mannschaftsmeldebogen_KiSGruTu!C10<>"",Mannschaftsmeldebogen_KiSGruTu!C10,"") | F5: =COUNTIF(mskiii[Geschlecht],RAW!M4) -> 0 | G5: =COUNTIF(mskiii[Geschlecht],RAW!M3) -> 0 | H5: =IF(Mannschaftsmeldebogen_KiSGruTu!D10<>"",Mannschaftsmeldebogen_KiSGruTu!D10,"") | I5: =IF(Mannschaftsmeldebogen_KiSGruTu!E10<>"",Mannschaftsmeldebogen_KiSGruTu!E10,"") | J5: =IF(Mannschaftsmeldebogen_KiSGruTu!F10<>"",Mannschaftsmeldebogen_KiSGruTu!F10,"") | K5: =IF(Mannschaftsmeldebogen_KiSGruTu!G10<>"",Mannschaftsmeldebogen_KiSGruTu!G10,"") | L5: =IF(Mannschaftsmeldebogen_KiSGruTu!H10<>"",Mannschaftsmeldebogen_KiSGruTu!H10,"") | M5: =IF(Mannschaftsmeldebogen_KiSGruTu!I10<>"",Mannschaftsmeldebogen_KiSGruTu!I10,"") | W5: =IF(Karimeldebogen!B11<>"",Karimeldebogen!B11,"") | X5: =IF(Karimeldebogen!C11<>"",Karimeldebogen!C11,"") | Y5: =IF(Karimeldebogen!D11<>"",Karimeldebogen!D11,"") | Z5: =IF(Karimeldebogen!E11<>"",Karimeldebogen!E11,"") | AA5: =IF(Karimeldebogen!F11<>"",Karimeldebogen!F11,"") | AB5: =IF(Karimeldebogen!G11<>"",Karimeldebogen!G11,"") | AC5: =IF(Mannschaftsmeldebogen_KiSGruTu!J10<>"",Mannschaftsmeldebogen_KiSGruTu!J10,"") | AQ5: ='T-Shirts'!B9 -> 140 | AR5: ='T-Shirts'!C9 -> 0 | AT5: =IF('weitere Anmeldungen'!D8<>"",Hauptmeldebogen_KiSGruTu!$C$7,"") | AU5: =IF('weitere Anmeldungen'!D8<>"",'weitere Anmeldungen'!D8,"") | AV5: =IF('weitere Anmeldungen'!E8<>"",'weitere Anmeldungen'!E8,"") | AX5: =Essen!B9 -> vegetarisch | AY5: =Essen!C9 -> 0 | AZ5: =Essen!D9 -> 0 | BA5: =Essen!E9 -> 0
C6: =IF(Mannschaftsmeldebogen_KiSGruTu!B11<>"",Hauptmeldebogen_KiSGruTu!$C$7,"") | D6: =IF(Mannschaftsmeldebogen_KiSGruTu!B11<>"",Mannschaftsmeldebogen_KiSGruTu!B11,"") | E6: =IF(Mannschaftsmeldebogen_KiSGruTu!C11<>"",Mannschaftsmeldebogen_KiSGruTu!C11,"") | F6: =COUNTIF(mskiv[Geschlecht],RAW!M4) -> 0 | G6: =COUNTIF(mskiv[Geschlecht],RAW!M3) -> 0 | H6: =IF(Mannschaftsmeldebogen_KiSGruTu!D11<>"",Mannschaftsmeldebogen_KiSGruTu!D11,"") | I6: =IF(Mannschaftsmeldebogen_KiSGruTu!E11<>"",Mannschaftsmeldebogen_KiSGruTu!E11,"") | J6: =IF(Mannschaftsmeldebogen_KiSGruTu!F11<>"",Mannschaftsmeldebogen_KiSGruTu!F11,"") | K6: =IF(Mannschaftsmeldebogen_KiSGruTu!G11<>"",Mannschaftsmeldebogen_KiSGruTu!G11,"") | L6: =IF(Mannschaftsmeldebogen_KiSGruTu!H11<>"",Mannschaftsmeldebogen_KiSGruTu!H11,"") | M6: =IF(Mannschaftsmeldebogen_KiSGruTu!I11<>"",Mannschaftsmeldebogen_KiSGruTu!I11,"") | W6: =IF(Karimeldebogen!B12<>"",Karimeldebogen!B12,"") | X6: =IF(Karimeldebogen!C12<>"",Karimeldebogen!C12,"") | Y6: =IF(Karimeldebogen!D12<>"",Karimeldebogen!D12,"") | Z6: =IF(Karimeldebogen!E12<>"",Karimeldebogen!E12,"") | AA6: =IF(Karimeldebogen!F12<>"",Karimeldebogen!F12,"") | AB6: =IF(Karimeldebogen!G12<>"",Karimeldebogen!G12,"") | AC6: =IF(Mannschaftsmeldebogen_KiSGruTu!J11<>"",Mannschaftsmeldebogen_KiSGruTu!J11,"") | AQ6: ='T-Shirts'!B10 -> 152 | AR6: ='T-Shirts'!C10 -> 0 | AT6: =IF('weitere Anmeldungen'!D9<>"",Hauptmeldebogen_KiSGruTu!$C$7,"") | AU6: =IF('weitere Anmeldungen'!D9<>"",'weitere Anmeldungen'!D9,"") | AV6: =IF('weitere Anmeldungen'!E9<>"",'weitere Anmeldungen'!E9,"") | AX6: =Essen!B10 -> vegan | AY6: =Essen!C10 -> 0 | AZ6: =Essen!D10 -> 0 | BA6: =Essen!E10 -> 0
C7: =IF(Mannschaftsmeldebogen_KiSGruTu!B12<>"",Hauptmeldebogen_KiSGruTu!$C$7,"") | D7: =IF(Mannschaftsmeldebogen_KiSGruTu!B12<>"",Mannschaftsmeldebogen_KiSGruTu!B12,"") | E7: =IF(Mannschaftsmeldebogen_KiSGruTu!C12<>"",Mannschaftsmeldebogen_KiSGruTu!C12,"") | F7: =COUNTIF(mskv[Geschlecht],RAW!M4) -> 0 | G7: =COUNTIF(mskv[Geschlecht],RAW!M3) -> 0 | H7: =IF(Mannschaftsmeldebogen_KiSGruTu!D12<>"",Mannschaftsmeldebogen_KiSGruTu!D12,"") | I7: =IF(Mannschaftsmeldebogen_KiSGruTu!E12<>"",Mannschaftsmeldebogen_KiSGruTu!E12,"") | J7: =IF(Mannschaftsmeldebogen_KiSGruTu!F12<>"",Mannschaftsmeldebogen_KiSGruTu!F12,"") | K7: =IF(Mannschaftsmeldebogen_KiSGruTu!G12<>"",Mannschaftsmeldebogen_KiSGruTu!G12,"") | L7: =IF(Mannschaftsmeldebogen_KiSGruTu!H12<>"",Mannschaftsmeldebogen_KiSGruTu!H12,"") | M7: =IF(Mannschaftsmeldebogen_KiSGruTu!I12<>"",Mannschaftsmeldebogen_KiSGruTu!I12,"") | W7: =IF(Karimeldebogen!B13<>"",Karimeldebogen!B13,"") | X7: =IF(Karimeldebogen!C13<>"",Karimeldebogen!C13,"") | Y7: =IF(Karimeldebogen!D13<>"",Karimeldebogen!D13,"") | Z7: =IF(Karimeldebogen!E13<>"",Karimeldebogen!E13,"") | AA7: =IF(Karimeldebogen!F13<>"",Karimeldebogen!F13,"") | AB7: =IF(Karimeldebogen!G13<>"",Karimeldebogen!G13,"") | AC7: =IF(Mannschaftsmeldebogen_KiSGruTu!J12<>"",Mannschaftsmeldebogen_KiSGruTu!J12,"") | AQ7: ='T-Shirts'!B11 -> 164 | AR7: ='T-Shirts'!C11 -> 0 | AT7: =IF('weitere Anmeldungen'!D10<>"",Hauptmeldebogen_KiSGruTu!$C$7,"") | AU7: =IF('weitere Anmeldungen'!D10<>"",'weitere Anmeldungen'!D10,"") | AV7: =IF('weitere Anmeldungen'!E10<>"",'weitere Anmeldungen'!E10,"") | AX7: =Essen!B11 -> Gesamt | AY7: =Essen!C11 -> 0 | AZ7: =Essen!D11 -> 0 | BA7: =Essen!E11 -> 0
C8: =IF(Mannschaftsmeldebogen_KiSGruTu!B13<>"",Hauptmeldebogen_KiSGruTu!$C$7,"") | D8: =IF(Mannschaftsmeldebogen_KiSGruTu!B13<>"",Mannschaftsmeldebogen_KiSGruTu!B13,"") | E8: =IF(Mannschaftsmeldebogen_KiSGruTu!C13<>"",Mannschaftsmeldebogen_KiSGruTu!C13,"") | F8: =COUNTIF(mskvi[Geschlecht],RAW!M4) -> 0 | G8: =COUNTIF(mskvi[Geschlecht],RAW!M3) -> 0 | H8: =IF(Mannschaftsmeldebogen_KiSGruTu!D13<>"",Mannschaftsmeldebogen_KiSGruTu!D13,"") | I8: =IF(Mannschaftsmeldebogen_KiSGruTu!E13<>"",Mannschaftsmeldebogen_KiSGruTu!E13,"") | J8: =IF(Mannschaftsmeldebogen_KiSGruTu!F13<>"",Mannschaftsmeldebogen_KiSGruTu!F13,"") | K8: =IF(Mannschaftsmeldebogen_KiSGruTu!G13<>"",Mannschaftsmeldebogen_KiSGruTu!G13,"") | L8: =IF(Mannschaftsmeldebogen_KiSGruTu!H13<>"",Mannschaftsmeldebogen_KiSGruTu!H13,"") | M8: =IF(Mannschaftsmeldebogen_KiSGruTu!I13<>"",Mannschaftsmeldebogen_KiSGruTu!I13,"") | W8: =IF(Karimeldebogen!B14<>"",Karimeldebogen!B14,"") | X8: =IF(Karimeldebogen!C14<>"",Karimeldebogen!C14,"") | Y8: =IF(Karimeldebogen!D14<>"",Karimeldebogen!D14,"") | Z8: =IF(Karimeldebogen!E14<>"",Karimeldebogen!E14,"") | AA8: =IF(Karimeldebogen!F14<>"",Karimeldebogen!F14,"") | AB8: =IF(Karimeldebogen!G14<>"",Karimeldebogen!G14,"") | AC8: =IF(Mannschaftsmeldebogen_KiSGruTu!J13<>"",Mannschaftsmeldebogen_KiSGruTu!J13,"") | AQ8: ='T-Shirts'!B12 -> S | AR8: ='T-Shirts'!C12 -> 0 | AT8: =IF('weitere Anmeldungen'!D11<>"",Hauptmeldebogen_KiSGruTu!$C$7,"") | AU8: =IF('weitere Anmeldungen'!D11<>"",'weitere Anmeldungen'!D11,"") | AV8: =IF('weitere Anmeldungen'!E11<>"",'weitere Anmeldungen'!E11,"")
C9: =IF(Mannschaftsmeldebogen_KiSGruTu!B14<>"",Hauptmeldebogen_KiSGruTu!$C$7,"") | D9: =IF(Mannschaftsmeldebogen_KiSGruTu!B14<>"",Mannschaftsmeldebogen_KiSGruTu!B14,"") | E9: =IF(Mannschaftsmeldebogen_KiSGruTu!C14<>"",Mannschaftsmeldebogen_KiSGruTu!C14,"") | F9: =COUNTIF(mskvii[Geschlecht],RAW!M4) -> 0 | G9: =COUNTIF(mskvii[Geschlecht],RAW!M3) -> 0 | H9: =IF(Mannschaftsmeldebogen_KiSGruTu!D14<>"",Mannschaftsmeldebogen_KiSGruTu!D14,"") | I9: =IF(Mannschaftsmeldebogen_KiSGruTu!E14<>"",Mannschaftsmeldebogen_KiSGruTu!E14,"") | J9: =IF(Mannschaftsmeldebogen_KiSGruTu!F14<>"",Mannschaftsmeldebogen_KiSGruTu!F14,"") | K9: =IF(Mannschaftsmeldebogen_KiSGruTu!G14<>"",Mannschaftsmeldebogen_KiSGruTu!G14,"") | L9: =IF(Mannschaftsmeldebogen_KiSGruTu!H14<>"",Mannschaftsmeldebogen_KiSGruTu!H14,"") | M9: =IF(Mannschaftsmeldebogen_KiSGruTu!I14<>"",Mannschaftsmeldebogen_KiSGruTu!I14,"") | W9: =IF(Karimeldebogen!B15<>"",Karimeldebogen!B15,"") | X9: =IF(Karimeldebogen!C15<>"",Karimeldebogen!C15,"") | Y9: =IF(Karimeldebogen!D15<>"",Karimeldebogen!D15,"") | Z9: =IF(Karimeldebogen!E15<>"",Karimeldebogen!E15,"") | AA9: =IF(Karimeldebogen!F15<>"",Karimeldebogen!F15,"") | AB9: =IF(Karimeldebogen!G15<>"",Karimeldebogen!G15,"") | AC9: =IF(Mannschaftsmeldebogen_KiSGruTu!J14<>"",Mannschaftsmeldebogen_KiSGruTu!J14,"") | AQ9: ='T-Shirts'!B13 -> M | AR9: ='T-Shirts'!C13 -> 0 | AT9: =IF('weitere Anmeldungen'!D12<>"",Hauptmeldebogen_KiSGruTu!$C$7,"") | AU9: =IF('weitere Anmeldungen'!D12<>"",'weitere Anmeldungen'!D12,"") | AV9: =IF('weitere Anmeldungen'!E12<>"",'weitere Anmeldungen'!E12,"")
C10: =IF(Mannschaftsmeldebogen_KiSGruTu!B15<>"",Hauptmeldebogen_KiSGruTu!$C$7,"") | D10: =IF(Mannschaftsmeldebogen_KiSGruTu!B15<>"",Mannschaftsmeldebogen_KiSGruTu!B15,"") | E10: =IF(Mannschaftsmeldebogen_KiSGruTu!C15<>"",Mannschaftsmeldebogen_KiSGruTu!C15,"") | F10: =COUNTIF(mskviii[Geschlecht],RAW!M4) -> 0 | G10: =COUNTIF(mskviii[Geschlecht],RAW!M3) -> 0 | H10: =IF(Mannschaftsmeldebogen_KiSGruTu!D15<>"",Mannschaftsmeldebogen_KiSGruTu!D15,"") | I10: =IF(Mannschaftsmeldebogen_KiSGruTu!E15<>"",Mannschaftsmeldebogen_KiSGruTu!E15,"") | J10: =IF(Mannschaftsmeldebogen_KiSGruTu!F15<>"",Mannschaftsmeldebogen_KiSGruTu!F15,"") | K10: =IF(Mannschaftsmeldebogen_KiSGruTu!G15<>"",Mannschaftsmeldebogen_KiSGruTu!G15,"") | L10: =IF(Mannschaftsmeldebogen_KiSGruTu!H15<>"",Mannschaftsmeldebogen_KiSGruTu!H15,"") | M10: =IF(Mannschaftsmeldebogen_KiSGruTu!I15<>"",Mannschaftsmeldebogen_KiSGruTu!I15,"") | W10: =IF(Karimeldebogen!B16<>"",Karimeldebogen!B16,"") | X10: =IF(Karimeldebogen!C16<>"",Karimeldebogen!C16,"") | Y10: =IF(Karimeldebogen!D16<>"",Karimeldebogen!D16,"") | Z10: =IF(Karimeldebogen!E16<>"",Karimeldebogen!E16,"") | AA10: =IF(Karimeldebogen!F16<>"",Karimeldebogen!F16,"") | AB10: =IF(Karimeldebogen!G16<>"",Karimeldebogen!G16,"") | AC10: =IF(Mannschaftsmeldebogen_KiSGruTu!J15<>"",Mannschaftsmeldebogen_KiSGruTu!J15,"") | AQ10: ='T-Shirts'!B14 -> L | AR10: ='T-Shirts'!C14 -> 0 | AT10: =IF('weitere Anmeldungen'!D13<>"",Hauptmeldebogen_KiSGruTu!$C$7,"") | AU10: =IF('weitere Anmeldungen'!D13<>"",'weitere Anmeldungen'!D13,"") | AV10: =IF('weitere Anmeldungen'!E13<>"",'weitere Anmeldungen'!E13,"")
C11: =IF(Mannschaftsmeldebogen_KiSGruTu!B16<>"",Hauptmeldebogen_KiSGruTu!$C$7,"") | D11: =IF(Mannschaftsmeldebogen_KiSGruTu!B16<>"",Mannschaftsmeldebogen_KiSGruTu!B16,"") | E11: =IF(Mannschaftsmeldebogen_KiSGruTu!C16<>"",Mannschaftsmeldebogen_KiSGruTu!C16,"") | F11: =COUNTIF(mskix[Geschlecht],RAW!M4) -> 0 | G11: =COUNTIF(mskix[Geschlecht],RAW!M3) -> 0 | H11: =IF(Mannschaftsmeldebogen_KiSGruTu!D16<>"",Mannschaftsmeldebogen_KiSGruTu!D16,"") | I11: =IF(Mannschaftsmeldebogen_KiSGruTu!E16<>"",Mannschaftsmeldebogen_KiSGruTu!E16,"") | J11: =IF(Mannschaftsmeldebogen_KiSGruTu!F16<>"",Mannschaftsmeldebogen_KiSGruTu!F16,"") | K11: =IF(Mannschaftsmeldebogen_KiSGruTu!G16<>"",Mannschaftsmeldebogen_KiSGruTu!G16,"") | L11: =IF(Mannschaftsmeldebogen_KiSGruTu!H16<>"",Mannschaftsmeldebogen_KiSGruTu!H16,"") | M11: =IF(Mannschaftsmeldebogen_KiSGruTu!I16<>"",Mannschaftsmeldebogen_KiSGruTu!I16,"") | W11: =IF(Karimeldebogen!B17<>"",Karimeldebogen!B17,"") | X11: =IF(Karimeldebogen!C17<>"",Karimeldebogen!C17,"") | Y11: =IF(Karimeldebogen!D17<>"",Karimeldebogen!D17,"") | Z11: =IF(Karimeldebogen!E17<>"",Karimeldebogen!E17,"") | AA11: =IF(Karimeldebogen!F17<>"",Karimeldebogen!F17,"") | AB11: =IF(Karimeldebogen!G17<>"",Karimeldebogen!G17,"") | AC11: =IF(Mannschaftsmeldebogen_KiSGruTu!J16<>"",Mannschaftsmeldebogen_KiSGruTu!J16,"") | AQ11: ='T-Shirts'!B15 -> XL | AR11: ='T-Shirts'!C15 -> 0 | AT11: =IF('weitere Anmeldungen'!D14<>"",Hauptmeldebogen_KiSGruTu!$C$7,"") | AU11: =IF('weitere Anmeldungen'!D14<>"",'weitere Anmeldungen'!D14,"") | AV11: =IF('weitere Anmeldungen'!E14<>"",'weitere Anmeldungen'!E14,"")
C12: =IF(Mannschaftsmeldebogen_KiSGruTu!B17<>"",Hauptmeldebogen_KiSGruTu!$C$7,"") | D12: =IF(Mannschaftsmeldebogen_KiSGruTu!B17<>"",Mannschaftsmeldebogen_KiSGruTu!B17,"") | E12: =IF(Mannschaftsmeldebogen_KiSGruTu!C17<>"",Mannschaftsmeldebogen_KiSGruTu!C17,"") | F12: =COUNTIF(mskx[Geschlecht],RAW!M4) -> 0 | G12: =COUNTIF(mskx[Geschlecht],RAW!M3) -> 0 | H12: =IF(Mannschaftsmeldebogen_KiSGruTu!D17<>"",Mannschaftsmeldebogen_KiSGruTu!D17,"") | I12: =IF(Mannschaftsmeldebogen_KiSGruTu!E17<>"",Mannschaftsmeldebogen_KiSGruTu!E17,"") | J12: =IF(Mannschaftsmeldebogen_KiSGruTu!F17<>"",Mannschaftsmeldebogen_KiSGruTu!F17,"") | K12: =IF(Mannschaftsmeldebogen_KiSGruTu!G17<>"",Mannschaftsmeldebogen_KiSGruTu!G17,"") | L12: =IF(Mannschaftsmeldebogen_KiSGruTu!H17<>"",Mannschaftsmeldebogen_KiSGruTu!H17,"") | M12: =IF(Mannschaftsmeldebogen_KiSGruTu!I17<>"",Mannschaftsmeldebogen_KiSGruTu!I17,"") | W12: =IF(Karimeldebogen!B18<>"",Karimeldebogen!B18,"") | X12: =IF(Karimeldebogen!C18<>"",Karimeldebogen!C18,"") | Y12: =IF(Karimeldebogen!D18<>"",Karimeldebogen!D18,"") | Z12: =IF(Karimeldebogen!E18<>"",Karimeldebogen!E18,"") | AA12: =IF(Karimeldebogen!F18<>"",Karimeldebogen!F18,"") | AB12: =IF(Karimeldebogen!G18<>"",Karimeldebogen!G18,"") | AC12: =IF(Mannschaftsmeldebogen_KiSGruTu!J17<>"",Mannschaftsmeldebogen_KiSGruTu!J17,"") | AQ12: ='T-Shirts'!B16 -> XXL | AR12: ='T-Shirts'!C16 -> 0 | AT12: =IF('weitere Anmeldungen'!D15<>"",Hauptmeldebogen_KiSGruTu!$C$7,"") | AU12: =IF('weitere Anmeldungen'!D15<>"",'weitere Anmeldungen'!D15,"") | AV12: =IF('weitere Anmeldungen'!E15<>"",'weitere Anmeldungen'!E15,"")
C13: =IF(Mannschaftsmeldebogen_KiSGruTu!B18<>"",Hauptmeldebogen_KiSGruTu!$C$7,"") | D13: =IF(Mannschaftsmeldebogen_KiSGruTu!B18<>"",Mannschaftsmeldebogen_KiSGruTu!B18,"") | E13: =IF(Mannschaftsmeldebogen_KiSGruTu!C18<>"",Mannschaftsmeldebogen_KiSGruTu!C18,"") | F13: =COUNTIF(mskxi[Geschlecht],RAW!M4) -> 0 | G13: =COUNTIF(mskxi[Geschlecht],RAW!M3) -> 0 | H13: =IF(Mannschaftsmeldebogen_KiSGruTu!D18<>"",Mannschaftsmeldebogen_KiSGruTu!D18,"") | I13: =IF(Mannschaftsmeldebogen_KiSGruTu!E18<>"",Mannschaftsmeldebogen_KiSGruTu!E18,"") | J13: =IF(Mannschaftsmeldebogen_KiSGruTu!F18<>"",Mannschaftsmeldebogen_KiSGruTu!F18,"") | K13: =IF(Mannschaftsmeldebogen_KiSGruTu!G18<>"",Mannschaftsmeldebogen_KiSGruTu!G18,"") | L13: =IF(Mannschaftsmeldebogen_KiSGruTu!H18<>"",Mannschaftsmeldebogen_KiSGruTu!H18,"") | M13: =IF(Mannschaftsmeldebogen_KiSGruTu!I18<>"",Mannschaftsmeldebogen_KiSGruTu!I18,"") | W13: =IF(Karimeldebogen!B19<>"",Karimeldebogen!B19,"") | X13: =IF(Karimeldebogen!C19<>"",Karimeldebogen!C19,"") | Y13: =IF(Karimeldebogen!D19<>"",Karimeldebogen!D19,"") | Z13: =IF(Karimeldebogen!E19<>"",Karimeldebogen!E19,"") | AA13: =IF(Karimeldebogen!F19<>"",Karimeldebogen!F19,"") | AB13: =IF(Karimeldebogen!G19<>"",Karimeldebogen!G19,"") | AC13: =IF(Mannschaftsmeldebogen_KiSGruTu!J18<>"",Mannschaftsmeldebogen_KiSGruTu!J18,"")
C14: =IF(Mannschaftsmeldebogen_KiSGruTu!B19<>"",Hauptmeldebogen_KiSGruTu!$C$7,"") | D14: =IF(Mannschaftsmeldebogen_KiSGruTu!B19<>"",Mannschaftsmeldebogen_KiSGruTu!B19,"") | E14: =IF(Mannschaftsmeldebogen_KiSGruTu!C19<>"",Mannschaftsmeldebogen_KiSGruTu!C19,"") | F14: =COUNTIF(mskxii[Geschlecht],RAW!M4) -> 0 | G14: =COUNTIF(mskxii[Geschlecht],RAW!M3) -> 0 | H14: =IF(Mannschaftsmeldebogen_KiSGruTu!D19<>"",Mannschaftsmeldebogen_KiSGruTu!D19,"") | I14: =IF(Mannschaftsmeldebogen_KiSGruTu!E19<>"",Mannschaftsmeldebogen_KiSGruTu!E19,"") | J14: =IF(Mannschaftsmeldebogen_KiSGruTu!F19<>"",Mannschaftsmeldebogen_KiSGruTu!F19,"") | K14: =IF(Mannschaftsmeldebogen_KiSGruTu!G19<>"",Mannschaftsmeldebogen_KiSGruTu!G19,"") | L14: =IF(Mannschaftsmeldebogen_KiSGruTu!H19<>"",Mannschaftsmeldebogen_KiSGruTu!H19,"") | M14: =IF(Mannschaftsmeldebogen_KiSGruTu!I19<>"",Mannschaftsmeldebogen_KiSGruTu!I19,"") | W14: =IF(Karimeldebogen!B20<>"",Karimeldebogen!B20,"") | X14: =IF(Karimeldebogen!C20<>"",Karimeldebogen!C20,"") | Y14: =IF(Karimeldebogen!D20<>"",Karimeldebogen!D20,"") | Z14: =IF(Karimeldebogen!E20<>"",Karimeldebogen!E20,"") | AA14: =IF(Karimeldebogen!F20<>"",Karimeldebogen!F20,"") | AB14: =IF(Karimeldebogen!G20<>"",Karimeldebogen!G20,"") | AC14: =IF(Mannschaftsmeldebogen_KiSGruTu!J19<>"",Mannschaftsmeldebogen_KiSGruTu!J19,"")
C15: =IF(Mannschaftsmeldebogen_KiSGruTu!B20<>"",Hauptmeldebogen_KiSGruTu!$C$7,"") | D15: =IF(Mannschaftsmeldebogen_KiSGruTu!B20<>"",Mannschaftsmeldebogen_KiSGruTu!B20,"") | E15: =IF(Mannschaftsmeldebogen_KiSGruTu!C20<>"",Mannschaftsmeldebogen_KiSGruTu!C20,"") | F15: =COUNTIF(mskxiii[Geschlecht],RAW!M4) -> 0 | G15: =COUNTIF(mskxiii[Geschlecht],RAW!M3) -> 0 | H15: =IF(Mannschaftsmeldebogen_KiSGruTu!D20<>"",Mannschaftsmeldebogen_KiSGruTu!D20,"") | I15: =IF(Mannschaftsmeldebogen_KiSGruTu!E20<>"",Mannschaftsmeldebogen_KiSGruTu!E20,"") | J15: =IF(Mannschaftsmeldebogen_KiSGruTu!F20<>"",Mannschaftsmeldebogen_KiSGruTu!F20,"") | K15: =IF(Mannschaftsmeldebogen_KiSGruTu!G20<>"",Mannschaftsmeldebogen_KiSGruTu!G20,"") | L15: =IF(Mannschaftsmeldebogen_KiSGruTu!H20<>"",Mannschaftsmeldebogen_KiSGruTu!H20,"") | M15: =IF(Mannschaftsmeldebogen_KiSGruTu!I20<>"",Mannschaftsmeldebogen_KiSGruTu!I20,"") | W15: =IF(Karimeldebogen!B21<>"",Karimeldebogen!B21,"") | X15: =IF(Karimeldebogen!C21<>"",Karimeldebogen!C21,"") | Y15: =IF(Karimeldebogen!D21<>"",Karimeldebogen!D21,"") | Z15: =IF(Karimeldebogen!E21<>"",Karimeldebogen!E21,"") | AA15: =IF(Karimeldebogen!F21<>"",Karimeldebogen!F21,"") | AB15: =IF(Karimeldebogen!G21<>"",Karimeldebogen!G21,"") | AC15: =IF(Mannschaftsmeldebogen_KiSGruTu!J20<>"",Mannschaftsmeldebogen_KiSGruTu!J20,"") | AT15: Erwachsene Verein | AU15: Erwachsene NN | AV15: Erwachsene VN
AT16: =IF('weitere Anmeldungen'!D18<>"",Hauptmeldebogen_KiSGruTu!$C$7,"") | AU16: =IF('weitere Anmeldungen'!D18<>"",'weitere Anmeldungen'!D18,"") | AV16: =IF('weitere Anmeldungen'!E18<>"",'weitere Anmeldungen'!E18,"")
AT17: =IF('weitere Anmeldungen'!D19<>"",Hauptmeldebogen_KiSGruTu!$C$7,"") | AU17: =IF('weitere Anmeldungen'!D19<>"",'weitere Anmeldungen'!D19,"") | AV17: =IF('weitere Anmeldungen'!E19<>"",'weitere Anmeldungen'!E19,"")
AT18: =IF('weitere Anmeldungen'!D20<>"",Hauptmeldebogen_KiSGruTu!$C$7,"") | AU18: =IF('weitere Anmeldungen'!D20<>"",'weitere Anmeldungen'!D20,"") | AV18: =IF('weitere Anmeldungen'!E20<>"",'weitere Anmeldungen'!E20,"")
AT19: =IF('weitere Anmeldungen'!D21<>"",Hauptmeldebogen_KiSGruTu!$C$7,"") | AU19: =IF('weitere Anmeldungen'!D21<>"",'weitere Anmeldungen'!D21,"") | AV19: =IF('weitere Anmeldungen'!E21<>"",'weitere Anmeldungen'!E21,"")
AT20: =IF('weitere Anmeldungen'!D22<>"",Hauptmeldebogen_KiSGruTu!$C$7,"") | AU20: =IF('weitere Anmeldungen'!D22<>"",'weitere Anmeldungen'!D22,"") | AV20: =IF('weitere Anmeldungen'!E22<>"",'weitere Anmeldungen'!E22,"")
AT21: =IF('weitere Anmeldungen'!D23<>"",Hauptmeldebogen_KiSGruTu!$C$7,"") | AU21: =IF('weitere Anmeldungen'!D23<>"",'weitere Anmeldungen'!D23,"") | AV21: =IF('weitere Anmeldungen'!E23<>"",'weitere Anmeldungen'!E23,"")
AT22: =IF('weitere Anmeldungen'!D24<>"",Hauptmeldebogen_KiSGruTu!$C$7,"") | AU22: =IF('weitere Anmeldungen'!D24<>"",'weitere Anmeldungen'!D24,"") | AV22: =IF('weitere Anmeldungen'!E24<>"",'weitere Anmeldungen'!E24,"")
AT23: =IF('weitere Anmeldungen'!D25<>"",Hauptmeldebogen_KiSGruTu!$C$7,"") | AU23: =IF('weitere Anmeldungen'!D25<>"",'weitere Anmeldungen'!D25,"") | AV23: =IF('weitere Anmeldungen'!E25<>"",'weitere Anmeldungen'!E25,"")
AT24: =IF('weitere Anmeldungen'!D26<>"",Hauptmeldebogen_KiSGruTu!$C$7,"") | AU24: =IF('weitere Anmeldungen'!D26<>"",'weitere Anmeldungen'!D26,"") | AV24: =IF('weitere Anmeldungen'!E26<>"",'weitere Anmeldungen'!E26,"")
AT25: =IF('weitere Anmeldungen'!D27<>"",Hauptmeldebogen_KiSGruTu!$C$7,"") | AU25: =IF('weitere Anmeldungen'!D27<>"",'weitere Anmeldungen'!D27,"") | AV25: =IF('weitere Anmeldungen'!E27<>"",'weitere Anmeldungen'!E27,"")
AT26: =IF('weitere Anmeldungen'!D28<>"",Hauptmeldebogen_KiSGruTu!$C$7,"") | AU26: =IF('weitere Anmeldungen'!D28<>"",'weitere Anmeldungen'!D28,"") | AV26: =IF('weitere Anmeldungen'!E28<>"",'weitere Anmeldungen'!E28,"")
AT27: =IF('weitere Anmeldungen'!D29<>"",Hauptmeldebogen_KiSGruTu!$C$7,"") | AU27: =IF('weitere Anmeldungen'!D29<>"",'weitere Anmeldungen'!D29,"") | AV27: =IF('weitere Anmeldungen'!E29<>"",'weitere Anmeldungen'!E29,"")
... AT30: =IF('weitere Anmeldungen'!D32<>"",Hauptmeldebogen_KiSGruTu!$C$7,"") | AU30: =IF('weitere Anmeldungen'!D32<>"",'weitere Anmeldungen'!D32,"") | AV30: =IF('weitere Anmeldungen'!E32<>"",'weitere Anmeldungen'!E32,"")

Sheet Gesamt Teilnehmer KisGruTu
B2: Verein | C2: Mannschaft | D2: Klasse | E2: Nachname | F2: Vorname | G2: Geschlecht | H2: Jahrgang
B3: =IF(Tabelle1848[[#This Row],[Nachname]]<>"",Mannschaftsmeldebogen_KiSGruTu!$B$3,"") | C3: =IF(Tabelle1848[[#This Row],[Nachname]]<>"",Mannschaftsmeldebogen_KiSGruTu!$B$8,"") | D3: =IF(Tabelle1848[[#This Row],[Nachname]]<>"",Mannschaftsmeldebogen_KiSGruTu!$C$8,"") | E3: =IF(Mannschaftsmeldebogen_KiSGruTu!D24<>"",Mannschaftsmeldebogen_KiSGruTu!D24,"") | F3: =IF(Mannschaftsmeldebogen_KiSGruTu!E24<>"",Mannschaftsmeldebogen_KiSGruTu!E24,"") | G3: =IF(Mannschaftsmeldebogen_KiSGruTu!F24<>"",Mannschaftsmeldebogen_KiSGruTu!F24,"") | H3: =IF(Mannschaftsmeldebogen_KiSGruTu!G24<>"",Mannschaftsmeldebogen_KiSGruTu!G24,"")
B4: =IF(Tabelle1848[[#This Row],[Nachname]]<>"",Mannschaftsmeldebogen_KiSGruTu!$B$3,"") | C4: =IF(Tabelle1848[[#This Row],[Nachname]]<>"",Mannschaftsmeldebogen_KiSGruTu!$B$8,"") | D4: =IF(Tabelle1848[[#This Row],[Nachname]]<>"",Mannschaftsmeldebogen_KiSGruTu!$C$8,"") | E4: =IF(Mannschaftsmeldebogen_KiSGruTu!D25<>"",Mannschaftsmeldebogen_KiSGruTu!D25,"") | F4: =IF(Mannschaftsmeldebogen_KiSGruTu!E25<>"",Mannschaftsmeldebogen_KiSGruTu!E25,"") | G4: =IF(Mannschaftsmeldebogen_KiSGruTu!F25<>"",Mannschaftsmeldebogen_KiSGruTu!F25,"") | H4: =IF(Mannschaftsmeldebogen_KiSGruTu!G25<>"",Mannschaftsmeldebogen_KiSGruTu!G25,"")
B5: =IF(Tabelle1848[[#This Row],[Nachname]]<>"",Mannschaftsmeldebogen_KiSGruTu!$B$3,"") | C5: =IF(Tabelle1848[[#This Row],[Nachname]]<>"",Mannschaftsmeldebogen_KiSGruTu!$B$8,"") | D5: =IF(Tabelle1848[[#This Row],[Nachname]]<>"",Mannschaftsmeldebogen_KiSGruTu!$C$8,"") | E5: =IF(Mannschaftsmeldebogen_KiSGruTu!D26<>"",Mannschaftsmeldebogen_KiSGruTu!D26,"") | F5: =IF(Mannschaftsmeldebogen_KiSGruTu!E26<>"",Mannschaftsmeldebogen_KiSGruTu!E26,"") | G5: =IF(Mannschaftsmeldebogen_KiSGruTu!F26<>"",Mannschaftsmeldebogen_KiSGruTu!F26,"") | H5: =IF(Mannschaftsmeldebogen_KiSGruTu!G26<>"",Mannschaftsmeldebogen_KiSGruTu!G26,"")
B6: =IF(Tabelle1848[[#This Row],[Nachname]]<>"",Mannschaftsmeldebogen_KiSGruTu!$B$3,"") | C6: =IF(Tabelle1848[[#This Row],[Nachname]]<>"",Mannschaftsmeldebogen_KiSGruTu!$B$8,"") | D6: =IF(Tabelle1848[[#This Row],[Nachname]]<>"",Mannschaftsmeldebogen_KiSGruTu!$C$8,"") | E6: =IF(Mannschaftsmeldebogen_KiSGruTu!D27<>"",Mannschaftsmeldebogen_KiSGruTu!D27,"") | F6: =IF(Mannschaftsmeldebogen_KiSGruTu!E27<>"",Mannschaftsmeldebogen_KiSGruTu!E27,"") | G6: =IF(Mannschaftsmeldebogen_KiSGruTu!F27<>"",Mannschaftsmeldebogen_KiSGruTu!F27,"") | H6: =IF(Mannschaftsmeldebogen_KiSGruTu!G27<>"",Mannschaftsmeldebogen_KiSGruTu!G27,"")
B7: =IF(Tabelle1848[[#This Row],[Nachname]]<>"",Mannschaftsmeldebogen_KiSGruTu!$B$3,"") | C7: =IF(Tabelle1848[[#This Row],[Nachname]]<>"",Mannschaftsmeldebogen_KiSGruTu!$B$8,"") | D7: =IF(Tabelle1848[[#This Row],[Nachname]]<>"",Mannschaftsmeldebogen_KiSGruTu!$C$8,"") | E7: =IF(Mannschaftsmeldebogen_KiSGruTu!D28<>"",Mannschaftsmeldebogen_KiSGruTu!D28,"") | F7: =IF(Mannschaftsmeldebogen_KiSGruTu!E28<>"",Mannschaftsmeldebogen_KiSGruTu!E28,"") | G7: =IF(Mannschaftsmeldebogen_KiSGruTu!F28<>"",Mannschaftsmeldebogen_KiSGruTu!F28,"") | H7: =IF(Mannschaftsmeldebogen_KiSGruTu!G28<>"",Mannschaftsmeldebogen_KiSGruTu!G28,"")
B8: =IF(Tabelle1848[[#This Row],[Nachname]]<>"",Mannschaftsmeldebogen_KiSGruTu!$B$3,"") | C8: =IF(Tabelle1848[[#This Row],[Nachname]]<>"",Mannschaftsmeldebogen_KiSGruTu!$B$8,"") | D8: =IF(Tabelle1848[[#This Row],[Nachname]]<>"",Mannschaftsmeldebogen_KiSGruTu!$C$8,"") | E8: =IF(Mannschaftsmeldebogen_KiSGruTu!D29<>"",Mannschaftsmeldebogen_KiSGruTu!D29,"") | F8: =IF(Mannschaftsmeldebogen_KiSGruTu!E29<>"",Mannschaftsmeldebogen_KiSGruTu!E29,"") | G8: =IF(Mannschaftsmeldebogen_KiSGruTu!F29<>"",Mannschaftsmeldebogen_KiSGruTu!F29,"") | H8: =IF(Mannschaftsmeldebogen_KiSGruTu!G29<>"",Mannschaftsmeldebogen_KiSGruTu!G29,"")
B9: =IF(Tabelle1848[[#This Row],[Nachname]]<>"",Mannschaftsmeldebogen_KiSGruTu!$B$3,"") | C9: =IF(Tabelle1848[[#This Row],[Nachname]]<>"",Mannschaftsmeldebogen_KiSGruTu!$B$8,"") | D9: =IF(Tabelle1848[[#This Row],[Nachname]]<>"",Mannschaftsmeldebogen_KiSGruTu!$C$8,"") | E9: =IF(Mannschaftsmeldebogen_KiSGruTu!D30<>"",Mannschaftsmeldebogen_KiSGruTu!D30,"") | F9: =IF(Mannschaftsmeldebogen_KiSGruTu!E30<>"",Mannschaftsmeldebogen_KiSGruTu!E30,"") | G9: =IF(Mannschaftsmeldebogen_KiSGruTu!F30<>"",Mannschaftsmeldebogen_KiSGruTu!F30,"") | H9: =IF(Mannschaftsmeldebogen_KiSGruTu!G30<>"",Mannschaftsmeldebogen_KiSGruTu!G30,"")
B10: =IF(Tabelle1848[[#This Row],[Nachname]]<>"",Mannschaftsmeldebogen_KiSGruTu!$B$3,"") | C10: =IF(Tabelle1848[[#This Row],[Nachname]]<>"",Mannschaftsmeldebogen_KiSGruTu!$B$8,"") | D10: =IF(Tabelle1848[[#This Row],[Nachname]]<>"",Mannschaftsmeldebogen_KiSGruTu!$C$8,"") | E10: =IF(Mannschaftsmeldebogen_KiSGruTu!D31<>"",Mannschaftsmeldebogen_KiSGruTu!D31,"") | F10: =IF(Mannschaftsmeldebogen_KiSGruTu!E31<>"",Mannschaftsmeldebogen_KiSGruTu!E31,"") | G10: =IF(Mannschaftsmeldebogen_KiSGruTu!F31<>"",Mannschaftsmeldebogen_KiSGruTu!F31,"") | H10: =IF(Mannschaftsmeldebogen_KiSGruTu!G31<>"",Mannschaftsmeldebogen_KiSGruTu!G31,"")
B11: =IF(Tabelle1848[[#This Row],[Nachname]]<>"",Mannschaftsmeldebogen_KiSGruTu!$B$3,"") | C11: =IF(Tabelle1848[[#This Row],[Nachname]]<>"",Mannschaftsmeldebogen_KiSGruTu!$B$8,"") | D11: =IF(Tabelle1848[[#This Row],[Nachname]]<>"",Mannschaftsmeldebogen_KiSGruTu!$C$8,"") | E11: =IF(Mannschaftsmeldebogen_KiSGruTu!D32<>"",Mannschaftsmeldebogen_KiSGruTu!D32,"") | F11: =IF(Mannschaftsmeldebogen_KiSGruTu!E32<>"",Mannschaftsmeldebogen_KiSGruTu!E32,"") | G11: =IF(Mannschaftsmeldebogen_KiSGruTu!F32<>"",Mannschaftsmeldebogen_KiSGruTu!F32,"") | H11: =IF(Mannschaftsmeldebogen_KiSGruTu!G32<>"",Mannschaftsmeldebogen_KiSGruTu!G32,"")
B12: =IF(Tabelle1848[[#This Row],[Nachname]]<>"",Mannschaftsmeldebogen_KiSGruTu!$B$3,"") | C12: =IF(Tabelle1848[[#This Row],[Nachname]]<>"",Mannschaftsmeldebogen_KiSGruTu!$B$8,"") | D12: =IF(Tabelle1848[[#This Row],[Nachname]]<>"",Mannschaftsmeldebogen_KiSGruTu!$C$8,"") | E12: =IF(Mannschaftsmeldebogen_KiSGruTu!D33<>"",Mannschaftsmeldebogen_KiSGruTu!D33,"") | F12: =IF(Mannschaftsmeldebogen_KiSGruTu!E33<>"",Mannschaftsmeldebogen_KiSGruTu!E33,"") | G12: =IF(Mannschaftsmeldebogen_KiSGruTu!F33<>"",Mannschaftsmeldebogen_KiSGruTu!F33,"") | H12: =IF(Mannschaftsmeldebogen_KiSGruTu!G33<>"",Mannschaftsmeldebogen_KiSGruTu!G33,"")
B13: =IF(Tabelle1848[[#This Row],[Nachname]]<>"",Mannschaftsmeldebogen_KiSGruTu!$B$3,"") | C13: =IF(Tabelle1848[[#This Row],[Nachname]]<>"",Mannschaftsmeldebogen_KiSGruTu!$B$8,"") | D13: =IF(Tabelle1848[[#This Row],[Nachname]]<>"",Mannschaftsmeldebogen_KiSGruTu!$C$8,"") | E13: =IF(Mannschaftsmeldebogen_KiSGruTu!D34<>"",Mannschaftsmeldebogen_KiSGruTu!D34,"") | F13: =IF(Mannschaftsmeldebogen_KiSGruTu!E34<>"",Mannschaftsmeldebogen_KiSGruTu!E34,"") | G13: =IF(Mannschaftsmeldebogen_KiSGruTu!F34<>"",Mannschaftsmeldebogen_KiSGruTu!F34,"") | H13: =IF(Mannschaftsmeldebogen_KiSGruTu!G34<>"",Mannschaftsmeldebogen_KiSGruTu!G34,"")
B14: =IF(Tabelle1848[[#This Row],[Nachname]]<>"",Mannschaftsmeldebogen_KiSGruTu!$B$3,"") | C14: =IF(Tabelle1848[[#This Row],[Nachname]]<>"",Mannschaftsmeldebogen_KiSGruTu!$B$8,"") | D14: =IF(Tabelle1848[[#This Row],[Nachname]]<>"",Mannschaftsmeldebogen_KiSGruTu!$C$8,"") | E14: =IF(Mannschaftsmeldebogen_KiSGruTu!D35<>"",Mannschaftsmeldebogen_KiSGruTu!D35,"") | F14: =IF(Mannschaftsmeldebogen_KiSGruTu!E35<>"",Mannschaftsmeldebogen_KiSGruTu!E35,"") | G14: =IF(Mannschaftsmeldebogen_KiSGruTu!F35<>"",Mannschaftsmeldebogen_KiSGruTu!F35,"") | H14: =IF(Mannschaftsmeldebogen_KiSGruTu!G35<>"",Mannschaftsmeldebogen_KiSGruTu!G35,"")
... B18: =IF(Tabelle1848[[#This Row],[Nachname]]<>"",Mannschaftsmeldebogen_KiSGruTu!$B$3,"") | C18: =IF(Tabelle1848[[#This Row],[Nachname]]<>"",Mannschaftsmeldebogen_KiSGruTu!$B$8,"") | D18: =IF(Tabelle1848[[#This Row],[Nachname]]<>"",Mannschaftsmeldebogen_KiSGruTu!$C$8,"") | E18: =IF(Mannschaftsmeldebogen_KiSGruTu!D39<>"",Mannschaftsmeldebogen_KiSGruTu!D39,"") | F18: =IF(Mannschaftsmeldebogen_KiSGruTu!E39<>"",Mannschaftsmeldebogen_KiSGruTu!E39,"") | G18: =IF(Mannschaftsmeldebogen_KiSGruTu!F39<>"",Mannschaftsmeldebogen_KiSGruTu!F39,"") | H18: =IF(Mannschaftsmeldebogen_KiSGruTu!G39<>"",Mannschaftsmeldebogen_KiSGruTu!G39,"")
B19: =IF(Tabelle1848[[#This Row],[Nachname]]<>"",Mannschaftsmeldebogen_KiSGruTu!$B$3,"") | C19: =IF(Tabelle1848[[#This Row],[Nachname]]<>"",Mannschaftsmeldebogen_KiSGruTu!$B$9,"") | D19: =IF(Tabelle1848[[#This Row],[Nachname]]<>"",Mannschaftsmeldebogen_KiSGruTu!$C$9,"") | E19: =IF(Mannschaftsmeldebogen_KiSGruTu!D42<>"",Mannschaftsmeldebogen_KiSGruTu!D42,"") | F19: =IF(Mannschaftsmeldebogen_KiSGruTu!E42<>"",Mannschaftsmeldebogen_KiSGruTu!E42,"") | G19: =IF(Mannschaftsmeldebogen_KiSGruTu!F42<>"",Mannschaftsmeldebogen_KiSGruTu!F42,"") | H19: =IF(Mannschaftsmeldebogen_KiSGruTu!G42<>"",Mannschaftsmeldebogen_KiSGruTu!G42,"")
B20: =IF(Tabelle1848[[#This Row],[Nachname]]<>"",Mannschaftsmeldebogen_KiSGruTu!$B$3,"") | C20: =IF(Tabelle1848[[#This Row],[Nachname]]<>"",Mannschaftsmeldebogen_KiSGruTu!$B$9,"") | D20: =IF(Tabelle1848[[#This Row],[Nachname]]<>"",Mannschaftsmeldebogen_KiSGruTu!$C$9,"") | E20: =IF(Mannschaftsmeldebogen_KiSGruTu!D43<>"",Mannschaftsmeldebogen_KiSGruTu!D43,"") | F20: =IF(Mannschaftsmeldebogen_KiSGruTu!E43<>"",Mannschaftsmeldebogen_KiSGruTu!E43,"") | G20: =IF(Mannschaftsmeldebogen_KiSGruTu!F43<>"",Mannschaftsmeldebogen_KiSGruTu!F43,"") | H20: =IF(Mannschaftsmeldebogen_KiSGruTu!G43<>"",Mannschaftsmeldebogen_KiSGruTu!G43,"")
B21: =IF(Tabelle1848[[#This Row],[Nachname]]<>"",Mannschaftsmeldebogen_KiSGruTu!$B$3,"") | C21: =IF(Tabelle1848[[#This Row],[Nachname]]<>"",Mannschaftsmeldebogen_KiSGruTu!$B$9,"") | D21: =IF(Tabelle1848[[#This Row],[Nachname]]<>"",Mannschaftsmeldebogen_KiSGruTu!$C$9,"") | E21: =IF(Mannschaftsmeldebogen_KiSGruTu!D44<>"",Mannschaftsmeldebogen_KiSGruTu!D44,"") | F21: =IF(Mannschaftsmeldebogen_KiSGruTu!E44<>"",Mannschaftsmeldebogen_KiSGruTu!E44,"") | G21: =IF(Mannschaftsmeldebogen_KiSGruTu!F44<>"",Mannschaftsmeldebogen_KiSGruTu!F44,"") | H21: =IF(Mannschaftsmeldebogen_KiSGruTu!G44<>"",Mannschaftsmeldebogen_KiSGruTu!G44,"")
B22: =IF(Tabelle1848[[#This Row],[Nachname]]<>"",Mannschaftsmeldebogen_KiSGruTu!$B$3,"") | C22: =IF(Tabelle1848[[#This Row],[Nachname]]<>"",Mannschaftsmeldebogen_KiSGruTu!$B$9,"") | D22: =IF(Tabelle1848[[#This Row],[Nachname]]<>"",Mannschaftsmeldebogen_KiSGruTu!$C$9,"") | E22: =IF(Mannschaftsmeldebogen_KiSGruTu!D45<>"",Mannschaftsmeldebogen_KiSGruTu!D45,"") | F22: =IF(Mannschaftsmeldebogen_KiSGruTu!E45<>"",Mannschaftsmeldebogen_KiSGruTu!E45,"") | G22: =IF(Mannschaftsmeldebogen_KiSGruTu!F45<>"",Mannschaftsmeldebogen_KiSGruTu!F45,"") | H22: =IF(Mannschaftsmeldebogen_KiSGruTu!G45<>"",Mannschaftsmeldebogen_KiSGruTu!G45,"")
B23: =IF(Tabelle1848[[#This Row],[Nachname]]<>"",Mannschaftsmeldebogen_KiSGruTu!$B$3,"") | C23: =IF(Tabelle1848[[#This Row],[Nachname]]<>"",Mannschaftsmeldebogen_KiSGruTu!$B$9,"") | D23: =IF(Tabelle1848[[#This Row],[Nachname]]<>"",Mannschaftsmeldebogen_KiSGruTu!$C$9,"") | E23: =IF(Mannschaftsmeldebogen_KiSGruTu!D46<>"",Mannschaftsmeldebogen_KiSGruTu!D46,"") | F23: =IF(Mannschaftsmeldebogen_KiSGruTu!E46<>"",Mannschaftsmeldebogen_KiSGruTu!E46,"") | G23: =IF(Mannschaftsmeldebogen_KiSGruTu!F46<>"",Mannschaftsmeldebogen_KiSGruTu!F46,"") | H23: =IF(Mannschaftsmeldebogen_KiSGruTu!G46<>"",Mannschaftsmeldebogen_KiSGruTu!G46,"")
B24: =IF(Tabelle1848[[#This Row],[Nachname]]<>"",Mannschaftsmeldebogen_KiSGruTu!$B$3,"") | C24: =IF(Tabelle1848[[#This Row],[Nachname]]<>"",Mannschaftsmeldebogen_KiSGruTu!$B$9,"") | D24: =IF(Tabelle1848[[#This Row],[Nachname]]<>"",Mannschaftsmeldebogen_KiSGruTu!$C$9,"") | E24: =IF(Mannschaftsmeldebogen_KiSGruTu!D47<>"",Mannschaftsmeldebogen_KiSGruTu!D47,"") | F24: =IF(Mannschaftsmeldebogen_KiSGruTu!E47<>"",Mannschaftsmeldebogen_KiSGruTu!E47,"") | G24: =IF(Mannschaftsmeldebogen_KiSGruTu!F47<>"",Mannschaftsmeldebogen_KiSGruTu!F47,"") | H24: =IF(Mannschaftsmeldebogen_KiSGruTu!G47<>"",Mannschaftsmeldebogen_KiSGruTu!G47,"")
B25: =IF(Tabelle1848[[#This Row],[Nachname]]<>"",Mannschaftsmeldebogen_KiSGruTu!$B$3,"") | C25: =IF(Tabelle1848[[#This Row],[Nachname]]<>"",Mannschaftsmeldebogen_KiSGruTu!$B$9,"") | D25: =IF(Tabelle1848[[#This Row],[Nachname]]<>"",Mannschaftsmeldebogen_KiSGruTu!$C$9,"") | E25: =IF(Mannschaftsmeldebogen_KiSGruTu!D48<>"",Mannschaftsmeldebogen_KiSGruTu!D48,"") | F25: =IF(Mannschaftsmeldebogen_KiSGruTu!E48<>"",Mannschaftsmeldebogen_KiSGruTu!E48,"") | G25: =IF(Mannschaftsmeldebogen_KiSGruTu!F48<>"",Mannschaftsmeldebogen_KiSGruTu!F48,"") | H25: =IF(Mannschaftsmeldebogen_KiSGruTu!G48<>"",Mannschaftsmeldebogen_KiSGruTu!G48,"")
B26: =IF(Tabelle1848[[#This Row],[Nachname]]<>"",Mannschaftsmeldebogen_KiSGruTu!$B$3,"") | C26: =IF(Tabelle1848[[#This Row],[Nachname]]<>"",Mannschaftsmeldebogen_KiSGruTu!$B$9,"") | D26: =IF(Tabelle1848[[#This Row],[Nachname]]<>"",Mannschaftsmeldebogen_KiSGruTu!$C$9,"") | E26: =IF(Mannschaftsmeldebogen_KiSGruTu!D49<>"",Mannschaftsmeldebogen_KiSGruTu!D49,"") | F26: =IF(Mannschaftsmeldebogen_KiSGruTu!E49<>"",Mannschaftsmeldebogen_KiSGruTu!E49,"") | G26: =IF(Mannschaftsmeldebogen_KiSGruTu!F49<>"",Mannschaftsmeldebogen_KiSGruTu!F49,"") | H26: =IF(Mannschaftsmeldebogen_KiSGruTu!G49<>"",Mannschaftsmeldebogen_KiSGruTu!G49,"")
B27: =IF(Tabelle1848[[#This Row],[Nachname]]<>"",Mannschaftsmeldebogen_KiSGruTu!$B$3,"") | C27: =IF(Tabelle1848[[#This Row],[Nachname]]<>"",Mannschaftsmeldebogen_KiSGruTu!$B$9,"") | D27: =IF(Tabelle1848[[#This Row],[Nachname]]<>"",Mannschaftsmeldebogen_KiSGruTu!$C$9,"") | E27: =IF(Mannschaftsmeldebogen_KiSGruTu!D50<>"",Mannschaftsmeldebogen_KiSGruTu!D50,"") | F27: =IF(Mannschaftsmeldebogen_KiSGruTu!E50<>"",Mannschaftsmeldebogen_KiSGruTu!E50,"") | G27: =IF(Mannschaftsmeldebogen_KiSGruTu!F50<>"",Mannschaftsmeldebogen_KiSGruTu!F50,"") | H27: =IF(Mannschaftsmeldebogen_KiSGruTu!G50<>"",Mannschaftsmeldebogen_KiSGruTu!G50,"")
B28: =IF(Tabelle1848[[#This Row],[Nachname]]<>"",Mannschaftsmeldebogen_KiSGruTu!$B$3,"") | C28: =IF(Tabelle1848[[#This Row],[Nachname]]<>"",Mannschaftsmeldebogen_KiSGruTu!$B$9,"") | D28: =IF(Tabelle1848[[#This Row],[Nachname]]<>"",Mannschaftsmeldebogen_KiSGruTu!$C$9,"") | E28: =IF(Mannschaftsmeldebogen_KiSGruTu!D51<>"",Mannschaftsmeldebogen_KiSGruTu!D51,"") | F28: =IF(Mannschaftsmeldebogen_KiSGruTu!E51<>"",Mannschaftsmeldebogen_KiSGruTu!E51,"") | G28: =IF(Mannschaftsmeldebogen_KiSGruTu!F51<>"",Mannschaftsmeldebogen_KiSGruTu!F51,"") | H28: =IF(Mannschaftsmeldebogen_KiSGruTu!G51<>"",Mannschaftsmeldebogen_KiSGruTu!G51,"")
B29: =IF(Tabelle1848[[#This Row],[Nachname]]<>"",Mannschaftsmeldebogen_KiSGruTu!$B$3,"") | C29: =IF(Tabelle1848[[#This Row],[Nachname]]<>"",Mannschaftsmeldebogen_KiSGruTu!$B$9,"") | D29: =IF(Tabelle1848[[#This Row],[Nachname]]<>"",Mannschaftsmeldebogen_KiSGruTu!$C$9,"") | E29: =IF(Mannschaftsmeldebogen_KiSGruTu!D52<>"",Mannschaftsmeldebogen_KiSGruTu!D52,"") | F29: =IF(Mannschaftsmeldebogen_KiSGruTu!E52<>"",Mannschaftsmeldebogen_KiSGruTu!E52,"") | G29: =IF(Mannschaftsmeldebogen_KiSGruTu!F52<>"",Mannschaftsmeldebogen_KiSGruTu!F52,"") | H29: =IF(Mannschaftsmeldebogen_KiSGruTu!G52<>"",Mannschaftsmeldebogen_KiSGruTu!G52,"")
B30: =IF(Tabelle1848[[#This Row],[Nachname]]<>"",Mannschaftsmeldebogen_KiSGruTu!$B$3,"") | C30: =IF(Tabelle1848[[#This Row],[Nachname]]<>"",Mannschaftsmeldebogen_KiSGruTu!$B$9,"") | D30: =IF(Tabelle1848[[#This Row],[Nachname]]<>"",Mannschaftsmeldebogen_KiSGruTu!$C$9,"") | E30: =IF(Mannschaftsmeldebogen_KiSGruTu!D53<>"",Mannschaftsmeldebogen_KiSGruTu!D53,"") | F30: =IF(Mannschaftsmeldebogen_KiSGruTu!E53<>"",Mannschaftsmeldebogen_KiSGruTu!E53,"") | G30: =IF(Mannschaftsmeldebogen_KiSGruTu!F53<>"",Mannschaftsmeldebogen_KiSGruTu!F53,"") | H30: =IF(Mannschaftsmeldebogen_KiSGruTu!G53<>"",Mannschaftsmeldebogen_KiSGruTu!G53,"")
... B34: =IF(Tabelle1848[[#This Row],[Nachname]]<>"",Mannschaftsmeldebogen_KiSGruTu!$B$3,"") | C34: =IF(Tabelle1848[[#This Row],[Nachname]]<>"",Mannschaftsmeldebogen_KiSGruTu!$B$9,"") | D34: =IF(Tabelle1848[[#This Row],[Nachname]]<>"",Mannschaftsmeldebogen_KiSGruTu!$C$9,"") | E34: =IF(Mannschaftsmeldebogen_KiSGruTu!D57<>"",Mannschaftsmeldebogen_KiSGruTu!D57,"") | F34: =IF(Mannschaftsmeldebogen_KiSGruTu!E57<>"",Mannschaftsmeldebogen_KiSGruTu!E57,"") | G34: =IF(Mannschaftsmeldebogen_KiSGruTu!F57<>"",Mannschaftsmeldebogen_KiSGruTu!F57,"") | H34: =IF(Mannschaftsmeldebogen_KiSGruTu!G57<>"",Mannschaftsmeldebogen_KiSGruTu!G57,"")
B35: =IF(Tabelle1848[[#This Row],[Nachname]]<>"",Mannschaftsmeldebogen_KiSGruTu!$B$3,"") | C35: =IF(Tabelle1848[[#This Row],[Nachname]]<>"",Mannschaftsmeldebogen_KiSGruTu!$B$10,"") | D35: =IF(Tabelle1848[[#This Row],[Nachname]]<>"",Mannschaftsmeldebogen_KiSGruTu!$C$10,"") | E35: =IF(Mannschaftsmeldebogen_KiSGruTu!D60<>"",Mannschaftsmeldebogen_KiSGruTu!D60,"") | F35: =IF(Mannschaftsmeldebogen_KiSGruTu!E60<>"",Mannschaftsmeldebogen_KiSGruTu!E60,"") | G35: =IF(Mannschaftsmeldebogen_KiSGruTu!F60<>"",Mannschaftsmeldebogen_KiSGruTu!F60,"") | H35: =IF(Mannschaftsmeldebogen_KiSGruTu!G60<>"",Mannschaftsmeldebogen_KiSGruTu!G60,"")
B36: =IF(Tabelle1848[[#This Row],[Nachname]]<>"",Mannschaftsmeldebogen_KiSGruTu!$B$3,"") | C36: =IF(Tabelle1848[[#This Row],[Nachname]]<>"",Mannschaftsmeldebogen_KiSGruTu!$B$10,"") | D36: =IF(Tabelle1848[[#This Row],[Nachname]]<>"",Mannschaftsmeldebogen_KiSGruTu!$C$10,"") | E36: =IF(Mannschaftsmeldebogen_KiSGruTu!D61<>"",Mannschaftsmeldebogen_KiSGruTu!D61,"") | F36: =IF(Mannschaftsmeldebogen_KiSGruTu!E61<>"",Mannschaftsmeldebogen_KiSGruTu!E61,"") | G36: =IF(Mannschaftsmeldebogen_KiSGruTu!F61<>"",Mannschaftsmeldebogen_KiSGruTu!F61,"") | H36: =IF(Mannschaftsmeldebogen_KiSGruTu!G61<>"",Mannschaftsmeldebogen_KiSGruTu!G61,"")
B37: =IF(Tabelle1848[[#This Row],[Nachname]]<>"",Mannschaftsmeldebogen_KiSGruTu!$B$3,"") | C37: =IF(Tabelle1848[[#This Row],[Nachname]]<>"",Mannschaftsmeldebogen_KiSGruTu!$B$10,"") | D37: =IF(Tabelle1848[[#This Row],[Nachname]]<>"",Mannschaftsmeldebogen_KiSGruTu!$C$10,"") | E37: =IF(Mannschaftsmeldebogen_KiSGruTu!D62<>"",Mannschaftsmeldebogen_KiSGruTu!D62,"") | F37: =IF(Mannschaftsmeldebogen_KiSGruTu!E62<>"",Mannschaftsmeldebogen_KiSGruTu!E62,"") | G37: =IF(Mannschaftsmeldebogen_KiSGruTu!F62<>"",Mannschaftsmeldebogen_KiSGruTu!F62,"") | H37: =IF(Mannschaftsmeldebogen_KiSGruTu!G62<>"",Mannschaftsmeldebogen_KiSGruTu!G62,"")
B38: =IF(Tabelle1848[[#This Row],[Nachname]]<>"",Mannschaftsmeldebogen_KiSGruTu!$B$3,"") | C38: =IF(Tabelle1848[[#This Row],[Nachname]]<>"",Mannschaftsmeldebogen_KiSGruTu!$B$10,"") | D38: =IF(Tabelle1848[[#This Row],[Nachname]]<>"",Mannschaftsmeldebogen_KiSGruTu!$C$10,"") | E38: =IF(Mannschaftsmeldebogen_KiSGruTu!D63<>"",Mannschaftsmeldebogen_KiSGruTu!D63,"") | F38: =IF(Mannschaftsmeldebogen_KiSGruTu!E63<>"",Mannschaftsmeldebogen_KiSGruTu!E63,"") | G38: =IF(Mannschaftsmeldebogen_KiSGruTu!F63<>"",Mannschaftsmeldebogen_KiSGruTu!F63,"") | H38: =IF(Mannschaftsmeldebogen_KiSGruTu!G63<>"",Mannschaftsmeldebogen_KiSGruTu!G63,"")
B39: =IF(Tabelle1848[[#This Row],[Nachname]]<>"",Mannschaftsmeldebogen_KiSGruTu!$B$3,"") | C39: =IF(Tabelle1848[[#This Row],[Nachname]]<>"",Mannschaftsmeldebogen_KiSGruTu!$B$10,"") | D39: =IF(Tabelle1848[[#This Row],[Nachname]]<>"",Mannschaftsmeldebogen_KiSGruTu!$C$10,"") | E39: =IF(Mannschaftsmeldebogen_KiSGruTu!D64<>"",Mannschaftsmeldebogen_KiSGruTu!D64,"") | F39: =IF(Mannschaftsmeldebogen_KiSGruTu!E64<>"",Mannschaftsmeldebogen_KiSGruTu!E64,"") | G39: =IF(Mannschaftsmeldebogen_KiSGruTu!F64<>"",Mannschaftsmeldebogen_KiSGruTu!F64,"") | H39: =IF(Mannschaftsmeldebogen_KiSGruTu!G64<>"",Mannschaftsmeldebogen_KiSGruTu!G64,"")
B40: =IF(Tabelle1848[[#This Row],[Nachname]]<>"",Mannschaftsmeldebogen_KiSGruTu!$B$3,"") | C40: =IF(Tabelle1848[[#This Row],[Nachname]]<>"",Mannschaftsmeldebogen_KiSGruTu!$B$10,"") | D40: =IF(Tabelle1848[[#This Row],[Nachname]]<>"",Mannschaftsmeldebogen_KiSGruTu!$C$10,"") | E40: =IF(Mannschaftsmeldebogen_KiSGruTu!D65<>"",Mannschaftsmeldebogen_KiSGruTu!D65,"") | F40: =IF(Mannschaftsmeldebogen_KiSGruTu!E65<>"",Mannschaftsmeldebogen_KiSGruTu!E65,"") | G40: =IF(Mannschaftsmeldebogen_KiSGruTu!F65<>"",Mannschaftsmeldebogen_KiSGruTu!F65,"") | H40: =IF(Mannschaftsmeldebogen_KiSGruTu!G65<>"",Mannschaftsmeldebogen_KiSGruTu!G65,"")
B41: =IF(Tabelle1848[[#This Row],[Nachname]]<>"",Mannschaftsmeldebogen_KiSGruTu!$B$3,"") | C41: =IF(Tabelle1848[[#This Row],[Nachname]]<>"",Mannschaftsmeldebogen_KiSGruTu!$B$10,"") | D41: =IF(Tabelle1848[[#This Row],[Nachname]]<>"",Mannschaftsmeldebogen_KiSGruTu!$C$10,"") | E41: =IF(Mannschaftsmeldebogen_KiSGruTu!D66<>"",Mannschaftsmeldebogen_KiSGruTu!D66,"") | F41: =IF(Mannschaftsmeldebogen_KiSGruTu!E66<>"",Mannschaftsmeldebogen_KiSGruTu!E66,"") | G41: =IF(Mannschaftsmeldebogen_KiSGruTu!F66<>"",Mannschaftsmeldebogen_KiSGruTu!F66,"") | H41: =IF(Mannschaftsmeldebogen_KiSGruTu!G66<>"",Mannschaftsmeldebogen_KiSGruTu!G66,"")
B42: =IF(Tabelle1848[[#This Row],[Nachname]]<>"",Mannschaftsmeldebogen_KiSGruTu!$B$3,"") | C42: =IF(Tabelle1848[[#This Row],[Nachname]]<>"",Mannschaftsmeldebogen_KiSGruTu!$B$10,"") | D42: =IF(Tabelle1848[[#This Row],[Nachname]]<>"",Mannschaftsmeldebogen_KiSGruTu!$C$10,"") | E42: =IF(Mannschaftsmeldebogen_KiSGruTu!D67<>"",Mannschaftsmeldebogen_KiSGruTu!D67,"") | F42: =IF(Mannschaftsmeldebogen_KiSGruTu!E67<>"",Mannschaftsmeldebogen_KiSGruTu!E67,"") | G42: =IF(Mannschaftsmeldebogen_KiSGruTu!F67<>"",Mannschaftsmeldebogen_KiSGruTu!F67,"") | H42: =IF(Mannschaftsmeldebogen_KiSGruTu!G67<>"",Mannschaftsmeldebogen_KiSGruTu!G67,"")
B43: =IF(Tabelle1848[[#This Row],[Nachname]]<>"",Mannschaftsmeldebogen_KiSGruTu!$B$3,"") | C43: =IF(Tabelle1848[[#This Row],[Nachname]]<>"",Mannschaftsmeldebogen_KiSGruTu!$B$10,"") | D43: =IF(Tabelle1848[[#This Row],[Nachname]]<>"",Mannschaftsmeldebogen_KiSGruTu!$C$10,"") | E43: =IF(Mannschaftsmeldebogen_KiSGruTu!D68<>"",Mannschaftsmeldebogen_KiSGruTu!D68,"") | F43: =IF(Mannschaftsmeldebogen_KiSGruTu!E68<>"",Mannschaftsmeldebogen_KiSGruTu!E68,"") | G43: =IF(Mannschaftsmeldebogen_KiSGruTu!F68<>"",Mannschaftsmeldebogen_KiSGruTu!F68,"") | H43: =IF(Mannschaftsmeldebogen_KiSGruTu!G68<>"",Mannschaftsmeldebogen_KiSGruTu!G68,"")
B44: =IF(Tabelle1848[[#This Row],[Nachname]]<>"",Mannschaftsmeldebogen_KiSGruTu!$B$3,"") | C44: =IF(Tabelle1848[[#This Row],[Nachname]]<>"",Mannschaftsmeldebogen_KiSGruTu!$B$10,"") | D44: =IF(Tabelle1848[[#This Row],[Nachname]]<>"",Mannschaftsmeldebogen_KiSGruTu!$C$10,"") | E44: =IF(Mannschaftsmeldebogen_KiSGruTu!D69<>"",Mannschaftsmeldebogen_KiSGruTu!D69,"") | F44: =IF(Mannschaftsmeldebogen_KiSGruTu!E69<>"",Mannschaftsmeldebogen_KiSGruTu!E69,"") | G44: =IF(Mannschaftsmeldebogen_KiSGruTu!F69<>"",Mannschaftsmeldebogen_KiSGruTu!F69,"") | H44: =IF(Mannschaftsmeldebogen_KiSGruTu!G69<>"",Mannschaftsmeldebogen_KiSGruTu!G69,"")
B45: =IF(Tabelle1848[[#This Row],[Nachname]]<>"",Mannschaftsmeldebogen_KiSGruTu!$B$3,"") | C45: =IF(Tabelle1848[[#This Row],[Nachname]]<>"",Mannschaftsmeldebogen_KiSGruTu!$B$10,"") | D45: =IF(Tabelle1848[[#This Row],[Nachname]]<>"",Mannschaftsmeldebogen_KiSGruTu!$C$10,"") | E45: =IF(Mannschaftsmeldebogen_KiSGruTu!D70<>"",Mannschaftsmeldebogen_KiSGruTu!D70,"") | F45: =IF(Mannschaftsmeldebogen_KiSGruTu!E70<>"",Mannschaftsmeldebogen_KiSGruTu!E70,"") | G45: =IF(Mannschaftsmeldebogen_KiSGruTu!F70<>"",Mannschaftsmeldebogen_KiSGruTu!F70,"") | H45: =IF(Mannschaftsmeldebogen_KiSGruTu!G70<>"",Mannschaftsmeldebogen_KiSGruTu!G70,"")
B46: =IF(Tabelle1848[[#This Row],[Nachname]]<>"",Mannschaftsmeldebogen_KiSGruTu!$B$3,"") | C46: =IF(Tabelle1848[[#This Row],[Nachname]]<>"",Mannschaftsmeldebogen_KiSGruTu!$B$10,"") | D46: =IF(Tabelle1848[[#This Row],[Nachname]]<>"",Mannschaftsmeldebogen_KiSGruTu!$C$10,"") | E46: =IF(Mannschaftsmeldebogen_KiSGruTu!D71<>"",Mannschaftsmeldebogen_KiSGruTu!D71,"") | F46: =IF(Mannschaftsmeldebogen_KiSGruTu!E71<>"",Mannschaftsmeldebogen_KiSGruTu!E71,"") | G46: =IF(Mannschaftsmeldebogen_KiSGruTu!F71<>"",Mannschaftsmeldebogen_KiSGruTu!F71,"") | H46: =IF(Mannschaftsmeldebogen_KiSGruTu!G71<>"",Mannschaftsmeldebogen_KiSGruTu!G71,"")
... B50: =IF(Tabelle1848[[#This Row],[Nachname]]<>"",Mannschaftsmeldebogen_KiSGruTu!$B$3,"") | C50: =IF(Tabelle1848[[#This Row],[Nachname]]<>"",Mannschaftsmeldebogen_KiSGruTu!$B$10,"") | D50: =IF(Tabelle1848[[#This Row],[Nachname]]<>"",Mannschaftsmeldebogen_KiSGruTu!$C$10,"") | E50: =IF(Mannschaftsmeldebogen_KiSGruTu!D75<>"",Mannschaftsmeldebogen_KiSGruTu!D75,"") | F50: =IF(Mannschaftsmeldebogen_KiSGruTu!E75<>"",Mannschaftsmeldebogen_KiSGruTu!E75,"") | G50: =IF(Mannschaftsmeldebogen_KiSGruTu!F75<>"",Mannschaftsmeldebogen_KiSGruTu!F75,"") | H50: =IF(Mannschaftsmeldebogen_KiSGruTu!G75<>"",Mannschaftsmeldebogen_KiSGruTu!G75,"")
B51: =IF(Tabelle1848[[#This Row],[Nachname]]<>"",Mannschaftsmeldebogen_KiSGruTu!$B$3,"") | C51: =IF(Tabelle1848[[#This Row],[Nachname]]<>"",Mannschaftsmeldebogen_KiSGruTu!$B$11,"") | D51: =IF(Tabelle1848[[#This Row],[Nachname]]<>"",Mannschaftsmeldebogen_KiSGruTu!$C$11,"") | E51: =IF(Mannschaftsmeldebogen_KiSGruTu!D78<>"",Mannschaftsmeldebogen_KiSGruTu!D78,"") | F51: =IF(Mannschaftsmeldebogen_KiSGruTu!E78<>"",Mannschaftsmeldebogen_KiSGruTu!E78,"") | G51: =IF(Mannschaftsmeldebogen_KiSGruTu!F78<>"",Mannschaftsmeldebogen_KiSGruTu!F78,"") | H51: =IF(Mannschaftsmeldebogen_KiSGruTu!G78<>"",Mannschaftsmeldebogen_KiSGruTu!G78,"")
B52: =IF(Tabelle1848[[#This Row],[Nachname]]<>"",Mannschaftsmeldebogen_KiSGruTu!$B$3,"") | C52: =IF(Tabelle1848[[#This Row],[Nachname]]<>"",Mannschaftsmeldebogen_KiSGruTu!$B$11,"") | D52: =IF(Tabelle1848[[#This Row],[Nachname]]<>"",Mannschaftsmeldebogen_KiSGruTu!$C$11,"") | E52: =IF(Mannschaftsmeldebogen_KiSGruTu!D79<>"",Mannschaftsmeldebogen_KiSGruTu!D79,"") | F52: =IF(Mannschaftsmeldebogen_KiSGruTu!E79<>"",Mannschaftsmeldebogen_KiSGruTu!E79,"") | G52: =IF(Mannschaftsmeldebogen_KiSGruTu!F79<>"",Mannschaftsmeldebogen_KiSGruTu!F79,"") | H52: =IF(Mannschaftsmeldebogen_KiSGruTu!G79<>"",Mannschaftsmeldebogen_KiSGruTu!G79,"")
B53: =IF(Tabelle1848[[#This Row],[Nachname]]<>"",Mannschaftsmeldebogen_KiSGruTu!$B$3,"") | C53: =IF(Tabelle1848[[#This Row],[Nachname]]<>"",Mannschaftsmeldebogen_KiSGruTu!$B$11,"") | D53: =IF(Tabelle1848[[#This Row],[Nachname]]<>"",Mannschaftsmeldebogen_KiSGruTu!$C$11,"") | E53: =IF(Mannschaftsmeldebogen_KiSGruTu!D80<>"",Mannschaftsmeldebogen_KiSGruTu!D80,"") | F53: =IF(Mannschaftsmeldebogen_KiSGruTu!E80<>"",Mannschaftsmeldebogen_KiSGruTu!E80,"") | G53: =IF(Mannschaftsmeldebogen_KiSGruTu!F80<>"",Mannschaftsmeldebogen_KiSGruTu!F80,"") | H53: =IF(Mannschaftsmeldebogen_KiSGruTu!G80<>"",Mannschaftsmeldebogen_KiSGruTu!G80,"")
B54: =IF(Tabelle1848[[#This Row],[Nachname]]<>"",Mannschaftsmeldebogen_KiSGruTu!$B$3,"") | C54: =IF(Tabelle1848[[#This Row],[Nachname]]<>"",Mannschaftsmeldebogen_KiSGruTu!$B$11,"") | D54: =IF(Tabelle1848[[#This Row],[Nachname]]<>"",Mannschaftsmeldebogen_KiSGruTu!$C$11,"") | E54: =IF(Mannschaftsmeldebogen_KiSGruTu!D81<>"",Mannschaftsmeldebogen_KiSGruTu!D81,"") | F54: =IF(Mannschaftsmeldebogen_KiSGruTu!E81<>"",Mannschaftsmeldebogen_KiSGruTu!E81,"") | G54: =IF(Mannschaftsmeldebogen_KiSGruTu!F81<>"",Mannschaftsmeldebogen_KiSGruTu!F81,"") | H54: =IF(Mannschaftsmeldebogen_KiSGruTu!G81<>"",Mannschaftsmeldebogen_KiSGruTu!G81,"")
B55: =IF(Tabelle1848[[#This Row],[Nachname]]<>"",Mannschaftsmeldebogen_KiSGruTu!$B$3,"") | C55: =IF(Tabelle1848[[#This Row],[Nachname]]<>"",Mannschaftsmeldebogen_KiSGruTu!$B$11,"") | D55: =IF(Tabelle1848[[#This Row],[Nachname]]<>"",Mannschaftsmeldebogen_KiSGruTu!$C$11,"") | E55: =IF(Mannschaftsmeldebogen_KiSGruTu!D82<>"",Mannschaftsmeldebogen_KiSGruTu!D82,"") | F55: =IF(Mannschaftsmeldebogen_KiSGruTu!E82<>"",Mannschaftsmeldebogen_KiSGruTu!E82,"") | G55: =IF(Mannschaftsmeldebogen_KiSGruTu!F82<>"",Mannschaftsmeldebogen_KiSGruTu!F82,"") | H55: =IF(Mannschaftsmeldebogen_KiSGruTu!G82<>"",Mannschaftsmeldebogen_KiSGruTu!G82,"")
B56: =IF(Tabelle1848[[#This Row],[Nachname]]<>"",Mannschaftsmeldebogen_KiSGruTu!$B$3,"") | C56: =IF(Tabelle1848[[#This Row],[Nachname]]<>"",Mannschaftsmeldebogen_KiSGruTu!$B$11,"") | D56: =IF(Tabelle1848[[#This Row],[Nachname]]<>"",Mannschaftsmeldebogen_KiSGruTu!$C$11,"") | E56: =IF(Mannschaftsmeldebogen_KiSGruTu!D83<>"",Mannschaftsmeldebogen_KiSGruTu!D83,"") | F56: =IF(Mannschaftsmeldebogen_KiSGruTu!E83<>"",Mannschaftsmeldebogen_KiSGruTu!E83,"") | G56: =IF(Mannschaftsmeldebogen_KiSGruTu!F83<>"",Mannschaftsmeldebogen_KiSGruTu!F83,"") | H56: =IF(Mannschaftsmeldebogen_KiSGruTu!G83<>"",Mannschaftsmeldebogen_KiSGruTu!G83,"")
B57: =IF(Tabelle1848[[#This Row],[Nachname]]<>"",Mannschaftsmeldebogen_KiSGruTu!$B$3,"") | C57: =IF(Tabelle1848[[#This Row],[Nachname]]<>"",Mannschaftsmeldebogen_KiSGruTu!$B$11,"") | D57: =IF(Tabelle1848[[#This Row],[Nachname]]<>"",Mannschaftsmeldebogen_KiSGruTu!$C$11,"") | E57: =IF(Mannschaftsmeldebogen_KiSGruTu!D84<>"",Mannschaftsmeldebogen_KiSGruTu!D84,"") | F57: =IF(Mannschaftsmeldebogen_KiSGruTu!E84<>"",Mannschaftsmeldebogen_KiSGruTu!E84,"") | G57: =IF(Mannschaftsmeldebogen_KiSGruTu!F84<>"",Mannschaftsmeldebogen_KiSGruTu!F84,"") | H57: =IF(Mannschaftsmeldebogen_KiSGruTu!G84<>"",Mannschaftsmeldebogen_KiSGruTu!G84,"")
B58: =IF(Tabelle1848[[#This Row],[Nachname]]<>"",Mannschaftsmeldebogen_KiSGruTu!$B$3,"") | C58: =IF(Tabelle1848[[#This Row],[Nachname]]<>"",Mannschaftsmeldebogen_KiSGruTu!$B$11,"") | D58: =IF(Tabelle1848[[#This Row],[Nachname]]<>"",Mannschaftsmeldebogen_KiSGruTu!$C$11,"") | E58: =IF(Mannschaftsmeldebogen_KiSGruTu!D85<>"",Mannschaftsmeldebogen_KiSGruTu!D85,"") | F58: =IF(Mannschaftsmeldebogen_KiSGruTu!E85<>"",Mannschaftsmeldebogen_KiSGruTu!E85,"") | G58: =IF(Mannschaftsmeldebogen_KiSGruTu!F85<>"",Mannschaftsmeldebogen_KiSGruTu!F85,"") | H58: =IF(Mannschaftsmeldebogen_KiSGruTu!G85<>"",Mannschaftsmeldebogen_KiSGruTu!G85,"")
B59: =IF(Tabelle1848[[#This Row],[Nachname]]<>"",Mannschaftsmeldebogen_KiSGruTu!$B$3,"") | C59: =IF(Tabelle1848[[#This Row],[Nachname]]<>"",Mannschaftsmeldebogen_KiSGruTu!$B$11,"") | D59: =IF(Tabelle1848[[#This Row],[Nachname]]<>"",Mannschaftsmeldebogen_KiSGruTu!$C$11,"") | E59: =IF(Mannschaftsmeldebogen_KiSGruTu!D86<>"",Mannschaftsmeldebogen_KiSGruTu!D86,"") | F59: =IF(Mannschaftsmeldebogen_KiSGruTu!E86<>"",Mannschaftsmeldebogen_KiSGruTu!E86,"") | G59: =IF(Mannschaftsmeldebogen_KiSGruTu!F86<>"",Mannschaftsmeldebogen_KiSGruTu!F86,"") | H59: =IF(Mannschaftsmeldebogen_KiSGruTu!G86<>"",Mannschaftsmeldebogen_KiSGruTu!G86,"")
B60: =IF(Tabelle1848[[#This Row],[Nachname]]<>"",Mannschaftsmeldebogen_KiSGruTu!$B$3,"") | C60: =IF(Tabelle1848[[#This Row],[Nachname]]<>"",Mannschaftsmeldebogen_KiSGruTu!$B$11,"") | D60: =IF(Tabelle1848[[#This Row],[Nachname]]<>"",Mannschaftsmeldebogen_KiSGruTu!$C$11,"") | E60: =IF(Mannschaftsmeldebogen_KiSGruTu!D87<>"",Mannschaftsmeldebogen_KiSGruTu!D87,"") | F60: =IF(Mannschaftsmeldebogen_KiSGruTu!E87<>"",Mannschaftsmeldebogen_KiSGruTu!E87,"") | G60: =IF(Mannschaftsmeldebogen_KiSGruTu!F87<>"",Mannschaftsmeldebogen_KiSGruTu!F87,"") | H60: =IF(Mannschaftsmeldebogen_KiSGruTu!G87<>"",Mannschaftsmeldebogen_KiSGruTu!G87,"")
B61: =IF(Tabelle1848[[#This Row],[Nachname]]<>"",Mannschaftsmeldebogen_KiSGruTu!$B$3,"") | C61: =IF(Tabelle1848[[#This Row],[Nachname]]<>"",Mannschaftsmeldebogen_KiSGruTu!$B$11,"") | D61: =IF(Tabelle1848[[#This Row],[Nachname]]<>"",Mannschaftsmeldebogen_KiSGruTu!$C$11,"") | E61: =IF(Mannschaftsmeldebogen_KiSGruTu!D88<>"",Mannschaftsmeldebogen_KiSGruTu!D88,"") | F61: =IF(Mannschaftsmeldebogen_KiSGruTu!E88<>"",Mannschaftsmeldebogen_KiSGruTu!E88,"") | G61: =IF(Mannschaftsmeldebogen_KiSGruTu!F88<>"",Mannschaftsmeldebogen_KiSGruTu!F88,"") | H61: =IF(Mannschaftsmeldebogen_KiSGruTu!G88<>"",Mannschaftsmeldebogen_KiSGruTu!G88,"")
B62: =IF(Tabelle1848[[#This Row],[Nachname]]<>"",Mannschaftsmeldebogen_KiSGruTu!$B$3,"") | C62: =IF(Tabelle1848[[#This Row],[Nachname]]<>"",Mannschaftsmeldebogen_KiSGruTu!$B$11,"") | D62: =IF(Tabelle1848[[#This Row],[Nachname]]<>"",Mannschaftsmeldebogen_KiSGruTu!$C$11,"") | E62: =IF(Mannschaftsmeldebogen_KiSGruTu!D89<>"",Mannschaftsmeldebogen_KiSGruTu!D89,"") | F62: =IF(Mannschaftsmeldebogen_KiSGruTu!E89<>"",Mannschaftsmeldebogen_KiSGruTu!E89,"") | G62: =IF(Mannschaftsmeldebogen_KiSGruTu!F89<>"",Mannschaftsmeldebogen_KiSGruTu!F89,"") | H62: =IF(Mannschaftsmeldebogen_KiSGruTu!G89<>"",Mannschaftsmeldebogen_KiSGruTu!G89,"")
... B66: =IF(Tabelle1848[[#This Row],[Nachname]]<>"",Mannschaftsmeldebogen_KiSGruTu!$B$3,"") | C66: =IF(Tabelle1848[[#This Row],[Nachname]]<>"",Mannschaftsmeldebogen_KiSGruTu!$B$11,"") | D66: =IF(Tabelle1848[[#This Row],[Nachname]]<>"",Mannschaftsmeldebogen_KiSGruTu!$C$11,"") | E66: =IF(Mannschaftsmeldebogen_KiSGruTu!D93<>"",Mannschaftsmeldebogen_KiSGruTu!D93,"") | F66: =IF(Mannschaftsmeldebogen_KiSGruTu!E93<>"",Mannschaftsmeldebogen_KiSGruTu!E93,"") | G66: =IF(Mannschaftsmeldebogen_KiSGruTu!F93<>"",Mannschaftsmeldebogen_KiSGruTu!F93,"") | H66: =IF(Mannschaftsmeldebogen_KiSGruTu!G93<>"",Mannschaftsmeldebogen_KiSGruTu!G93,"")
B67: =IF(Tabelle1848[[#This Row],[Nachname]]<>"",Mannschaftsmeldebogen_KiSGruTu!$B$3,"") | C67: =IF(Tabelle1848[[#This Row],[Nachname]]<>"",Mannschaftsmeldebogen_KiSGruTu!$B$12,"") | D67: =IF(Tabelle1848[[#This Row],[Nachname]]<>"",Mannschaftsmeldebogen_KiSGruTu!$C$12,"") | E67: =IF(Mannschaftsmeldebogen_KiSGruTu!D96<>"",Mannschaftsmeldebogen_KiSGruTu!D96,"") | F67: =IF(Mannschaftsmeldebogen_KiSGruTu!E96<>"",Mannschaftsmeldebogen_KiSGruTu!E96,"") | G67: =IF(Mannschaftsmeldebogen_KiSGruTu!F96<>"",Mannschaftsmeldebogen_KiSGruTu!F96,"") | H67: =IF(Mannschaftsmeldebogen_KiSGruTu!G96<>"",Mannschaftsmeldebogen_KiSGruTu!G96,"")
B68: =IF(Tabelle1848[[#This Row],[Nachname]]<>"",Mannschaftsmeldebogen_KiSGruTu!$B$3,"") | C68: =IF(Tabelle1848[[#This Row],[Nachname]]<>"",Mannschaftsmeldebogen_KiSGruTu!$B$12,"") | D68: =IF(Tabelle1848[[#This Row],[Nachname]]<>"",Mannschaftsmeldebogen_KiSGruTu!$C$12,"") | E68: =IF(Mannschaftsmeldebogen_KiSGruTu!D97<>"",Mannschaftsmeldebogen_KiSGruTu!D97,"") | F68: =IF(Mannschaftsmeldebogen_KiSGruTu!E97<>"",Mannschaftsmeldebogen_KiSGruTu!E97,"") | G68: =IF(Mannschaftsmeldebogen_KiSGruTu!F97<>"",Mannschaftsmeldebogen_KiSGruTu!F97,"") | H68: =IF(Mannschaftsmeldebogen_KiSGruTu!G97<>"",Mannschaftsmeldebogen_KiSGruTu!G97,"")
B69: =IF(Tabelle1848[[#This Row],[Nachname]]<>"",Mannschaftsmeldebogen_KiSGruTu!$B$3,"") | C69: =IF(Tabelle1848[[#This Row],[Nachname]]<>"",Mannschaftsmeldebogen_KiSGruTu!$B$12,"") | D69: =IF(Tabelle1848[[#This Row],[Nachname]]<>"",Mannschaftsmeldebogen_KiSGruTu!$C$12,"") | E69: =IF(Mannschaftsmeldebogen_KiSGruTu!D98<>"",Mannschaftsmeldebogen_KiSGruTu!D98,"") | F69: =IF(Mannschaftsmeldebogen_KiSGruTu!E98<>"",Mannschaftsmeldebogen_KiSGruTu!E98,"") | G69: =IF(Mannschaftsmeldebogen_KiSGruTu!F98<>"",Mannschaftsmeldebogen_KiSGruTu!F98,"") | H69: =IF(Mannschaftsmeldebogen_KiSGruTu!G98<>"",Mannschaftsmeldebogen_KiSGruTu!G98,"")
B70: =IF(Tabelle1848[[#This Row],[Nachname]]<>"",Mannschaftsmeldebogen_KiSGruTu!$B$3,"") | C70: =IF(Tabelle1848[[#This Row],[Nachname]]<>"",Mannschaftsmeldebogen_KiSGruTu!$B$12,"") | D70: =IF(Tabelle1848[[#This Row],[Nachname]]<>"",Mannschaftsmeldebogen_KiSGruTu!$C$12,"") | E70: =IF(Mannschaftsmeldebogen_KiSGruTu!D99<>"",Mannschaftsmeldebogen_KiSGruTu!D99,"") | F70: =IF(Mannschaftsmeldebogen_KiSGruTu!E99<>"",Mannschaftsmeldebogen_KiSGruTu!E99,"") | G70: =IF(Mannschaftsmeldebogen_KiSGruTu!F99<>"",Mannschaftsmeldebogen_KiSGruTu!F99,"") | H70: =IF(Mannschaftsmeldebogen_KiSGruTu!G99<>"",Mannschaftsmeldebogen_KiSGruTu!G99,"")
B71: =IF(Tabelle1848[[#This Row],[Nachname]]<>"",Mannschaftsmeldebogen_KiSGruTu!$B$3,"") | C71: =IF(Tabelle1848[[#This Row],[Nachname]]<>"",Mannschaftsmeldebogen_KiSGruTu!$B$12,"") | D71: =IF(Tabelle1848[[#This Row],[Nachname]]<>"",Mannschaftsmeldebogen_KiSGruTu!$C$12,"") | E71: =IF(Mannschaftsmeldebogen_KiSGruTu!D100<>"",Mannschaftsmeldebogen_KiSGruTu!D100,"") | F71: =IF(Mannschaftsmeldebogen_KiSGruTu!E100<>"",Mannschaftsmeldebogen_KiSGruTu!E100,"") | G71: =IF(Mannschaftsmeldebogen_KiSGruTu!F100<>"",Mannschaftsmeldebogen_KiSGruTu!F100,"") | H71: =IF(Mannschaftsmeldebogen_KiSGruTu!G100<>"",Mannschaftsmeldebogen_KiSGruTu!G100,"")
B72: =IF(Tabelle1848[[#This Row],[Nachname]]<>"",Mannschaftsmeldebogen_KiSGruTu!$B$3,"") | C72: =IF(Tabelle1848[[#This Row],[Nachname]]<>"",Mannschaftsmeldebogen_KiSGruTu!$B$12,"") | D72: =IF(Tabelle1848[[#This Row],[Nachname]]<>"",Mannschaftsmeldebogen_KiSGruTu!$C$12,"") | E72: =IF(Mannschaftsmeldebogen_KiSGruTu!D101<>"",Mannschaftsmeldebogen_KiSGruTu!D101,"") | F72: =IF(Mannschaftsmeldebogen_KiSGruTu!E101<>"",Mannschaftsmeldebogen_KiSGruTu!E101,"") | G72: =IF(Mannschaftsmeldebogen_KiSGruTu!F101<>"",Mannschaftsmeldebogen_KiSGruTu!F101,"") | H72: =IF(Mannschaftsmeldebogen_KiSGruTu!G101<>"",Mannschaftsmeldebogen_KiSGruTu!G101,"")
B73: =IF(Tabelle1848[[#This Row],[Nachname]]<>"",Mannschaftsmeldebogen_KiSGruTu!$B$3,"") | C73: =IF(Tabelle1848[[#This Row],[Nachname]]<>"",Mannschaftsmeldebogen_KiSGruTu!$B$12,"") | D73: =IF(Tabelle1848[[#This Row],[Nachname]]<>"",Mannschaftsmeldebogen_KiSGruTu!$C$12,"") | E73: =IF(Mannschaftsmeldebogen_KiSGruTu!D102<>"",Mannschaftsmeldebogen_KiSGruTu!D102,"") | F73: =IF(Mannschaftsmeldebogen_KiSGruTu!E102<>"",Mannschaftsmeldebogen_KiSGruTu!E102,"") | G73: =IF(Mannschaftsmeldebogen_KiSGruTu!F102<>"",Mannschaftsmeldebogen_KiSGruTu!F102,"") | H73: =IF(Mannschaftsmeldebogen_KiSGruTu!G102<>"",Mannschaftsmeldebogen_KiSGruTu!G102,"")
B74: =IF(Tabelle1848[[#This Row],[Nachname]]<>"",Mannschaftsmeldebogen_KiSGruTu!$B$3,"") | C74: =IF(Tabelle1848[[#This Row],[Nachname]]<>"",Mannschaftsmeldebogen_KiSGruTu!$B$12,"") | D74: =IF(Tabelle1848[[#This Row],[Nachname]]<>"",Mannschaftsmeldebogen_KiSGruTu!$C$12,"") | E74: =IF(Mannschaftsmeldebogen_KiSGruTu!D103<>"",Mannschaftsmeldebogen_KiSGruTu!D103,"") | F74: =IF(Mannschaftsmeldebogen_KiSGruTu!E103<>"",Mannschaftsmeldebogen_KiSGruTu!E103,"") | G74: =IF(Mannschaftsmeldebogen_KiSGruTu!F103<>"",Mannschaftsmeldebogen_KiSGruTu!F103,"") | H74: =IF(Mannschaftsmeldebogen_KiSGruTu!G103<>"",Mannschaftsmeldebogen_KiSGruTu!G103,"")
B75: =IF(Tabelle1848[[#This Row],[Nachname]]<>"",Mannschaftsmeldebogen_KiSGruTu!$B$3,"") | C75: =IF(Tabelle1848[[#This Row],[Nachname]]<>"",Mannschaftsmeldebogen_KiSGruTu!$B$12,"") | D75: =IF(Tabelle1848[[#This Row],[Nachname]]<>"",Mannschaftsmeldebogen_KiSGruTu!$C$12,"") | E75: =IF(Mannschaftsmeldebogen_KiSGruTu!D104<>"",Mannschaftsmeldebogen_KiSGruTu!D104,"") | F75: =IF(Mannschaftsmeldebogen_KiSGruTu!E104<>"",Mannschaftsmeldebogen_KiSGruTu!E104,"") | G75: =IF(Mannschaftsmeldebogen_KiSGruTu!F104<>"",Mannschaftsmeldebogen_KiSGruTu!F104,"") | H75: =IF(Mannschaftsmeldebogen_KiSGruTu!G104<>"",Mannschaftsmeldebogen_KiSGruTu!G104,"")
B76: =IF(Tabelle1848[[#This Row],[Nachname]]<>"",Mannschaftsmeldebogen_KiSGruTu!$B$3,"") | C76: =IF(Tabelle1848[[#This Row],[Nachname]]<>"",Mannschaftsmeldebogen_KiSGruTu!$B$12,"") | D76: =IF(Tabelle1848[[#This Row],[Nachname]]<>"",Mannschaftsmeldebogen_KiSGruTu!$C$12,"") | E76: =IF(Mannschaftsmeldebogen_KiSGruTu!D105<>"",Mannschaftsmeldebogen_KiSGruTu!D105,"") | F76: =IF(Mannschaftsmeldebogen_KiSGruTu!E105<>"",Mannschaftsmeldebogen_KiSGruTu!E105,"") | G76: =IF(Mannschaftsmeldebogen_KiSGruTu!F105<>"",Mannschaftsmeldebogen_KiSGruTu!F105,"") | H76: =IF(Mannschaftsmeldebogen_KiSGruTu!G105<>"",Mannschaftsmeldebogen_KiSGruTu!G105,"")
B77: =IF(Tabelle1848[[#This Row],[Nachname]]<>"",Mannschaftsmeldebogen_KiSGruTu!$B$3,"") | C77: =IF(Tabelle1848[[#This Row],[Nachname]]<>"",Mannschaftsmeldebogen_KiSGruTu!$B$12,"") | D77: =IF(Tabelle1848[[#This Row],[Nachname]]<>"",Mannschaftsmeldebogen_KiSGruTu!$C$12,"") | E77: =IF(Mannschaftsmeldebogen_KiSGruTu!D106<>"",Mannschaftsmeldebogen_KiSGruTu!D106,"") | F77: =IF(Mannschaftsmeldebogen_KiSGruTu!E106<>"",Mannschaftsmeldebogen_KiSGruTu!E106,"") | G77: =IF(Mannschaftsmeldebogen_KiSGruTu!F106<>"",Mannschaftsmeldebogen_KiSGruTu!F106,"") | H77: =IF(Mannschaftsmeldebogen_KiSGruTu!G106<>"",Mannschaftsmeldebogen_KiSGruTu!G106,"")
B78: =IF(Tabelle1848[[#This Row],[Nachname]]<>"",Mannschaftsmeldebogen_KiSGruTu!$B$3,"") | C78: =IF(Tabelle1848[[#This Row],[Nachname]]<>"",Mannschaftsmeldebogen_KiSGruTu!$B$12,"") | D78: =IF(Tabelle1848[[#This Row],[Nachname]]<>"",Mannschaftsmeldebogen_KiSGruTu!$C$12,"") | E78: =IF(Mannschaftsmeldebogen_KiSGruTu!D107<>"",Mannschaftsmeldebogen_KiSGruTu!D107,"") | F78: =IF(Mannschaftsmeldebogen_KiSGruTu!E107<>"",Mannschaftsmeldebogen_KiSGruTu!E107,"") | G78: =IF(Mannschaftsmeldebogen_KiSGruTu!F107<>"",Mannschaftsmeldebogen_KiSGruTu!F107,"") | H78: =IF(Mannschaftsmeldebogen_KiSGruTu!G107<>"",Mannschaftsmeldebogen_KiSGruTu!G107,"")
... B82: =IF(Tabelle1848[[#This Row],[Nachname]]<>"",Mannschaftsmeldebogen_KiSGruTu!$B$3,"") | C82: =IF(Tabelle1848[[#This Row],[Nachname]]<>"",Mannschaftsmeldebogen_KiSGruTu!$B$12,"") | D82: =IF(Tabelle1848[[#This Row],[Nachname]]<>"",Mannschaftsmeldebogen_KiSGruTu!$C$12,"") | E82: =IF(Mannschaftsmeldebogen_KiSGruTu!D111<>"",Mannschaftsmeldebogen_KiSGruTu!D111,"") | F82: =IF(Mannschaftsmeldebogen_KiSGruTu!E111<>"",Mannschaftsmeldebogen_KiSGruTu!E111,"") | G82: =IF(Mannschaftsmeldebogen_KiSGruTu!F111<>"",Mannschaftsmeldebogen_KiSGruTu!F111,"") | H82: =IF(Mannschaftsmeldebogen_KiSGruTu!G111<>"",Mannschaftsmeldebogen_KiSGruTu!G111,"")
B83: =IF(Tabelle1848[[#This Row],[Nachname]]<>"",Mannschaftsmeldebogen_KiSGruTu!$B$3,"") | C83: =IF(Tabelle1848[[#This Row],[Nachname]]<>"",Mannschaftsmeldebogen_KiSGruTu!$B$13,"") | D83: =IF(Tabelle1848[[#This Row],[Nachname]]<>"",Mannschaftsmeldebogen_KiSGruTu!$C$13,"") | E83: =IF(Mannschaftsmeldebogen_KiSGruTu!D114<>"",Mannschaftsmeldebogen_KiSGruTu!D114,"") | F83: =IF(Mannschaftsmeldebogen_KiSGruTu!E114<>"",Mannschaftsmeldebogen_KiSGruTu!E114,"") | G83: =IF(Mannschaftsmeldebogen_KiSGruTu!F114<>"",Mannschaftsmeldebogen_KiSGruTu!F114,"") | H83: =IF(Mannschaftsmeldebogen_KiSGruTu!G114<>"",Mannschaftsmeldebogen_KiSGruTu!G114,"")
B84: =IF(Tabelle1848[[#This Row],[Nachname]]<>"",Mannschaftsmeldebogen_KiSGruTu!$B$3,"") | C84: =IF(Tabelle1848[[#This Row],[Nachname]]<>"",Mannschaftsmeldebogen_KiSGruTu!$B$13,"") | D84: =IF(Tabelle1848[[#This Row],[Nachname]]<>"",Mannschaftsmeldebogen_KiSGruTu!$C$13,"") | E84: =IF(Mannschaftsmeldebogen_KiSGruTu!D115<>"",Mannschaftsmeldebogen_KiSGruTu!D115,"") | F84: =IF(Mannschaftsmeldebogen_KiSGruTu!E115<>"",Mannschaftsmeldebogen_KiSGruTu!E115,"") | G84: =IF(Mannschaftsmeldebogen_KiSGruTu!F115<>"",Mannschaftsmeldebogen_KiSGruTu!F115,"") | H84: =IF(Mannschaftsmeldebogen_KiSGruTu!G115<>"",Mannschaftsmeldebogen_KiSGruTu!G115,"")
B85: =IF(Tabelle1848[[#This Row],[Nachname]]<>"",Mannschaftsmeldebogen_KiSGruTu!$B$3,"") | C85: =IF(Tabelle1848[[#This Row],[Nachname]]<>"",Mannschaftsmeldebogen_KiSGruTu!$B$13,"") | D85: =IF(Tabelle1848[[#This Row],[Nachname]]<>"",Mannschaftsmeldebogen_KiSGruTu!$C$13,"") | E85: =IF(Mannschaftsmeldebogen_KiSGruTu!D116<>"",Mannschaftsmeldebogen_KiSGruTu!D116,"") | F85: =IF(Mannschaftsmeldebogen_KiSGruTu!E116<>"",Mannschaftsmeldebogen_KiSGruTu!E116,"") | G85: =IF(Mannschaftsmeldebogen_KiSGruTu!F116<>"",Mannschaftsmeldebogen_KiSGruTu!F116,"") | H85: =IF(Mannschaftsmeldebogen_KiSGruTu!G116<>"",Mannschaftsmeldebogen_KiSGruTu!G116,"")
B86: =IF(Tabelle1848[[#This Row],[Nachname]]<>"",Mannschaftsmeldebogen_KiSGruTu!$B$3,"") | C86: =IF(Tabelle1848[[#This Row],[Nachname]]<>"",Mannschaftsmeldebogen_KiSGruTu!$B$13,"") | D86: =IF(Tabelle1848[[#This Row],[Nachname]]<>"",Mannschaftsmeldebogen_KiSGruTu!$C$13,"") | E86: =IF(Mannschaftsmeldebogen_KiSGruTu!D117<>"",Mannschaftsmeldebogen_KiSGruTu!D117,"") | F86: =IF(Mannschaftsmeldebogen_KiSGruTu!E117<>"",Mannschaftsmeldebogen_KiSGruTu!E117,"") | G86: =IF(Mannschaftsmeldebogen_KiSGruTu!F117<>"",Mannschaftsmeldebogen_KiSGruTu!F117,"") | H86: =IF(Mannschaftsmeldebogen_KiSGruTu!G117<>"",Mannschaftsmeldebogen_KiSGruTu!G117,"")
B87: =IF(Tabelle1848[[#This Row],[Nachname]]<>"",Mannschaftsmeldebogen_KiSGruTu!$B$3,"") | C87: =IF(Tabelle1848[[#This Row],[Nachname]]<>"",Mannschaftsmeldebogen_KiSGruTu!$B$13,"") | D87: =IF(Tabelle1848[[#This Row],[Nachname]]<>"",Mannschaftsmeldebogen_KiSGruTu!$C$13,"") | E87: =IF(Mannschaftsmeldebogen_KiSGruTu!D118<>"",Mannschaftsmeldebogen_KiSGruTu!D118,"") | F87: =IF(Mannschaftsmeldebogen_KiSGruTu!E118<>"",Mannschaftsmeldebogen_KiSGruTu!E118,"") | G87: =IF(Mannschaftsmeldebogen_KiSGruTu!F118<>"",Mannschaftsmeldebogen_KiSGruTu!F118,"") | H87: =IF(Mannschaftsmeldebogen_KiSGruTu!G118<>"",Mannschaftsmeldebogen_KiSGruTu!G118,"")
B88: =IF(Tabelle1848[[#This Row],[Nachname]]<>"",Mannschaftsmeldebogen_KiSGruTu!$B$3,"") | C88: =IF(Tabelle1848[[#This Row],[Nachname]]<>"",Mannschaftsmeldebogen_KiSGruTu!$B$13,"") | D88: =IF(Tabelle1848[[#This Row],[Nachname]]<>"",Mannschaftsmeldebogen_KiSGruTu!$C$13,"") | E88: =IF(Mannschaftsmeldebogen_KiSGruTu!D119<>"",Mannschaftsmeldebogen_KiSGruTu!D119,"") | F88: =IF(Mannschaftsmeldebogen_KiSGruTu!E119<>"",Mannschaftsmeldebogen_KiSGruTu!E119,"") | G88: =IF(Mannschaftsmeldebogen_KiSGruTu!F119<>"",Mannschaftsmeldebogen_KiSGruTu!F119,"") | H88: =IF(Mannschaftsmeldebogen_KiSGruTu!G119<>"",Mannschaftsmeldebogen_KiSGruTu!G119,"")
B89: =IF(Tabelle1848[[#This Row],[Nachname]]<>"",Mannschaftsmeldebogen_KiSGruTu!$B$3,"") | C89: =IF(Tabelle1848[[#This Row],[Nachname]]<>"",Mannschaftsmeldebogen_KiSGruTu!$B$13,"") | D89: =IF(Tabelle1848[[#This Row],[Nachname]]<>"",Mannschaftsmeldebogen_KiSGruTu!$C$13,"") | E89: =IF(Mannschaftsmeldebogen_KiSGruTu!D120<>"",Mannschaftsmeldebogen_KiSGruTu!D120,"") | F89: =IF(Mannschaftsmeldebogen_KiSGruTu!E120<>"",Mannschaftsmeldebogen_KiSGruTu!E120,"") | G89: =IF(Mannschaftsmeldebogen_KiSGruTu!F120<>"",Mannschaftsmeldebogen_KiSGruTu!F120,"") | H89: =IF(Mannschaftsmeldebogen_KiSGruTu!G120<>"",Mannschaftsmeldebogen_KiSGruTu!G120,"")
B90: =IF(Tabelle1848[[#This Row],[Nachname]]<>"",Mannschaftsmeldebogen_KiSGruTu!$B$3,"") | C90: =IF(Tabelle1848[[#This Row],[Nachname]]<>"",Mannschaftsmeldebogen_KiSGruTu!$B$13,"") | D90: =IF(Tabelle1848[[#This Row],[Nachname]]<>"",Mannschaftsmeldebogen_KiSGruTu!$C$13,"") | E90: =IF(Mannschaftsmeldebogen_KiSGruTu!D121<>"",Mannschaftsmeldebogen_KiSGruTu!D121,"") | F90: =IF(Mannschaftsmeldebogen_KiSGruTu!E121<>"",Mannschaftsmeldebogen_KiSGruTu!E121,"") | G90: =IF(Mannschaftsmeldebogen_KiSGruTu!F121<>"",Mannschaftsmeldebogen_KiSGruTu!F121,"") | H90: =IF(Mannschaftsmeldebogen_KiSGruTu!G121<>"",Mannschaftsmeldebogen_KiSGruTu!G121,"")
B91: =IF(Tabelle1848[[#This Row],[Nachname]]<>"",Mannschaftsmeldebogen_KiSGruTu!$B$3,"") | C91: =IF(Tabelle1848[[#This Row],[Nachname]]<>"",Mannschaftsmeldebogen_KiSGruTu!$B$13,"") | D91: =IF(Tabelle1848[[#This Row],[Nachname]]<>"",Mannschaftsmeldebogen_KiSGruTu!$C$13,"") | E91: =IF(Mannschaftsmeldebogen_KiSGruTu!D122<>"",Mannschaftsmeldebogen_KiSGruTu!D122,"") | F91: =IF(Mannschaftsmeldebogen_KiSGruTu!E122<>"",Mannschaftsmeldebogen_KiSGruTu!E122,"") | G91: =IF(Mannschaftsmeldebogen_KiSGruTu!F122<>"",Mannschaftsmeldebogen_KiSGruTu!F122,"") | H91: =IF(Mannschaftsmeldebogen_KiSGruTu!G122<>"",Mannschaftsmeldebogen_KiSGruTu!G122,"")
B92: =IF(Tabelle1848[[#This Row],[Nachname]]<>"",Mannschaftsmeldebogen_KiSGruTu!$B$3,"") | C92: =IF(Tabelle1848[[#This Row],[Nachname]]<>"",Mannschaftsmeldebogen_KiSGruTu!$B$13,"") | D92: =IF(Tabelle1848[[#This Row],[Nachname]]<>"",Mannschaftsmeldebogen_KiSGruTu!$C$13,"") | E92: =IF(Mannschaftsmeldebogen_KiSGruTu!D123<>"",Mannschaftsmeldebogen_KiSGruTu!D123,"") | F92: =IF(Mannschaftsmeldebogen_KiSGruTu!E123<>"",Mannschaftsmeldebogen_KiSGruTu!E123,"") | G92: =IF(Mannschaftsmeldebogen_KiSGruTu!F123<>"",Mannschaftsmeldebogen_KiSGruTu!F123,"") | H92: =IF(Mannschaftsmeldebogen_KiSGruTu!G123<>"",Mannschaftsmeldebogen_KiSGruTu!G123,"")
B93: =IF(Tabelle1848[[#This Row],[Nachname]]<>"",Mannschaftsmeldebogen_KiSGruTu!$B$3,"") | C93: =IF(Tabelle1848[[#This Row],[Nachname]]<>"",Mannschaftsmeldebogen_KiSGruTu!$B$13,"") | D93: =IF(Tabelle1848[[#This Row],[Nachname]]<>"",Mannschaftsmeldebogen_KiSGruTu!$C$13,"") | E93: =IF(Mannschaftsmeldebogen_KiSGruTu!D124<>"",Mannschaftsmeldebogen_KiSGruTu!D124,"") | F93: =IF(Mannschaftsmeldebogen_KiSGruTu!E124<>"",Mannschaftsmeldebogen_KiSGruTu!E124,"") | G93: =IF(Mannschaftsmeldebogen_KiSGruTu!F124<>"",Mannschaftsmeldebogen_KiSGruTu!F124,"") | H93: =IF(Mannschaftsmeldebogen_KiSGruTu!G124<>"",Mannschaftsmeldebogen_KiSGruTu!G124,"")
B94: =IF(Tabelle1848[[#This Row],[Nachname]]<>"",Mannschaftsmeldebogen_KiSGruTu!$B$3,"") | C94: =IF(Tabelle1848[[#This Row],[Nachname]]<>"",Mannschaftsmeldebogen_KiSGruTu!$B$13,"") | D94: =IF(Tabelle1848[[#This Row],[Nachname]]<>"",Mannschaftsmeldebogen_KiSGruTu!$C$13,"") | E94: =IF(Mannschaftsmeldebogen_KiSGruTu!D125<>"",Mannschaftsmeldebogen_KiSGruTu!D125,"") | F94: =IF(Mannschaftsmeldebogen_KiSGruTu!E125<>"",Mannschaftsmeldebogen_KiSGruTu!E125,"") | G94: =IF(Mannschaftsmeldebogen_KiSGruTu!F125<>"",Mannschaftsmeldebogen_KiSGruTu!F125,"") | H94: =IF(Mannschaftsmeldebogen_KiSGruTu!G125<>"",Mannschaftsmeldebogen_KiSGruTu!G125,"")
... B98: =IF(Tabelle1848[[#This Row],[Nachname]]<>"",Mannschaftsmeldebogen_KiSGruTu!$B$3,"") | C98: =IF(Tabelle1848[[#This Row],[Nachname]]<>"",Mannschaftsmeldebogen_KiSGruTu!$B$13,"") | D98: =IF(Tabelle1848[[#This Row],[Nachname]]<>"",Mannschaftsmeldebogen_KiSGruTu!$C$13,"") | E98: =IF(Mannschaftsmeldebogen_KiSGruTu!D129<>"",Mannschaftsmeldebogen_KiSGruTu!D129,"") | F98: =IF(Mannschaftsmeldebogen_KiSGruTu!E129<>"",Mannschaftsmeldebogen_KiSGruTu!E129,"") | G98: =IF(Mannschaftsmeldebogen_KiSGruTu!F129<>"",Mannschaftsmeldebogen_KiSGruTu!F129,"") | H98: =IF(Mannschaftsmeldebogen_KiSGruTu!G129<>"",Mannschaftsmeldebogen_KiSGruTu!G129,"")
B99: =IF(Tabelle1848[[#This Row],[Nachname]]<>"",Mannschaftsmeldebogen_KiSGruTu!$B$3,"") | C99: =IF(Tabelle1848[[#This Row],[Nachname]]<>"",Mannschaftsmeldebogen_KiSGruTu!$B$14,"") | D99: =IF(Tabelle1848[[#This Row],[Nachname]]<>"",Mannschaftsmeldebogen_KiSGruTu!$C$14,"") | E99: =IF(Mannschaftsmeldebogen_KiSGruTu!D132<>"",Mannschaftsmeldebogen_KiSGruTu!D132,"") | F99: =IF(Mannschaftsmeldebogen_KiSGruTu!E132<>"",Mannschaftsmeldebogen_KiSGruTu!E132,"") | G99: =IF(Mannschaftsmeldebogen_KiSGruTu!F132<>"",Mannschaftsmeldebogen_KiSGruTu!F132,"") | H99: =IF(Mannschaftsmeldebogen_KiSGruTu!G132<>"",Mannschaftsmeldebogen_KiSGruTu!G132,"")
B100: =IF(Tabelle1848[[#This Row],[Nachname]]<>"",Mannschaftsmeldebogen_KiSGruTu!$B$3,"") | C100: =IF(Tabelle1848[[#This Row],[Nachname]]<>"",Mannschaftsmeldebogen_KiSGruTu!$B$14,"") | D100: =IF(Tabelle1848[[#This Row],[Nachname]]<>"",Mannschaftsmeldebogen_KiSGruTu!$C$14,"") | E100: =IF(Mannschaftsmeldebogen_KiSGruTu!D133<>"",Mannschaftsmeldebogen_KiSGruTu!D133,"") | F100: =IF(Mannschaftsmeldebogen_KiSGruTu!E133<>"",Mannschaftsmeldebogen_KiSGruTu!E133,"") | G100: =IF(Mannschaftsmeldebogen_KiSGruTu!F133<>"",Mannschaftsmeldebogen_KiSGruTu!F133,"") | H100: =IF(Mannschaftsmeldebogen_KiSGruTu!G133<>"",Mannschaftsmeldebogen_KiSGruTu!G133,"")
B101: =IF(Tabelle1848[[#This Row],[Nachname]]<>"",Mannschaftsmeldebogen_KiSGruTu!$B$3,"") | C101: =IF(Tabelle1848[[#This Row],[Nachname]]<>"",Mannschaftsmeldebogen_KiSGruTu!$B$14,"") | D101: =IF(Tabelle1848[[#This Row],[Nachname]]<>"",Mannschaftsmeldebogen_KiSGruTu!$C$14,"") | E101: =IF(Mannschaftsmeldebogen_KiSGruTu!D134<>"",Mannschaftsmeldebogen_KiSGruTu!D134,"") | F101: =IF(Mannschaftsmeldebogen_KiSGruTu!E134<>"",Mannschaftsmeldebogen_KiSGruTu!E134,"") | G101: =IF(Mannschaftsmeldebogen_KiSGruTu!F134<>"",Mannschaftsmeldebogen_KiSGruTu!F134,"") | H101: =IF(Mannschaftsmeldebogen_KiSGruTu!G134<>"",Mannschaftsmeldebogen_KiSGruTu!G134,"")
B102: =IF(Tabelle1848[[#This Row],[Nachname]]<>"",Mannschaftsmeldebogen_KiSGruTu!$B$3,"") | C102: =IF(Tabelle1848[[#This Row],[Nachname]]<>"",Mannschaftsmeldebogen_KiSGruTu!$B$14,"") | D102: =IF(Tabelle1848[[#This Row],[Nachname]]<>"",Mannschaftsmeldebogen_KiSGruTu!$C$14,"") | E102: =IF(Mannschaftsmeldebogen_KiSGruTu!D135<>"",Mannschaftsmeldebogen_KiSGruTu!D135,"") | F102: =IF(Mannschaftsmeldebogen_KiSGruTu!E135<>"",Mannschaftsmeldebogen_KiSGruTu!E135,"") | G102: =IF(Mannschaftsmeldebogen_KiSGruTu!F135<>"",Mannschaftsmeldebogen_KiSGruTu!F135,"") | H102: =IF(Mannschaftsmeldebogen_KiSGruTu!G135<>"",Mannschaftsmeldebogen_KiSGruTu!G135,"")
B103: =IF(Tabelle1848[[#This Row],[Nachname]]<>"",Mannschaftsmeldebogen_KiSGruTu!$B$3,"") | C103: =IF(Tabelle1848[[#This Row],[Nachname]]<>"",Mannschaftsmeldebogen_KiSGruTu!$B$14,"") | D103: =IF(Tabelle1848[[#This Row],[Nachname]]<>"",Mannschaftsmeldebogen_KiSGruTu!$C$14,"") | E103: =IF(Mannschaftsmeldebogen_KiSGruTu!D136<>"",Mannschaftsmeldebogen_KiSGruTu!D136,"") | F103: =IF(Mannschaftsmeldebogen_KiSGruTu!E136<>"",Mannschaftsmeldebogen_KiSGruTu!E136,"") | G103: =IF(Mannschaftsmeldebogen_KiSGruTu!F136<>"",Mannschaftsmeldebogen_KiSGruTu!F136,"") | H103: =IF(Mannschaftsmeldebogen_KiSGruTu!G136<>"",Mannschaftsmeldebogen_KiSGruTu!G136,"")
B104: =IF(Tabelle1848[[#This Row],[Nachname]]<>"",Mannschaftsmeldebogen_KiSGruTu!$B$3,"") | C104: =IF(Tabelle1848[[#This Row],[Nachname]]<>"",Mannschaftsmeldebogen_KiSGruTu!$B$14,"") | D104: =IF(Tabelle1848[[#This Row],[Nachname]]<>"",Mannschaftsmeldebogen_KiSGruTu!$C$14,"") | E104: =IF(Mannschaftsmeldebogen_KiSGruTu!D137<>"",Mannschaftsmeldebogen_KiSGruTu!D137,"") | F104: =IF(Mannschaftsmeldebogen_KiSGruTu!E137<>"",Mannschaftsmeldebogen_KiSGruTu!E137,"") | G104: =IF(Mannschaftsmeldebogen_KiSGruTu!F137<>"",Mannschaftsmeldebogen_KiSGruTu!F137,"") | H104: =IF(Mannschaftsmeldebogen_KiSGruTu!G137<>"",Mannschaftsmeldebogen_KiSGruTu!G137,"")
B105: =IF(Tabelle1848[[#This Row],[Nachname]]<>"",Mannschaftsmeldebogen_KiSGruTu!$B$3,"") | C105: =IF(Tabelle1848[[#This Row],[Nachname]]<>"",Mannschaftsmeldebogen_KiSGruTu!$B$14,"") | D105: =IF(Tabelle1848[[#This Row],[Nachname]]<>"",Mannschaftsmeldebogen_KiSGruTu!$C$14,"") | E105: =IF(Mannschaftsmeldebogen_KiSGruTu!D138<>"",Mannschaftsmeldebogen_KiSGruTu!D138,"") | F105: =IF(Mannschaftsmeldebogen_KiSGruTu!E138<>"",Mannschaftsmeldebogen_KiSGruTu!E138,"") | G105: =IF(Mannschaftsmeldebogen_KiSGruTu!F138<>"",Mannschaftsmeldebogen_KiSGruTu!F138,"") | H105: =IF(Mannschaftsmeldebogen_KiSGruTu!G138<>"",Mannschaftsmeldebogen_KiSGruTu!G138,"")
B106: =IF(Tabelle1848[[#This Row],[Nachname]]<>"",Mannschaftsmeldebogen_KiSGruTu!$B$3,"") | C106: =IF(Tabelle1848[[#This Row],[Nachname]]<>"",Mannschaftsmeldebogen_KiSGruTu!$B$14,"") | D106: =IF(Tabelle1848[[#This Row],[Nachname]]<>"",Mannschaftsmeldebogen_KiSGruTu!$C$14,"") | E106: =IF(Mannschaftsmeldebogen_KiSGruTu!D139<>"",Mannschaftsmeldebogen_KiSGruTu!D139,"") | F106: =IF(Mannschaftsmeldebogen_KiSGruTu!E139<>"",Mannschaftsmeldebogen_KiSGruTu!E139,"") | G106: =IF(Mannschaftsmeldebogen_KiSGruTu!F139<>"",Mannschaftsmeldebogen_KiSGruTu!F139,"") | H106: =IF(Mannschaftsmeldebogen_KiSGruTu!G139<>"",Mannschaftsmeldebogen_KiSGruTu!G139,"")
B107: =IF(Tabelle1848[[#This Row],[Nachname]]<>"",Mannschaftsmeldebogen_KiSGruTu!$B$3,"") | C107: =IF(Tabelle1848[[#This Row],[Nachname]]<>"",Mannschaftsmeldebogen_KiSGruTu!$B$14,"") | D107: =IF(Tabelle1848[[#This Row],[Nachname]]<>"",Mannschaftsmeldebogen_KiSGruTu!$C$14,"") | E107: =IF(Mannschaftsmeldebogen_KiSGruTu!D140<>"",Mannschaftsmeldebogen_KiSGruTu!D140,"") | F107: =IF(Mannschaftsmeldebogen_KiSGruTu!E140<>"",Mannschaftsmeldebogen_KiSGruTu!E140,"") | G107: =IF(Mannschaftsmeldebogen_KiSGruTu!F140<>"",Mannschaftsmeldebogen_KiSGruTu!F140,"") | H107: =IF(Mannschaftsmeldebogen_KiSGruTu!G140<>"",Mannschaftsmeldebogen_KiSGruTu!G140,"")
B108: =IF(Tabelle1848[[#This Row],[Nachname]]<>"",Mannschaftsmeldebogen_KiSGruTu!$B$3,"") | C108: =IF(Tabelle1848[[#This Row],[Nachname]]<>"",Mannschaftsmeldebogen_KiSGruTu!$B$14,"") | D108: =IF(Tabelle1848[[#This Row],[Nachname]]<>"",Mannschaftsmeldebogen_KiSGruTu!$C$14,"") | E108: =IF(Mannschaftsmeldebogen_KiSGruTu!D141<>"",Mannschaftsmeldebogen_KiSGruTu!D141,"") | F108: =IF(Mannschaftsmeldebogen_KiSGruTu!E141<>"",Mannschaftsmeldebogen_KiSGruTu!E141,"") | G108: =IF(Mannschaftsmeldebogen_KiSGruTu!F141<>"",Mannschaftsmeldebogen_KiSGruTu!F141,"") | H108: =IF(Mannschaftsmeldebogen_KiSGruTu!G141<>"",Mannschaftsmeldebogen_KiSGruTu!G141,"")
B109: =IF(Tabelle1848[[#This Row],[Nachname]]<>"",Mannschaftsmeldebogen_KiSGruTu!$B$3,"") | C109: =IF(Tabelle1848[[#This Row],[Nachname]]<>"",Mannschaftsmeldebogen_KiSGruTu!$B$14,"") | D109: =IF(Tabelle1848[[#This Row],[Nachname]]<>"",Mannschaftsmeldebogen_KiSGruTu!$C$14,"") | E109: =IF(Mannschaftsmeldebogen_KiSGruTu!D142<>"",Mannschaftsmeldebogen_KiSGruTu!D142,"") | F109: =IF(Mannschaftsmeldebogen_KiSGruTu!E142<>"",Mannschaftsmeldebogen_KiSGruTu!E142,"") | G109: =IF(Mannschaftsmeldebogen_KiSGruTu!F142<>"",Mannschaftsmeldebogen_KiSGruTu!F142,"") | H109: =IF(Mannschaftsmeldebogen_KiSGruTu!G142<>"",Mannschaftsmeldebogen_KiSGruTu!G142,"")
B110: =IF(Tabelle1848[[#This Row],[Nachname]]<>"",Mannschaftsmeldebogen_KiSGruTu!$B$3,"") | C110: =IF(Tabelle1848[[#This Row],[Nachname]]<>"",Mannschaftsmeldebogen_KiSGruTu!$B$14,"") | D110: =IF(Tabelle1848[[#This Row],[Nachname]]<>"",Mannschaftsmeldebogen_KiSGruTu!$C$14,"") | E110: =IF(Mannschaftsmeldebogen_KiSGruTu!D143<>"",Mannschaftsmeldebogen_KiSGruTu!D143,"") | F110: =IF(Mannschaftsmeldebogen_KiSGruTu!E143<>"",Mannschaftsmeldebogen_KiSGruTu!E143,"") | G110: =IF(Mannschaftsmeldebogen_KiSGruTu!F143<>"",Mannschaftsmeldebogen_KiSGruTu!F143,"") | H110: =IF(Mannschaftsmeldebogen_KiSGruTu!G143<>"",Mannschaftsmeldebogen_KiSGruTu!G143,"")
... B114: =IF(Tabelle1848[[#This Row],[Nachname]]<>"",Mannschaftsmeldebogen_KiSGruTu!$B$3,"") | C114: =IF(Tabelle1848[[#This Row],[Nachname]]<>"",Mannschaftsmeldebogen_KiSGruTu!$B$14,"") | D114: =IF(Tabelle1848[[#This Row],[Nachname]]<>"",Mannschaftsmeldebogen_KiSGruTu!$C$14,"") | E114: =IF(Mannschaftsmeldebogen_KiSGruTu!D147<>"",Mannschaftsmeldebogen_KiSGruTu!D147,"") | F114: =IF(Mannschaftsmeldebogen_KiSGruTu!E147<>"",Mannschaftsmeldebogen_KiSGruTu!E147,"") | G114: =IF(Mannschaftsmeldebogen_KiSGruTu!F147<>"",Mannschaftsmeldebogen_KiSGruTu!F147,"") | H114: =IF(Mannschaftsmeldebogen_KiSGruTu!G147<>"",Mannschaftsmeldebogen_KiSGruTu!G147,"")
B115: =IF(Tabelle1848[[#This Row],[Nachname]]<>"",Mannschaftsmeldebogen_KiSGruTu!$B$3,"") | C115: =IF(Tabelle1848[[#This Row],[Nachname]]<>"",Mannschaftsmeldebogen_KiSGruTu!$B$15,"") | D115: =IF(Tabelle1848[[#This Row],[Nachname]]<>"",Mannschaftsmeldebogen_KiSGruTu!$C$15,"") | E115: =IF(Mannschaftsmeldebogen_KiSGruTu!D150<>"",Mannschaftsmeldebogen_KiSGruTu!D150,"") | F115: =IF(Mannschaftsmeldebogen_KiSGruTu!E150<>"",Mannschaftsmeldebogen_KiSGruTu!E150,"") | G115: =IF(Mannschaftsmeldebogen_KiSGruTu!F150<>"",Mannschaftsmeldebogen_KiSGruTu!F150,"") | H115: =IF(Mannschaftsmeldebogen_KiSGruTu!G150<>"",Mannschaftsmeldebogen_KiSGruTu!G150,"")
B116: =IF(Tabelle1848[[#This Row],[Nachname]]<>"",Mannschaftsmeldebogen_KiSGruTu!$B$3,"") | C116: =IF(Tabelle1848[[#This Row],[Nachname]]<>"",Mannschaftsmeldebogen_KiSGruTu!$B$15,"") | D116: =IF(Tabelle1848[[#This Row],[Nachname]]<>"",Mannschaftsmeldebogen_KiSGruTu!$C$15,"") | E116: =IF(Mannschaftsmeldebogen_KiSGruTu!D151<>"",Mannschaftsmeldebogen_KiSGruTu!D151,"") | F116: =IF(Mannschaftsmeldebogen_KiSGruTu!E151<>"",Mannschaftsmeldebogen_KiSGruTu!E151,"") | G116: =IF(Mannschaftsmeldebogen_KiSGruTu!F151<>"",Mannschaftsmeldebogen_KiSGruTu!F151,"") | H116: =IF(Mannschaftsmeldebogen_KiSGruTu!G151<>"",Mannschaftsmeldebogen_KiSGruTu!G151,"")
B117: =IF(Tabelle1848[[#This Row],[Nachname]]<>"",Mannschaftsmeldebogen_KiSGruTu!$B$3,"") | C117: =IF(Tabelle1848[[#This Row],[Nachname]]<>"",Mannschaftsmeldebogen_KiSGruTu!$B$15,"") | D117: =IF(Tabelle1848[[#This Row],[Nachname]]<>"",Mannschaftsmeldebogen_KiSGruTu!$C$15,"") | E117: =IF(Mannschaftsmeldebogen_KiSGruTu!D152<>"",Mannschaftsmeldebogen_KiSGruTu!D152,"") | F117: =IF(Mannschaftsmeldebogen_KiSGruTu!E152<>"",Mannschaftsmeldebogen_KiSGruTu!E152,"") | G117: =IF(Mannschaftsmeldebogen_KiSGruTu!F152<>"",Mannschaftsmeldebogen_KiSGruTu!F152,"") | H117: =IF(Mannschaftsmeldebogen_KiSGruTu!G152<>"",Mannschaftsmeldebogen_KiSGruTu!G152,"")
B118: =IF(Tabelle1848[[#This Row],[Nachname]]<>"",Mannschaftsmeldebogen_KiSGruTu!$B$3,"") | C118: =IF(Tabelle1848[[#This Row],[Nachname]]<>"",Mannschaftsmeldebogen_KiSGruTu!$B$15,"") | D118: =IF(Tabelle1848[[#This Row],[Nachname]]<>"",Mannschaftsmeldebogen_KiSGruTu!$C$15,"") | E118: =IF(Mannschaftsmeldebogen_KiSGruTu!D153<>"",Mannschaftsmeldebogen_KiSGruTu!D153,"") | F118: =IF(Mannschaftsmeldebogen_KiSGruTu!E153<>"",Mannschaftsmeldebogen_KiSGruTu!E153,"") | G118: =IF(Mannschaftsmeldebogen_KiSGruTu!F153<>"",Mannschaftsmeldebogen_KiSGruTu!F153,"") | H118: =IF(Mannschaftsmeldebogen_KiSGruTu!G153<>"",Mannschaftsmeldebogen_KiSGruTu!G153,"")
B119: =IF(Tabelle1848[[#This Row],[Nachname]]<>"",Mannschaftsmeldebogen_KiSGruTu!$B$3,"") | C119: =IF(Tabelle1848[[#This Row],[Nachname]]<>"",Mannschaftsmeldebogen_KiSGruTu!$B$15,"") | D119: =IF(Tabelle1848[[#This Row],[Nachname]]<>"",Mannschaftsmeldebogen_KiSGruTu!$C$15,"") | E119: =IF(Mannschaftsmeldebogen_KiSGruTu!D154<>"",Mannschaftsmeldebogen_KiSGruTu!D154,"") | F119: =IF(Mannschaftsmeldebogen_KiSGruTu!E154<>"",Mannschaftsmeldebogen_KiSGruTu!E154,"") | G119: =IF(Mannschaftsmeldebogen_KiSGruTu!F154<>"",Mannschaftsmeldebogen_KiSGruTu!F154,"") | H119: =IF(Mannschaftsmeldebogen_KiSGruTu!G154<>"",Mannschaftsmeldebogen_KiSGruTu!G154,"")
B120: =IF(Tabelle1848[[#This Row],[Nachname]]<>"",Mannschaftsmeldebogen_KiSGruTu!$B$3,"") | C120: =IF(Tabelle1848[[#This Row],[Nachname]]<>"",Mannschaftsmeldebogen_KiSGruTu!$B$15,"") | D120: =IF(Tabelle1848[[#This Row],[Nachname]]<>"",Mannschaftsmeldebogen_KiSGruTu!$C$15,"") | E120: =IF(Mannschaftsmeldebogen_KiSGruTu!D155<>"",Mannschaftsmeldebogen_KiSGruTu!D155,"") | F120: =IF(Mannschaftsmeldebogen_KiSGruTu!E155<>"",Mannschaftsmeldebogen_KiSGruTu!E155,"") | G120: =IF(Mannschaftsmeldebogen_KiSGruTu!F155<>"",Mannschaftsmeldebogen_KiSGruTu!F155,"") | H120: =IF(Mannschaftsmeldebogen_KiSGruTu!G155<>"",Mannschaftsmeldebogen_KiSGruTu!G155,"")
B121: =IF(Tabelle1848[[#This Row],[Nachname]]<>"",Mannschaftsmeldebogen_KiSGruTu!$B$3,"") | C121: =IF(Tabelle1848[[#This Row],[Nachname]]<>"",Mannschaftsmeldebogen_KiSGruTu!$B$15,"") | D121: =IF(Tabelle1848[[#This Row],[Nachname]]<>"",Mannschaftsmeldebogen_KiSGruTu!$C$15,"") | E121: =IF(Mannschaftsmeldebogen_KiSGruTu!D156<>"",Mannschaftsmeldebogen_KiSGruTu!D156,"") | F121: =IF(Mannschaftsmeldebogen_KiSGruTu!E156<>"",Mannschaftsmeldebogen_KiSGruTu!E156,"") | G121: =IF(Mannschaftsmeldebogen_KiSGruTu!F156<>"",Mannschaftsmeldebogen_KiSGruTu!F156,"") | H121: =IF(Mannschaftsmeldebogen_KiSGruTu!G156<>"",Mannschaftsmeldebogen_KiSGruTu!G156,"")
B122: =IF(Tabelle1848[[#This Row],[Nachname]]<>"",Mannschaftsmeldebogen_KiSGruTu!$B$3,"") | C122: =IF(Tabelle1848[[#This Row],[Nachname]]<>"",Mannschaftsmeldebogen_KiSGruTu!$B$15,"") | D122: =IF(Tabelle1848[[#This Row],[Nachname]]<>"",Mannschaftsmeldebogen_KiSGruTu!$C$15,"") | E122: =IF(Mannschaftsmeldebogen_KiSGruTu!D157<>"",Mannschaftsmeldebogen_KiSGruTu!D157,"") | F122: =IF(Mannschaftsmeldebogen_KiSGruTu!E157<>"",Mannschaftsmeldebogen_KiSGruTu!E157,"") | G122: =IF(Mannschaftsmeldebogen_KiSGruTu!F157<>"",Mannschaftsmeldebogen_KiSGruTu!F157,"") | H122: =IF(Mannschaftsmeldebogen_KiSGruTu!G157<>"",Mannschaftsmeldebogen_KiSGruTu!G157,"")
...
